BEGIN:VCALENDAR
VERSION:2.0
PRODID:-//UUFCC - ECPv6.15.17//NONSGML v1.0//EN
CALSCALE:GREGORIAN
METHOD:PUBLISH
X-ORIGINAL-URL:https://uufcc.com
X-WR-CALDESC:Events for UUFCC
REFRESH-INTERVAL;VALUE=DURATION:PT1H
X-Robots-Tag:noindex
X-PUBLISHED-TTL:PT1H
BEGIN:VTIMEZONE
TZID:America/New_York
BEGIN:DAYLIGHT
TZOFFSETFROM:-0500
TZOFFSETTO:-0400
TZNAME:EDT
DTSTART:20220313T070000
END:DAYLIGHT
BEGIN:STANDARD
TZOFFSETFROM:-0400
TZOFFSETTO:-0500
TZNAME:EST
DTSTART:20221106T060000
END:STANDARD
BEGIN:DAYLIGHT
TZOFFSETFROM:-0500
TZOFFSETTO:-0400
TZNAME:EDT
DTSTART:20230312T070000
END:DAYLIGHT
BEGIN:STANDARD
TZOFFSETFROM:-0400
TZOFFSETTO:-0500
TZNAME:EST
DTSTART:20231105T060000
END:STANDARD
BEGIN:DAYLIGHT
TZOFFSETFROM:-0500
TZOFFSETTO:-0400
TZNAME:EDT
DTSTART:20240310T070000
END:DAYLIGHT
BEGIN:STANDARD
TZOFFSETFROM:-0400
TZOFFSETTO:-0500
TZNAME:EST
DTSTART:20241103T060000
END:STANDARD
END:VTIMEZONE
BEGIN:VEVENT
DTSTART;TZID=America/New_York:20231022T093000
DTEND;TZID=America/New_York:20231022T130000
DTSTAMP:20260422T230447
CREATED:20231023T231923Z
LAST-MODIFIED:20231025T172051Z
UID:10001208-1697967000-1697979600@uufcc.com
SUMMARY:Child Care
DESCRIPTION:Our paid childcare staff have full background clearances and certificates in First Aid and Infant CPR. They are enthusiastic and compassionate and love interacting with our youngest friends! Ages 6 mo. to 4 years old (non-potty trained)
URL:https://uufcc.com/event/child-care/2023-10-22/
LOCATION:Unitarian Universalist Fellowship of Centre County\, 780 Waupelani Drive\, State College\, PA\, 16801\, United States
CATEGORIES:Lifespan Religious Exploration,RE Kids & Youth,Young Kids
ORGANIZER;CN="Unitarian Universalist Fellowship of Centre County":MAILTO:office@uufcc.com
END:VEVENT
BEGIN:VEVENT
DTSTART;TZID=America/New_York:20231022T100000
DTEND;TZID=America/New_York:20231022T110000
DTSTAMP:20260422T230447
CREATED:20231021T005251Z
LAST-MODIFIED:20231025T160010Z
UID:10000010-1697968800-1697972400@uufcc.com
SUMMARY:Sunday Service - "Leveraging the People's Power"
DESCRIPTION:With Rev. Tracy Sprowls.\n \nOur democracy is in peril. Timothy Snyder\, the acclaimed historian and author of books like On Tyranny\, tells us that one of the primary things the average person can do to keep a democracy strong is commit to an institution. Right when we find ourselves in the midst of a political crisis\, membership in congregations and other organizations is dramatically down. Let’s talk! \n\nJoin us this Sunday for our RE Teacher Dedication – a way to honor and hold our teachers and families for the work of religious education!
URL:https://uufcc.com/event/sun-oct-22-leveraging-the-peoples-power/
LOCATION:Unitarian Universalist Fellowship of Centre County\, 780 Waupelani Drive\, State College\, PA\, 16801\, United States
CATEGORIES:Sunday Worship Service
ATTACH;FMTTYPE=image/png:https://uufcc.com/wp-content/uploads/2023/10/Oct-22-Power-Sunday.png
ORGANIZER;CN="Unitarian Universalist Fellowship of Centre County":MAILTO:office@uufcc.com
END:VEVENT
BEGIN:VEVENT
DTSTART;TZID=America/New_York:20231022T100000
DTEND;TZID=America/New_York:20231022T111500
DTSTAMP:20260422T230447
CREATED:20231023T231240Z
LAST-MODIFIED:20231023T231240Z
UID:10000676-1697968800-1697973300@uufcc.com
SUMMARY:RE Kids & Youth
DESCRIPTION:Each week our Pre-K and Kindergarten friends will explore their world in light of our UU values with our wonderful teachers! \n\nPre-K and Kindergarten will meet downstairs in Room D at 10 am with Sue and Rocky. Please sign in and sign out downstairs in Room D. \n1st through 5th grade kids will start in the sanctuary and leave after the Wisdom Lesson. Sign in at the welcome table before the service and sign out downstairs by 11:15 am!
URL:https://uufcc.com/event/re-kids-youth/2023-10-22/
LOCATION:Unitarian Universalist Fellowship of Centre County\, 780 Waupelani Drive\, State College\, PA\, 16801\, United States
CATEGORIES:Lifespan Religious Exploration
ATTACH;FMTTYPE=image/png:https://uufcc.com/wp-content/uploads/2023/10/RE-Elementary-Pre-K.png
ORGANIZER;CN="Unitarian Universalist Fellowship of Centre County":MAILTO:office@uufcc.com
END:VEVENT
BEGIN:VEVENT
DTSTART;TZID=America/New_York:20231022T100000
DTEND;TZID=America/New_York:20231022T111500
DTSTAMP:20260422T230447
CREATED:20231023T231748Z
LAST-MODIFIED:20231023T231748Z
UID:10000942-1697968800-1697973300@uufcc.com
SUMMARY:Middle School Youth
DESCRIPTION:Join our Middle School Youth program! \nThis year our Middle School youth will engage in a social justice and anti-racism program exploring various topics and working to take action. Part of the year will be spent in a discussion group on the book\, Stamped from the Beginning by Ibram X. Kendi. Films and other activities will enhance learning.
URL:https://uufcc.com/event/middle-school-youth/2023-10-22/
LOCATION:UUFCC – Room 6\, 780 Waupelani Drive\, State College\, PA\, 16801\, United States
CATEGORIES:Lifespan Religious Exploration
ATTACH;FMTTYPE=image/png:https://uufcc.com/wp-content/uploads/2023/10/Middle-School-Youth.png
ORGANIZER;CN="Unitarian Universalist Fellowship of Centre County":MAILTO:office@uufcc.com
END:VEVENT
BEGIN:VEVENT
DTSTART;TZID=America/New_York:20231022T113000
DTEND;TZID=America/New_York:20231022T123000
DTSTAMP:20260422T230447
CREATED:20231021T015209Z
LAST-MODIFIED:20231021T021026Z
UID:10000012-1697974200-1697977800@uufcc.com
SUMMARY:Reflections on Fascism with Rev Tracy
DESCRIPTION:The Rev. William Ellery Channing\, Minister of the Federal Street Church of Boston\, invited all Massachusetts ministers known to be liberal to meet in the vestry of his church (whose entrance was on Berry Street) on May 30\, 1820. At the meeting Channing delivered a prepared address. He urged upon his colleagues a “bond of union” among liberal Christian ministers\, within which they might meet to exchange practical ideas for strengthening their ministries. Thus the Ministerial Conference at Berry Street was born and continues to this day. This year’s Berry Street address\, My Little Pony Was Right: Reflections of Fascisms Without and Within\, was delivered by Reverend Cecilia Kingman. \nJoin Rev. Tracy in reading and discussing this paper. You can read or listen to the paper here: https://uuma.org/berry-street-essay/2023-berry-street-essay-the-reverend-cecilia-kingman/ \nSign up here: https://uufcc.breezechms.com/form/fascism
URL:https://uufcc.com/event/reflections-on-fascism-with-rev-tracy/
LOCATION:UUFCC – Room 6\, 780 Waupelani Drive\, State College\, PA\, 16801\, United States
CATEGORIES:Lifespan Religious Exploration
ATTACH;FMTTYPE=image/png:https://uufcc.com/wp-content/uploads/2023/10/Reflections-on-Fascism-RE-Hour-TS.png
END:VEVENT
BEGIN:VEVENT
DTSTART;TZID=America/New_York:20231022T113000
DTEND;TZID=America/New_York:20231022T123000
DTSTAMP:20260422T230447
CREATED:20231021T021006Z
LAST-MODIFIED:20231023T232225Z
UID:10000013-1697974200-1697977800@uufcc.com
SUMMARY:Social Justice Music Program - for all ages
DESCRIPTION:Join Colleen and Ashley as we journey across the history of African Americans’ struggle for freedom and equality through music in this special offering for Parents/Caregivers\, kids\, and all ages during RE Hour! We will explore the history of the songs as well as learn to sing them in preparation for our MLK service in January. Kindergarten through Middle School youth are invited to participate!
URL:https://uufcc.com/event/social-justice-music-program-for-all-ages/2023-10-22/
LOCATION:UUFCC – Gathering Space\, 780 Waupelani Drive\, State College\, PA\, 16801\, United States
CATEGORIES:Lifespan Religious Exploration
ATTACH;FMTTYPE=image/png:https://uufcc.com/wp-content/uploads/2023/10/Social-Justice-Music-for-Kids.png
END:VEVENT
END:VCALENDAR