BEGIN:VCALENDAR
VERSION:2.0
PRODID:-//UUFCC - ECPv6.15.17//NONSGML v1.0//EN
CALSCALE:GREGORIAN
METHOD:PUBLISH
X-ORIGINAL-URL:https://uufcc.com
X-WR-CALDESC:Events for UUFCC
REFRESH-INTERVAL;VALUE=DURATION:PT1H
X-Robots-Tag:noindex
X-PUBLISHED-TTL:PT1H
BEGIN:VTIMEZONE
TZID:America/New_York
BEGIN:DAYLIGHT
TZOFFSETFROM:-0500
TZOFFSETTO:-0400
TZNAME:EDT
DTSTART:20220313T070000
END:DAYLIGHT
BEGIN:STANDARD
TZOFFSETFROM:-0400
TZOFFSETTO:-0500
TZNAME:EST
DTSTART:20221106T060000
END:STANDARD
BEGIN:DAYLIGHT
TZOFFSETFROM:-0500
TZOFFSETTO:-0400
TZNAME:EDT
DTSTART:20230312T070000
END:DAYLIGHT
BEGIN:STANDARD
TZOFFSETFROM:-0400
TZOFFSETTO:-0500
TZNAME:EST
DTSTART:20231105T060000
END:STANDARD
BEGIN:DAYLIGHT
TZOFFSETFROM:-0500
TZOFFSETTO:-0400
TZNAME:EDT
DTSTART:20240310T070000
END:DAYLIGHT
BEGIN:STANDARD
TZOFFSETFROM:-0400
TZOFFSETTO:-0500
TZNAME:EST
DTSTART:20241103T060000
END:STANDARD
END:VTIMEZONE
BEGIN:VEVENT
DTSTART;TZID=America/New_York:20231104T100000
DTEND;TZID=America/New_York:20231104T120000
DTSTAMP:20260423T014735
CREATED:20231103T141056Z
LAST-MODIFIED:20231105T151117Z
UID:10001867-1699092000-1699099200@uufcc.com
SUMMARY:Educational Justice League
DESCRIPTION:EJL’s mission is to establish a powerful social justice coalition that actively advocates for and promotes equity for marginalized populations. \nWe are committed to addressing the unique challenges faced by communities of color\, individuals who identify as women\, LGBTQ+ individuals\, promoting accessibility for people with disabilities\, respecting and supporting individuals of all religions\, and bridging the socioeconomic gap through equitable education.
URL:https://uufcc.com/event/educational-justice-league/2023-11-04/
LOCATION:UUFCC – Room B\, 780 Waupelani Drive\, State College\, PA\, 16801\, United States
CATEGORIES:Meeting
END:VEVENT
BEGIN:VEVENT
DTSTART;TZID=America/New_York:20231104T133000
DTEND;TZID=America/New_York:20231104T153000
DTSTAMP:20260423T014735
CREATED:20231021T164638Z
LAST-MODIFIED:20231025T165936Z
UID:10000537-1699104600-1699111800@uufcc.com
SUMMARY:UU Adventurers: Hike Up Mt Nittany
DESCRIPTION:Join us for a hike up Mt. Nittany to the Mike Lynch Overlook and we’ll share a story about Princess Nittany! Sign-up here
URL:https://uufcc.com/event/uu-adventurers-hike-up-mt-nittany/
LOCATION:Mt Nittany Trailhead\, 500 Mt Nittany Rd\, Lemont\, PA\, 16851\, United States
CATEGORIES:Intergenerational RE,Lifespan Religious Exploration
ORGANIZER;CN="Unitarian Universalist Fellowship of Centre County":MAILTO:office@uufcc.com
END:VEVENT
BEGIN:VEVENT
DTSTART;TZID=America/New_York:20231104T180000
DTEND;TZID=America/New_York:20231104T200000
DTSTAMP:20260423T014735
CREATED:20231023T233923Z
LAST-MODIFIED:20231025T165622Z
UID:10001538-1699120800-1699128000@uufcc.com
SUMMARY:The Oil Machine: Screening & Conversation with the Director
DESCRIPTION:Join us in teaming up with Interfaith Power and Light to watch this insightful film followed by a conversation with the director (who will join via Zoom). The film explores our economic\, historical and emotional entanglement with oil by looking at the conflicting imperatives around North Sea oil and considers how this machine can be tamed\, dismantled\, or repurposed.
URL:https://uufcc.com/event/the-oil-machine-screening-conversation-with-the-director/
LOCATION:UUFCC – Sanctuary\, 780 Waupelani Drive\, State College\, PA\, 16801\, United States
CATEGORIES:Event,Intergenerational RE,Lifespan Religious Exploration
ATTACH;FMTTYPE=image/png:https://uufcc.com/wp-content/uploads/2023/10/The-Oil-Machine.png
ORGANIZER;CN="Unitarian Universalist Fellowship of Centre County":MAILTO:office@uufcc.com
END:VEVENT
END:VCALENDAR