BEGIN:VCALENDAR
VERSION:2.0
PRODID:-//UUFCC - ECPv6.15.17//NONSGML v1.0//EN
CALSCALE:GREGORIAN
METHOD:PUBLISH
X-ORIGINAL-URL:https://uufcc.com
X-WR-CALDESC:Events for UUFCC
REFRESH-INTERVAL;VALUE=DURATION:PT1H
X-Robots-Tag:noindex
X-PUBLISHED-TTL:PT1H
BEGIN:VTIMEZONE
TZID:America/New_York
BEGIN:DAYLIGHT
TZOFFSETFROM:-0500
TZOFFSETTO:-0400
TZNAME:EDT
DTSTART:20220313T070000
END:DAYLIGHT
BEGIN:STANDARD
TZOFFSETFROM:-0400
TZOFFSETTO:-0500
TZNAME:EST
DTSTART:20221106T060000
END:STANDARD
BEGIN:DAYLIGHT
TZOFFSETFROM:-0500
TZOFFSETTO:-0400
TZNAME:EDT
DTSTART:20230312T070000
END:DAYLIGHT
BEGIN:STANDARD
TZOFFSETFROM:-0400
TZOFFSETTO:-0500
TZNAME:EST
DTSTART:20231105T060000
END:STANDARD
BEGIN:DAYLIGHT
TZOFFSETFROM:-0500
TZOFFSETTO:-0400
TZNAME:EDT
DTSTART:20240310T070000
END:DAYLIGHT
BEGIN:STANDARD
TZOFFSETFROM:-0400
TZOFFSETTO:-0500
TZNAME:EST
DTSTART:20241103T060000
END:STANDARD
END:VTIMEZONE
BEGIN:VEVENT
DTSTART;TZID=America/New_York:20231221T130000
DTEND;TZID=America/New_York:20231221T150000
DTSTAMP:20260420T175423
CREATED:20231105T154414Z
LAST-MODIFIED:20231105T154907Z
UID:10002765-1703163600-1703170800@uufcc.com
SUMMARY:Finance and Stewardship Committee
DESCRIPTION:
URL:https://uufcc.com/event/finance-and-stewardship-committee/2023-12-21/
LOCATION:UUFCC – Room 6\, 780 Waupelani Drive\, State College\, PA\, 16801\, United States
CATEGORIES:Meeting,UUFCC Committee
ORGANIZER;CN="Unitarian Universalist Fellowship of Centre County":MAILTO:office@uufcc.com
END:VEVENT
BEGIN:VEVENT
DTSTART;TZID=America/New_York:20231221T143000
DTEND;TZID=America/New_York:20231221T160000
DTSTAMP:20260420T175423
CREATED:20231213T185939Z
LAST-MODIFIED:20231213T185939Z
UID:10003943-1703169000-1703174400@uufcc.com
SUMMARY:Memoirs Group
DESCRIPTION:
URL:https://uufcc.com/event/memoirs-group-2/2023-12-21/
LOCATION:Unitarian Universalist Fellowship of Centre County\, 780 Waupelani Drive\, State College\, PA\, 16801\, United States
CATEGORIES:Adult RE,Lifespan Religious Exploration
END:VEVENT
BEGIN:VEVENT
DTSTART;TZID=America/New_York:20231221T180000
DTEND;TZID=America/New_York:20231221T190000
DTSTAMP:20260420T175423
CREATED:20231203T163509Z
LAST-MODIFIED:20231203T163510Z
UID:10001808-1703181600-1703185200@uufcc.com
SUMMARY:Fellowship Supper
DESCRIPTION:Join us for a community potluck each month in Fellowship Hall! This is a wonderful time out to connect with UUFCC friends\, eat a delicious meal\, and celebrate birthdays of the month.
URL:https://uufcc.com/event/fellowship-suppers-2/
LOCATION:UUFCC – Fellowship Hall\, 780 Waupelani Drive\, State College\, PA\, 16801\, United States
CATEGORIES:Event
ATTACH;FMTTYPE=image/png:https://uufcc.com/wp-content/uploads/2023/10/fellowship-dinner.png
ORGANIZER;CN="Unitarian Universalist Fellowship of Centre County":MAILTO:office@uufcc.com
END:VEVENT
BEGIN:VEVENT
DTSTART;TZID=America/New_York:20231221T183000
DTEND;TZID=America/New_York:20231221T193000
DTSTAMP:20260420T175423
CREATED:20231023T234956Z
LAST-MODIFIED:20231205T045554Z
UID:10001563-1703183400-1703187000@uufcc.com
SUMMARY:Wheel of the Year: Mystery (Winter Solstice Service)
DESCRIPTION:We come together to celebrate and honor the wheel of the year\, the turning of the earth and thus the changing of the seasons. It is a service in which we honor and celebrate our deep connection to the earth and all her living creatures.  This service will be outside next to the fire pit. Dress warmly. Hot Apple Cider provided. \nPlease sign up for childcare HERE by Wed\, Dec 20!
URL:https://uufcc.com/event/wheel-of-the-year-2023-12-21/
LOCATION:Unitarian Universalist Fellowship of Centre County\, 780 Waupelani Drive\, State College\, PA\, 16801\, United States
CATEGORIES:Event,Interfaith,Interfaith Ritual,Worship Service
ATTACH;FMTTYPE=image/png:https://uufcc.com/wp-content/uploads/2023/10/Winter-Solstice-2023.png
ORGANIZER;CN="Unitarian Universalist Fellowship of Centre County":MAILTO:office@uufcc.com
END:VEVENT
BEGIN:VEVENT
DTSTART;TZID=America/New_York:20231221T190000
DTEND;TZID=America/New_York:20231221T200000
DTSTAMP:20260420T175423
CREATED:20231023T234740Z
LAST-MODIFIED:20231101T163238Z
UID:10004804-1703185200-1703188800@uufcc.com
SUMMARY:Wheel of the Year
DESCRIPTION:
URL:https://uufcc.com/event/wheel-of-the-year/2023-12-21/
LOCATION:UUFCC – Fellowship Hall\, 780 Waupelani Drive\, State College\, PA\, 16801\, United States
CATEGORIES:Event,Interfaith Ritual,Intergenerational RE,Lifespan Religious Exploration,Worship Service
ATTACH;FMTTYPE=image/png:https://uufcc.com/wp-content/uploads/2023/09/Wheel-of-the-Year.png
ORGANIZER;CN="Unitarian Universalist Fellowship of Centre County":MAILTO:office@uufcc.com
END:VEVENT
BEGIN:VEVENT
DTSTART;TZID=America/New_York:20231221T190000
DTEND;TZID=America/New_York:20231221T210000
DTSTAMP:20260420T175423
CREATED:20231021T021850Z
LAST-MODIFIED:20231021T021850Z
UID:10004904-1703185200-1703192400@uufcc.com
SUMMARY:UUFCC Choir Rehearsal
DESCRIPTION:Performs for hymns and extra music during Sunday Services three times a month. \nDirected by Colleen Kennedy.
URL:https://uufcc.com/event/uufcc-choir-rehearsal/2023-12-21/
LOCATION:UUFCC – Sanctuary\, 780 Waupelani Drive\, State College\, PA\, 16801\, United States
CATEGORIES:Music
END:VEVENT
END:VCALENDAR