BEGIN:VCALENDAR
VERSION:2.0
PRODID:-//UUFCC - ECPv6.15.17//NONSGML v1.0//EN
CALSCALE:GREGORIAN
METHOD:PUBLISH
X-ORIGINAL-URL:https://uufcc.com
X-WR-CALDESC:Events for UUFCC
REFRESH-INTERVAL;VALUE=DURATION:PT1H
X-Robots-Tag:noindex
X-PUBLISHED-TTL:PT1H
BEGIN:VTIMEZONE
TZID:America/New_York
BEGIN:DAYLIGHT
TZOFFSETFROM:-0500
TZOFFSETTO:-0400
TZNAME:EDT
DTSTART:20230312T070000
END:DAYLIGHT
BEGIN:STANDARD
TZOFFSETFROM:-0400
TZOFFSETTO:-0500
TZNAME:EST
DTSTART:20231105T060000
END:STANDARD
BEGIN:DAYLIGHT
TZOFFSETFROM:-0500
TZOFFSETTO:-0400
TZNAME:EDT
DTSTART:20240310T070000
END:DAYLIGHT
BEGIN:STANDARD
TZOFFSETFROM:-0400
TZOFFSETTO:-0500
TZNAME:EST
DTSTART:20241103T060000
END:STANDARD
BEGIN:DAYLIGHT
TZOFFSETFROM:-0500
TZOFFSETTO:-0400
TZNAME:EDT
DTSTART:20250309T070000
END:DAYLIGHT
BEGIN:STANDARD
TZOFFSETFROM:-0400
TZOFFSETTO:-0500
TZNAME:EST
DTSTART:20251102T060000
END:STANDARD
END:VTIMEZONE
BEGIN:VEVENT
DTSTART;TZID=America/New_York:20240218T093000
DTEND;TZID=America/New_York:20240218T130000
DTSTAMP:20260421T105155
CREATED:20231128T173327Z
LAST-MODIFIED:20231128T173552Z
UID:10003490-1708248600-1708261200@uufcc.com
SUMMARY:Child Care
DESCRIPTION:
URL:https://uufcc.com/event/child-care-2/2024-02-18/
LOCATION:UUFCC – Room C\, 780 Waupelani Drive\, State College\, PA\, 16801\, United States
CATEGORIES:Lifespan Religious Exploration,RE Kids & Youth,Young Kids
ORGANIZER;CN="Unitarian Universalist Fellowship of Centre County":MAILTO:office@uufcc.com
END:VEVENT
BEGIN:VEVENT
DTSTART;TZID=America/New_York:20240218T100000
DTEND;TZID=America/New_York:20240218T110000
DTSTAMP:20260421T105155
CREATED:20240207T170639Z
LAST-MODIFIED:20240207T170639Z
UID:10005180-1708250400-1708254000@uufcc.com
SUMMARY:Sunday Service - "Love with a Big L"
DESCRIPTION:with Rev. Tracy Sprowls… We end our 30 days of love with a conversation about love. What are we talking about when we use the word love in the context of justice?
URL:https://uufcc.com/event/sunday-service-love-with-a-big-l/
LOCATION:UUFCC – Sanctuary\, 780 Waupelani Drive\, State College\, PA\, 16801\, United States
CATEGORIES:Sunday Worship Service,Worship Service
ATTACH;FMTTYPE=image/png:https://uufcc.com/wp-content/uploads/2024/02/Love-with-a-Big-L-Feb-18.png
ORGANIZER;CN="Unitarian Universalist Fellowship of Centre County":MAILTO:office@uufcc.com
END:VEVENT
BEGIN:VEVENT
DTSTART;TZID=America/New_York:20240218T100000
DTEND;TZID=America/New_York:20240218T111500
DTSTAMP:20260421T105155
CREATED:20240129T160314Z
LAST-MODIFIED:20240129T160314Z
UID:10004901-1708250400-1708254900@uufcc.com
SUMMARY:Middle School RE - Stamped from the Beginning Part III
DESCRIPTION:Join our Middle School class to watch the Netflix documentary\, Stamped from the Beginning\, based on the book by Ibram X. Kendi. This will be our final viewing and discussion on this topic of anti-racism. This week’s topic will center on: \n\n\nMyth of the Black Criminal\n\n\nTruth of Anti-Racism
URL:https://uufcc.com/event/middle-school-re-stamped-from-the-beginning-part-iii/
LOCATION:Unitarian Universalist Fellowship of Centre County\, 780 Waupelani Drive\, State College\, PA\, 16801\, United States
CATEGORIES:Lifespan Religious Exploration,Middle School Youth
ATTACH;FMTTYPE=image/png:https://uufcc.com/wp-content/uploads/2023/10/Middle-School-Youth.png
END:VEVENT
BEGIN:VEVENT
DTSTART;TZID=America/New_York:20240218T100000
DTEND;TZID=America/New_York:20240218T111500
DTSTAMP:20260421T105155
CREATED:20240129T165228Z
LAST-MODIFIED:20240129T183402Z
UID:10004151-1708250400-1708254900@uufcc.com
SUMMARY:RE Pre-K/Kindergarten Kids - Black is Beautiful
DESCRIPTION:Black is Beautiful ~ Our differences are important\, let’s explore why!\n \nThis week our Pre-K/K friends will begin in Room D downstairs. Sign-in will be in Room D.
URL:https://uufcc.com/event/re-pre-k-kindergarten-kids-6/
LOCATION:UUFCC – Gathering Space and Room D\, 780 Waupelani Drive\, State College\, PA\, 16801\, United States
CATEGORIES:Lifespan Religious Exploration,Young Kids
ATTACH;FMTTYPE=image/png:https://uufcc.com/wp-content/uploads/2024/01/RE-Pre-KK-Kids.png
END:VEVENT
BEGIN:VEVENT
DTSTART;TZID=America/New_York:20240218T100000
DTEND;TZID=America/New_York:20240218T111500
DTSTAMP:20260421T105155
CREATED:20240129T183858Z
LAST-MODIFIED:20240129T183859Z
UID:10004814-1708250400-1708254900@uufcc.com
SUMMARY:RE 1st - 5th Grade Kids - Anti-Racism Lesson
DESCRIPTION:Join us this week for our next Anti-Racism lesson: Lesson 4 ~ My Church\, My Beliefs (1-2)\, Slavery (3-5) \n1st-5th Grade friends will start in the sanctuary for the Wisdom Lesson and then leave for the Gathering Space for our time together.
URL:https://uufcc.com/event/re-1st-5th-grade-kids-9/
LOCATION:Unitarian Universalist Fellowship of Centre County\, 780 Waupelani Drive\, State College\, PA\, 16801\, United States
CATEGORIES:Lifespan Religious Exploration,RE Kids & Youth,Young Kids
ATTACH;FMTTYPE=image/png:https://uufcc.com/wp-content/uploads/2024/01/RE-Kids.png
END:VEVENT
BEGIN:VEVENT
DTSTART;TZID=America/New_York:20240218T113000
DTEND;TZID=America/New_York:20240218T123000
DTSTAMP:20260421T105155
CREATED:20240129T201641Z
LAST-MODIFIED:20240129T201834Z
UID:10005039-1708255800-1708259400@uufcc.com
SUMMARY:Intergenerational Music program
DESCRIPTION:Join Colleen and Ashley as we have fun learning new songs to sing for our Multi-generational Sunday services: Earth Day Service on April 21\, Lifespan RE Service on May 19\, and Flower Celebration Service on June 2. We’ll continue our journey of Social Justice Music through the span of Black American history as well as add new songs for Earth Day and Flower Celebration. Please register to join: https://uufcc.breezechms.com/form/Music2024 \nThis week we’ll learn a justice song ~ Ain’t Gonna Let Nobody (zipper song) – from the Civil Rights era
URL:https://uufcc.com/event/intergenerational-music-program-2/
LOCATION:Unitarian Universalist Fellowship of Centre County\, 780 Waupelani Drive\, State College\, PA\, 16801\, United States
CATEGORIES:Intergenerational RE,Lifespan Religious Exploration,Middle School Youth,RE Kids & Youth,Young Kids
ATTACH;FMTTYPE=image/png:https://uufcc.com/wp-content/uploads/2024/01/Music-program-Social-Justice-Music-for-Kids.png
END:VEVENT
BEGIN:VEVENT
DTSTART;TZID=America/New_York:20240218T113000
DTEND;TZID=America/New_York:20240218T130000
DTSTAMP:20260421T105155
CREATED:20240109T160344Z
LAST-MODIFIED:20240109T160344Z
UID:10004412-1708255800-1708261200@uufcc.com
SUMMARY:UUFCC Jazz Band Rehearsal
DESCRIPTION:The UUFCC Jazz Band is open to all. Rehearsals occur on Sundays in the Sanctuary\, although occasionally the band may rehearse in Room 6 due to major church events. \nContact David Morris if interested.
URL:https://uufcc.com/event/uufcc-jazz-band-rehearsal/2024-02-18/
LOCATION:UUFCC – Sanctuary\, 780 Waupelani Drive\, State College\, PA\, 16801\, United States
CATEGORIES:Meeting,Music
ORGANIZER;CN="Unitarian Universalist Fellowship of Centre County":MAILTO:office@uufcc.com
END:VEVENT
BEGIN:VEVENT
DTSTART;TZID=America/New_York:20240218T113000
DTEND;TZID=America/New_York:20240218T130000
DTSTAMP:20260421T105155
CREATED:20240117T135607Z
LAST-MODIFIED:20240117T180139Z
UID:10004882-1708255800-1708261200@uufcc.com
SUMMARY:Death\, Grief\, and Comfort
DESCRIPTION:Our companions in life are death and grief and yet they are so difficult to talk about\, and rarely at that. In times of loss\, how do we find healthy comfort? Further\, is emotional comfort something human beings should even expect as part of life? \nIn the death workshop we will go over practical matters\, memorial services\, and think about our own deaths. The grief workshop includes how to walk with grief\, writing condolence notes\, and digging deep into the grief of being human. The last workshop on comfort helps us understand how we can comfort ourselves naturally as well as realign our expectations of comfort. \nThese three workshops can be taken together or on their own. Each workshop includes videos\, exercises\, information sharing\, and conversation. \n 
URL:https://uufcc.com/event/death-grief-and-comfort/2024-02-18/
LOCATION:Unitarian Universalist Fellowship of Centre County\, 780 Waupelani Drive\, State College\, PA\, 16801\, United States
CATEGORIES:Adult RE,Lifespan Religious Exploration
ATTACH;FMTTYPE=image/png:https://uufcc.com/wp-content/uploads/2024/01/Death-Grief-and-Comfort-Re-Hour-TS.png
END:VEVENT
BEGIN:VEVENT
DTSTART;TZID=America/New_York:20240218T113000
DTEND;TZID=America/New_York:20240218T130000
DTSTAMP:20260421T105155
CREATED:20240213T230902Z
LAST-MODIFIED:20240213T231004Z
UID:10005184-1708255800-1708261200@uufcc.com
SUMMARY:Chat Cafe with the Board
DESCRIPTION:Come share your thoughts\, concerns\, and questions with our UUFCC Board members! They desire to be transparent in all their decision-making and would love to hear feedback\, input\, and just engage in conversation with you.
URL:https://uufcc.com/event/chat-cafe-with-the-board/2024-02-18/
LOCATION:UUFCC – Room A\, 780 Waupelani Drive\, State College\, PA\, 16801\, United States
CATEGORIES:Event
ATTACH;FMTTYPE=image/png:https://uufcc.com/wp-content/uploads/2024/02/Chat-Cafe.png
ORGANIZER;CN="Unitarian Universalist Fellowship of Centre County":MAILTO:office@uufcc.com
END:VEVENT
BEGIN:VEVENT
DTSTART;TZID=America/New_York:20240218T133000
DTEND;TZID=America/New_York:20240218T150000
DTSTAMP:20260421T105155
CREATED:20240123T013726Z
LAST-MODIFIED:20240124T124414Z
UID:10004894-1708263000-1708268400@uufcc.com
SUMMARY:UU Adventurers ~ February: Winter Walk/Sledding around Tudek Park
DESCRIPTION:Join us to walk or bring a sled/cross-country skis and have fun around Tudek Park! Bring your own sled/skis.
URL:https://uufcc.com/event/uu-adventurers-feb-24/
LOCATION:Unitarian Universalist Fellowship of Centre County\, 780 Waupelani Drive\, State College\, PA\, 16801\, United States
CATEGORIES:Event,Intergenerational RE,Lifespan Religious Exploration
ATTACH;FMTTYPE=image/png:https://uufcc.com/wp-content/uploads/2024/01/UU-Adventurers-Feb-Winter-Walk.png
END:VEVENT
END:VCALENDAR