BEGIN:VCALENDAR
VERSION:2.0
PRODID:-//UUFCC - ECPv6.15.17//NONSGML v1.0//EN
CALSCALE:GREGORIAN
METHOD:PUBLISH
X-ORIGINAL-URL:https://uufcc.com
X-WR-CALDESC:Events for UUFCC
REFRESH-INTERVAL;VALUE=DURATION:PT1H
X-Robots-Tag:noindex
X-PUBLISHED-TTL:PT1H
BEGIN:VTIMEZONE
TZID:America/New_York
BEGIN:DAYLIGHT
TZOFFSETFROM:-0500
TZOFFSETTO:-0400
TZNAME:EDT
DTSTART:20230312T070000
END:DAYLIGHT
BEGIN:STANDARD
TZOFFSETFROM:-0400
TZOFFSETTO:-0500
TZNAME:EST
DTSTART:20231105T060000
END:STANDARD
BEGIN:DAYLIGHT
TZOFFSETFROM:-0500
TZOFFSETTO:-0400
TZNAME:EDT
DTSTART:20240310T070000
END:DAYLIGHT
BEGIN:STANDARD
TZOFFSETFROM:-0400
TZOFFSETTO:-0500
TZNAME:EST
DTSTART:20241103T060000
END:STANDARD
BEGIN:DAYLIGHT
TZOFFSETFROM:-0500
TZOFFSETTO:-0400
TZNAME:EDT
DTSTART:20250309T070000
END:DAYLIGHT
BEGIN:STANDARD
TZOFFSETFROM:-0400
TZOFFSETTO:-0500
TZNAME:EST
DTSTART:20251102T060000
END:STANDARD
END:VTIMEZONE
BEGIN:VEVENT
DTSTART;TZID=America/New_York:20240302T100000
DTEND;TZID=America/New_York:20240302T120000
DTSTAMP:20260422T111045
CREATED:20240129T190714Z
LAST-MODIFIED:20240129T190714Z
UID:10004921-1709373600-1709380800@uufcc.com
SUMMARY:Educational Justice League
DESCRIPTION:EJL’s mission is to establish a powerful social justice coalition that actively advocates for and promotes equity for marginalized populations. \nWe are committed to addressing the unique challenges faced by communities of color\, individuals who identify as women\, LGBTQ+ individuals\, promoting accessibility for people with disabilities\, respecting and supporting individuals of all religions\, and bridging the socioeconomic gap through equitable education.
URL:https://uufcc.com/event/educational-justice-league-2/2024-03-02/
LOCATION:UUFCC – Room B\, 780 Waupelani Drive\, State College\, PA\, 16801\, United States
CATEGORIES:Meeting
END:VEVENT
BEGIN:VEVENT
DTSTART;TZID=America/New_York:20240302T113000
DTEND;TZID=America/New_York:20240302T150000
DTSTAMP:20260422T111045
CREATED:20240228T185025Z
LAST-MODIFIED:20240228T185025Z
UID:10005201-1709379000-1709391600@uufcc.com
SUMMARY:Poor People's Campaign ~ Harrisburg
DESCRIPTION:Meet at UUFCC at 9:30 am to carpool to Harrisburg for the Poor People’s Campaign. \nThe Poor People’s Campaign: A National Call for Moral Revival is uniting people across Pennsylvania to challenge the evils of systemic racism\, poverty\, the war economy\, ecological devastation and the nation’s distorted morality of religious nationalism. \n 
URL:https://uufcc.com/event/poor-peoples-campaign-harrisburg/
LOCATION:PA
CATEGORIES:Event
END:VEVENT
END:VCALENDAR