BEGIN:VCALENDAR
VERSION:2.0
PRODID:-//UUFCC - ECPv6.15.17//NONSGML v1.0//EN
CALSCALE:GREGORIAN
METHOD:PUBLISH
X-WR-CALNAME:UUFCC
X-ORIGINAL-URL:https://uufcc.com
X-WR-CALDESC:Events for UUFCC
REFRESH-INTERVAL;VALUE=DURATION:PT1H
X-Robots-Tag:noindex
X-PUBLISHED-TTL:PT1H
BEGIN:VTIMEZONE
TZID:America/New_York
BEGIN:DAYLIGHT
TZOFFSETFROM:-0500
TZOFFSETTO:-0400
TZNAME:EDT
DTSTART:20230312T070000
END:DAYLIGHT
BEGIN:STANDARD
TZOFFSETFROM:-0400
TZOFFSETTO:-0500
TZNAME:EST
DTSTART:20231105T060000
END:STANDARD
BEGIN:DAYLIGHT
TZOFFSETFROM:-0500
TZOFFSETTO:-0400
TZNAME:EDT
DTSTART:20240310T070000
END:DAYLIGHT
BEGIN:STANDARD
TZOFFSETFROM:-0400
TZOFFSETTO:-0500
TZNAME:EST
DTSTART:20241103T060000
END:STANDARD
BEGIN:DAYLIGHT
TZOFFSETFROM:-0500
TZOFFSETTO:-0400
TZNAME:EDT
DTSTART:20250309T070000
END:DAYLIGHT
BEGIN:STANDARD
TZOFFSETFROM:-0400
TZOFFSETTO:-0500
TZNAME:EST
DTSTART:20251102T060000
END:STANDARD
END:VTIMEZONE
BEGIN:VEVENT
DTSTART;TZID=America/New_York:20241014T120000
DTEND;TZID=America/New_York:20241014T140000
DTSTAMP:20260423T195433
CREATED:20241004T025007Z
LAST-MODIFIED:20241004T025007Z
UID:10007256-1728907200-1728914400@uufcc.com
SUMMARY:Community Event - Indigenous Peoples Resistance Day Rally
DESCRIPTION:On Old Main Patio \n\n\n\n\n\nFREE\n\n\n\n\n\nIndigenous student\, faculty\, and staff leaders will speak\, and artists will perform in honor of Indigenous Peoples’ Resistance. The Jake George Family will perform a smoke dance to welcome guests. Supaman will perform at approximately 1 p.m. \nPresented by the Center for the Performing Arts in collaboration with Penn State Indigenous Faculty and Staff Alliance\, Indigenous Peoples’ Student Association\, and Student Affairs.
URL:https://uufcc.com/event/community-event-indigenous-peoples-resistance-day-rally/
LOCATION:PA
CATEGORIES:Community Event
ATTACH;FMTTYPE=image/jpeg:https://uufcc.com/wp-content/uploads/2024/10/thumb280px-supaman1_0.jpg
END:VEVENT
BEGIN:VEVENT
DTSTART;TZID=America/New_York:20241014T123000
DTEND;TZID=America/New_York:20241014T130000
DTSTAMP:20260423T195433
CREATED:20231021T021336Z
LAST-MODIFIED:20250419T193312Z
UID:10000065-1728909000-1728910800@uufcc.com
SUMMARY:Meditation Monday
DESCRIPTION:Open to the public.\nJoin Kelle Kersten on Zoom for a guided meditation during your lunch to center yourself for the coming week!\nClick here to join the Zoom meeting.
URL:https://uufcc.com/event/meditation-monday/2024-10-14/
LOCATION:PA
CATEGORIES:Adult RE,Lifespan Religious Exploration
ATTACH;FMTTYPE=image/png:https://uufcc.com/wp-content/uploads/2023/10/UUFCC-Meditation-Mondays-540.png
END:VEVENT
BEGIN:VEVENT
DTSTART;TZID=America/New_York:20241014T150000
DTEND;TZID=America/New_York:20241014T160000
DTSTAMP:20260423T195433
CREATED:20240327T180455Z
LAST-MODIFIED:20240327T180456Z
UID:10005267-1728918000-1728921600@uufcc.com
SUMMARY:Centre County Interfaith Coalition for Gun Safety
DESCRIPTION:The Centre County Interfaith Coalition for Gun Safety is an alliance of local religious leaders and community members committed to building a peaceful society free from preventable gun violence. Through our work\, we educate on issues related to gun violence\, advocate for responsible and safe gun ownership\, and unite with local\, state\, and federal officials on matters of gun safety that benefit the whole community.
URL:https://uufcc.com/event/ccicgs-2-2/2024-10-14/
LOCATION:UUFCC – Fellowship Hall\, 780 Waupelani Drive\, State College\, PA\, 16801\, United States
CATEGORIES:Event,Interfaith
ATTACH;FMTTYPE=image/jpeg:https://uufcc.com/wp-content/uploads/2024/01/CCIC4GS-Blue-Logo.jpg
ORGANIZER;CN="Centre Couny Interfaith Coalition for Gun Safety":MAILTO:interfaith4gs@gmail.com
END:VEVENT
END:VCALENDAR