BEGIN:VCALENDAR
VERSION:2.0
PRODID:-//UUFCC - ECPv6.15.17//NONSGML v1.0//EN
CALSCALE:GREGORIAN
METHOD:PUBLISH
X-ORIGINAL-URL:https://uufcc.com
X-WR-CALDESC:Events for UUFCC
REFRESH-INTERVAL;VALUE=DURATION:PT1H
X-Robots-Tag:noindex
X-PUBLISHED-TTL:PT1H
BEGIN:VTIMEZONE
TZID:America/New_York
BEGIN:DAYLIGHT
TZOFFSETFROM:-0500
TZOFFSETTO:-0400
TZNAME:EDT
DTSTART:20230312T070000
END:DAYLIGHT
BEGIN:STANDARD
TZOFFSETFROM:-0400
TZOFFSETTO:-0500
TZNAME:EST
DTSTART:20231105T060000
END:STANDARD
BEGIN:DAYLIGHT
TZOFFSETFROM:-0500
TZOFFSETTO:-0400
TZNAME:EDT
DTSTART:20240310T070000
END:DAYLIGHT
BEGIN:STANDARD
TZOFFSETFROM:-0400
TZOFFSETTO:-0500
TZNAME:EST
DTSTART:20241103T060000
END:STANDARD
BEGIN:DAYLIGHT
TZOFFSETFROM:-0500
TZOFFSETTO:-0400
TZNAME:EDT
DTSTART:20250309T070000
END:DAYLIGHT
BEGIN:STANDARD
TZOFFSETFROM:-0400
TZOFFSETTO:-0500
TZNAME:EST
DTSTART:20251102T060000
END:STANDARD
END:VTIMEZONE
BEGIN:VEVENT
DTSTART;TZID=America/New_York:20241103T093000
DTEND;TZID=America/New_York:20241103T130000
DTSTAMP:20260420T163232
CREATED:20231128T173327Z
LAST-MODIFIED:20231128T173552Z
UID:10003527-1730626200-1730638800@uufcc.com
SUMMARY:Child Care
DESCRIPTION:
URL:https://uufcc.com/event/child-care-2/2024-11-03/
LOCATION:UUFCC – Room C\, 780 Waupelani Drive\, State College\, PA\, 16801\, United States
CATEGORIES:Lifespan Religious Exploration,RE Kids & Youth,Young Kids
ORGANIZER;CN="Unitarian Universalist Fellowship of Centre County":MAILTO:office@uufcc.com
END:VEVENT
BEGIN:VEVENT
DTSTART;TZID=America/New_York:20241103T100000
DTEND;TZID=America/New_York:20241103T110000
DTSTAMP:20260420T163232
CREATED:20241023T184039Z
LAST-MODIFIED:20241023T184039Z
UID:10007342-1730628000-1730631600@uufcc.com
SUMMARY:Sunday Service - "The Power and Privilege of Democracy"
DESCRIPTION:…with Rev. Tracy Sprowls.\nRev. Tracy and David are officially registered to vote in PA\, in fact it was the first thing they did when they moved here. Rev. Tracy has also been very active getting out the vote like many of you. This morning we talk about the power and privileges of democracy that includes the vote.
URL:https://uufcc.com/event/sunday-service-the-power-and-privilege-of-democracy/
LOCATION:Unitarian Universalist Fellowship of Centre County\, 780 Waupelani Drive\, State College\, PA\, 16801\, United States
CATEGORIES:Sunday Worship Service,Worship Service
ATTACH;FMTTYPE=image/png:https://uufcc.com/wp-content/uploads/2024/10/Nov-3-The-Power-and-Privilege-of-.png
ORGANIZER;CN="Unitarian Universalist Fellowship of Centre County":MAILTO:office@uufcc.com
END:VEVENT
BEGIN:VEVENT
DTSTART;TZID=America/New_York:20241103T100000
DTEND;TZID=America/New_York:20241103T110000
DTSTAMP:20260420T163232
CREATED:20241023T205136Z
LAST-MODIFIED:20241023T205136Z
UID:10007350-1730628000-1730631600@uufcc.com
SUMMARY:RE Elementary (Pre-K/K) – I can bend\, stretch\, and move
DESCRIPTION:Join us to explore how we can move our bodies. Sign-in downstairs in Room D
URL:https://uufcc.com/event/re-elementary-pre-k-k-i-can-bend-stretch-and-move/
LOCATION:Unitarian Universalist Fellowship of Centre County\, 780 Waupelani Drive\, State College\, PA\, 16801\, United States
CATEGORIES:Lifespan Religious Exploration,RE Kids & Youth,Young Kids
ATTACH;FMTTYPE=image/png:https://uufcc.com/wp-content/uploads/2024/01/RE-Pre-KK-Kids.png
END:VEVENT
BEGIN:VEVENT
DTSTART;TZID=America/New_York:20241103T100000
DTEND;TZID=America/New_York:20241103T110000
DTSTAMP:20260420T163232
CREATED:20241023T205655Z
LAST-MODIFIED:20241031T015013Z
UID:10007351-1730628000-1730631600@uufcc.com
SUMMARY:RE Elementary (1st-5th grade) - Fist to Five
DESCRIPTION:Join us in the sanctuary for our Wisdom Lesson\, then we’ll go downstairs and discover Fist to Five and coming to consensus.
URL:https://uufcc.com/event/re-elementary-1st-5th-grade-multi-generational-service/
LOCATION:UUFCC – Sanctuary\, 780 Waupelani Drive\, State College\, PA\, 16801\, United States
CATEGORIES:Lifespan Religious Exploration,RE Kids & Youth,Young Kids
ATTACH;FMTTYPE=image/png:https://uufcc.com/wp-content/uploads/2024/01/RE-Kids.png
END:VEVENT
BEGIN:VEVENT
DTSTART;TZID=America/New_York:20241103T113000
DTEND;TZID=America/New_York:20241103T130000
DTSTAMP:20260420T163232
CREATED:20240430T174503Z
LAST-MODIFIED:20241025T151720Z
UID:10005439-1730633400-1730638800@uufcc.com
SUMMARY:Midyear Meeting / Chili Cookoff 2024
DESCRIPTION:It’s that time of year again\, Chili and the Mid-Year Meeting. Chili Cookoff will begin at 10:45 after the service. Please sign up to help run this event and bring chili or sides to make this event a success. Voting tickets will be sold for $5 per person and $10 per family. Bring all Chili in a crock pot and bring a muffin tin to taste all the chili. (Sign up here!) \nMidyear Meeting will begin after the cook off at 11:30 AM. Any questions please reach out to the Program Council or Bonnie Rossi. \nDownload the flyer here.
URL:https://uufcc.com/event/midyear-meeting-chili-cookoff-2024/
LOCATION:UUFCC – Sanctuary\, 780 Waupelani Drive\, State College\, PA\, 16801\, United States
CATEGORIES:Event,Interfaith,Meeting
ATTACH;FMTTYPE=image/png:https://uufcc.com/wp-content/uploads/2024/04/Chili-Cook-off-2.png
ORGANIZER;CN="Unitarian Universalist Fellowship of Centre County":MAILTO:office@uufcc.com
END:VEVENT
BEGIN:VEVENT
DTSTART;TZID=America/New_York:20241103T120000
DTEND;TZID=America/New_York:20241103T133000
DTSTAMP:20260420T163232
CREATED:20240911T175727Z
LAST-MODIFIED:20240911T175728Z
UID:10006979-1730635200-1730640600@uufcc.com
SUMMARY:UUFCC Jazz Band Rehearsal
DESCRIPTION:The UUFCC Jazz Band is open to all. Rehearsals occur on Sundays in the Sanctuary\, although occasionally the band may rehearse in Room 6 due to major church events. \nContact David Morris if interested.
URL:https://uufcc.com/event/uufcc-jazz-band-rehearsal-3/2024-11-03/
LOCATION:UUFCC – Sanctuary\, 780 Waupelani Drive\, State College\, PA\, 16801\, United States
CATEGORIES:Meeting,Music
ORGANIZER;CN="Unitarian Universalist Fellowship of Centre County":MAILTO:office@uufcc.com
END:VEVENT
BEGIN:VEVENT
DTSTART;TZID=America/New_York:20241103T123000
DTEND;TZID=America/New_York:20241103T140000
DTSTAMP:20260420T163232
CREATED:20241023T133848Z
LAST-MODIFIED:20241023T133848Z
UID:10007279-1730637000-1730642400@uufcc.com
SUMMARY:High School Youth Group - Interactive Cultural Presentation
DESCRIPTION:Join us for cultural presentations by two exchange students from Lithuania and Morocco. They\, in turn\, want to hear about Unitarian Universalism\, so you will have a chance to share about your faith tradition.
URL:https://uufcc.com/event/high-school-youth-group-interactive-cultural-presentation/
LOCATION:UUFCC – Room 5
CATEGORIES:High School Youth,Lifespan Religious Exploration,RE Kids & Youth
ATTACH;FMTTYPE=image/png:https://uufcc.com/wp-content/uploads/2024/10/Untitled-design3.png
ORGANIZER;CN="Unitarian Universalist Fellowship of Centre County":MAILTO:office@uufcc.com
END:VEVENT
END:VCALENDAR