BEGIN:VCALENDAR
VERSION:2.0
PRODID:-//UUFCC - ECPv6.15.17//NONSGML v1.0//EN
CALSCALE:GREGORIAN
METHOD:PUBLISH
X-ORIGINAL-URL:https://uufcc.com
X-WR-CALDESC:Events for UUFCC
REFRESH-INTERVAL;VALUE=DURATION:PT1H
X-Robots-Tag:noindex
X-PUBLISHED-TTL:PT1H
BEGIN:VTIMEZONE
TZID:America/New_York
BEGIN:DAYLIGHT
TZOFFSETFROM:-0500
TZOFFSETTO:-0400
TZNAME:EDT
DTSTART:20230312T070000
END:DAYLIGHT
BEGIN:STANDARD
TZOFFSETFROM:-0400
TZOFFSETTO:-0500
TZNAME:EST
DTSTART:20231105T060000
END:STANDARD
BEGIN:DAYLIGHT
TZOFFSETFROM:-0500
TZOFFSETTO:-0400
TZNAME:EDT
DTSTART:20240310T070000
END:DAYLIGHT
BEGIN:STANDARD
TZOFFSETFROM:-0400
TZOFFSETTO:-0500
TZNAME:EST
DTSTART:20241103T060000
END:STANDARD
BEGIN:DAYLIGHT
TZOFFSETFROM:-0500
TZOFFSETTO:-0400
TZNAME:EDT
DTSTART:20250309T070000
END:DAYLIGHT
BEGIN:STANDARD
TZOFFSETFROM:-0400
TZOFFSETTO:-0500
TZNAME:EST
DTSTART:20251102T060000
END:STANDARD
END:VTIMEZONE
BEGIN:VEVENT
DTSTART;TZID=America/New_York:20241123T100000
DTEND;TZID=America/New_York:20241123T120000
DTSTAMP:20260420T023139
CREATED:20240129T190714Z
LAST-MODIFIED:20240129T190714Z
UID:10004938-1732356000-1732363200@uufcc.com
SUMMARY:Educational Justice League
DESCRIPTION:EJL’s mission is to establish a powerful social justice coalition that actively advocates for and promotes equity for marginalized populations. \nWe are committed to addressing the unique challenges faced by communities of color\, individuals who identify as women\, LGBTQ+ individuals\, promoting accessibility for people with disabilities\, respecting and supporting individuals of all religions\, and bridging the socioeconomic gap through equitable education.
URL:https://uufcc.com/event/educational-justice-league-2/2024-11-23/
LOCATION:UUFCC – Room B\, 780 Waupelani Drive\, State College\, PA\, 16801\, United States
CATEGORIES:Meeting
END:VEVENT
BEGIN:VEVENT
DTSTART;TZID=America/New_York:20241123T100000
DTEND;TZID=America/New_York:20241123T170000
DTSTAMP:20260420T023139
CREATED:20241113T055158Z
LAST-MODIFIED:20241113T055158Z
UID:10007396-1732356000-1732381200@uufcc.com
SUMMARY:10\,000 Villages Sale @ UUFCC
DESCRIPTION:Ten Thousand Villages is planning a three-day holiday sale at the Unitarian Fellowship on November 21\, 22\, and 23. Since the store has closed\, this will be an opportunity for the local community to support international fair-trade and shop for the holidays. We plan to have a wide variety of artisan goods\, coffee\, chocolate\, tea\, and heirloom quality rugs from Bunyaad. \nWe’re more than a store\, We’re a global maker-to-market movement that addresses economic injustice. Because every handcrafted object has a life of meaning behind it. We’re a way for you to shop with intention for ethically-sourced handcrafted wares – and to share in the joy of empowering makers in ten thousand villages. \nWe’re looking for volunteers to help!\nIt takes a lot of effort to pull off a sale like this. If you would like to help with one or more shifts\, check out the online signup sheet and join the effort! \nhttps://www.signupgenius.com/go/30E0A4AA4AC2AA6FC1-51714568-tenthousand#/
URL:https://uufcc.com/event/10000-villages-sale-uufcc/2024-11-23/
LOCATION:UUFCC – Fellowship Hall\, 780 Waupelani Drive\, State College\, PA\, 16801\, United States
CATEGORIES:Community Event
ATTACH;FMTTYPE=image/png:https://uufcc.com/wp-content/uploads/2024/11/10k-villages-sale-flier-2024.png
END:VEVENT
BEGIN:VEVENT
DTSTART;TZID=America/New_York:20241123T170000
DTEND;TZID=America/New_York:20241123T190000
DTSTAMP:20260420T023139
CREATED:20241121T203717Z
LAST-MODIFIED:20241121T203717Z
UID:10007679-1732381200-1732388400@uufcc.com
SUMMARY:Middle School Hangout
DESCRIPTION:Middle School youth are invited for a monthly hangout to begin Nov 23! The youth will meet downstairs at the UU in the Gathering Space from 5-7 pm and play games\, eat pizza\, and just have fun. \n\nIf you are a parent who would like to volunteer one month to sign up and plan to stay at the Fellowship during the hangout so that there are two adults present and to bring pizza for that month\, please sign-up here: https://bit.ly/MSHangout24
URL:https://uufcc.com/event/middle-school-hangout/2024-11-23/
LOCATION:UUFCC – Gathering Space\, 780 Waupelani Drive\, State College\, PA\, 16801\, United States
CATEGORIES:Lifespan Religious Exploration,Middle School Youth,RE Kids & Youth
ATTACH;FMTTYPE=image/png:https://uufcc.com/wp-content/uploads/2024/11/MS-Youth-Hangout.png
ORGANIZER;CN="Unitarian Universalist Fellowship of Centre County":MAILTO:office@uufcc.com
END:VEVENT
END:VCALENDAR