BEGIN:VCALENDAR
VERSION:2.0
PRODID:-//UUFCC - ECPv6.15.17//NONSGML v1.0//EN
CALSCALE:GREGORIAN
METHOD:PUBLISH
X-ORIGINAL-URL:https://uufcc.com
X-WR-CALDESC:Events for UUFCC
REFRESH-INTERVAL;VALUE=DURATION:PT1H
X-Robots-Tag:noindex
X-PUBLISHED-TTL:PT1H
BEGIN:VTIMEZONE
TZID:America/New_York
BEGIN:DAYLIGHT
TZOFFSETFROM:-0500
TZOFFSETTO:-0400
TZNAME:EDT
DTSTART:20230312T070000
END:DAYLIGHT
BEGIN:STANDARD
TZOFFSETFROM:-0400
TZOFFSETTO:-0500
TZNAME:EST
DTSTART:20231105T060000
END:STANDARD
BEGIN:DAYLIGHT
TZOFFSETFROM:-0500
TZOFFSETTO:-0400
TZNAME:EDT
DTSTART:20240310T070000
END:DAYLIGHT
BEGIN:STANDARD
TZOFFSETFROM:-0400
TZOFFSETTO:-0500
TZNAME:EST
DTSTART:20241103T060000
END:STANDARD
BEGIN:DAYLIGHT
TZOFFSETFROM:-0500
TZOFFSETTO:-0400
TZNAME:EDT
DTSTART:20250309T070000
END:DAYLIGHT
BEGIN:STANDARD
TZOFFSETFROM:-0400
TZOFFSETTO:-0500
TZNAME:EST
DTSTART:20251102T060000
END:STANDARD
END:VTIMEZONE
BEGIN:VEVENT
DTSTART;TZID=America/New_York:20241128T133000
DTEND;TZID=America/New_York:20241128T163000
DTSTAMP:20260420T042736
CREATED:20240430T174713Z
LAST-MODIFIED:20241117T164509Z
UID:10005440-1732800600-1732811400@uufcc.com
SUMMARY:UUFCC Thanksgiving Dinner 2024
DESCRIPTION:Join us for Thanksgiving Dinner! RSVP – click here\, or contact Helen Dempsey or Linda Eller.
URL:https://uufcc.com/event/uufcc-thanksgiving-dinner-2024/
LOCATION:UUFCC – Fellowship Hall\, 780 Waupelani Drive\, State College\, PA\, 16801\, United States
CATEGORIES:Event
ORGANIZER;CN="Unitarian Universalist Fellowship of Centre County":MAILTO:office@uufcc.com
END:VEVENT
BEGIN:VEVENT
DTSTART;TZID=America/New_York:20241128T153000
DTEND;TZID=America/New_York:20241128T180000
DTSTAMP:20260420T042736
CREATED:20240718T161006Z
LAST-MODIFIED:20240718T161006Z
UID:10005996-1732807800-1732816800@uufcc.com
SUMMARY:Folk Dancers
DESCRIPTION:Please join this group of folks passionate about dancing to international folk music. Explore different cultures through music and dance. \n*On 3rd Thursdays we ends at 5:30PM (in time for Fellowship Supper).
URL:https://uufcc.com/event/folk-dancers/2024-11-28/
LOCATION:UUFCC – Community Room\, 780 Waupelani Drive\, State College\, PA\, 16801\, United States
CATEGORIES:Meeting
ORGANIZER;CN="Unitarian Universalist Fellowship of Centre County":MAILTO:office@uufcc.com
END:VEVENT
BEGIN:VEVENT
DTSTART;TZID=America/New_York:20241128T183000
DTEND;TZID=America/New_York:20241128T193000
DTSTAMP:20260420T042736
CREATED:20240718T162311Z
LAST-MODIFIED:20240718T162311Z
UID:10006502-1732818600-1732822200@uufcc.com
SUMMARY:AA Meeting for Women
DESCRIPTION:Alcoholics Anonymous (AA) meeting. Open to any woman to walk in.
URL:https://uufcc.com/event/aa-meeting-for-women/2024-11-28/
LOCATION:UUFCC – Room A\, 780 Waupelani Drive\, State College\, PA\, 16801\, United States
END:VEVENT
BEGIN:VEVENT
DTSTART;TZID=America/New_York:20241128T190000
DTEND;TZID=America/New_York:20241128T210000
DTSTAMP:20260420T042736
CREATED:20240618T175945Z
LAST-MODIFIED:20240618T175946Z
UID:10009592-1732820400-1732827600@uufcc.com
SUMMARY:UUFCC Choir Rehearsal
DESCRIPTION:Performs for hymns and extra music during Sunday Services three times a month.
URL:https://uufcc.com/event/uufcc-choir-rehearsal-6/2024-11-28/
LOCATION:UUFCC – Sanctuary\, 780 Waupelani Drive\, State College\, PA\, 16801\, United States
CATEGORIES:Music
END:VEVENT
END:VCALENDAR