BEGIN:VCALENDAR
VERSION:2.0
PRODID:-//UUFCC - ECPv6.15.17//NONSGML v1.0//EN
CALSCALE:GREGORIAN
METHOD:PUBLISH
X-ORIGINAL-URL:https://uufcc.com
X-WR-CALDESC:Events for UUFCC
REFRESH-INTERVAL;VALUE=DURATION:PT1H
X-Robots-Tag:noindex
X-PUBLISHED-TTL:PT1H
BEGIN:VTIMEZONE
TZID:America/New_York
BEGIN:DAYLIGHT
TZOFFSETFROM:-0500
TZOFFSETTO:-0400
TZNAME:EDT
DTSTART:20240310T070000
END:DAYLIGHT
BEGIN:STANDARD
TZOFFSETFROM:-0400
TZOFFSETTO:-0500
TZNAME:EST
DTSTART:20241103T060000
END:STANDARD
BEGIN:DAYLIGHT
TZOFFSETFROM:-0500
TZOFFSETTO:-0400
TZNAME:EDT
DTSTART:20250309T070000
END:DAYLIGHT
BEGIN:STANDARD
TZOFFSETFROM:-0400
TZOFFSETTO:-0500
TZNAME:EST
DTSTART:20251102T060000
END:STANDARD
BEGIN:DAYLIGHT
TZOFFSETFROM:-0500
TZOFFSETTO:-0400
TZNAME:EDT
DTSTART:20260308T070000
END:DAYLIGHT
BEGIN:STANDARD
TZOFFSETFROM:-0400
TZOFFSETTO:-0500
TZNAME:EST
DTSTART:20261101T060000
END:STANDARD
END:VTIMEZONE
BEGIN:VEVENT
DTSTART;TZID=America/New_York:20250114T153000
DTEND;TZID=America/New_York:20250114T180000
DTSTAMP:20260423T214208
CREATED:20240718T161006Z
LAST-MODIFIED:20240718T161006Z
UID:10006009-1736868600-1736877600@uufcc.com
SUMMARY:Folk Dancers
DESCRIPTION:Please join this group of folks passionate about dancing to international folk music. Explore different cultures through music and dance. \n*On 3rd Thursdays we ends at 5:30PM (in time for Fellowship Supper).
URL:https://uufcc.com/event/folk-dancers/2025-01-14/
LOCATION:UUFCC – Community Room\, 780 Waupelani Drive\, State College\, PA\, 16801\, United States
CATEGORIES:Meeting
ORGANIZER;CN="Unitarian Universalist Fellowship of Centre County":MAILTO:office@uufcc.com
END:VEVENT
BEGIN:VEVENT
DTSTART;TZID=America/New_York:20250114T190000
DTEND;TZID=America/New_York:20250114T200000
DTSTAMP:20260423T214208
CREATED:20231105T153554Z
LAST-MODIFIED:20231105T153554Z
UID:10002656-1736881200-1736884800@uufcc.com
SUMMARY:Caring Committee
DESCRIPTION:
URL:https://uufcc.com/event/caring-committee/2025-01-14/
LOCATION:PA
CATEGORIES:Meeting,UUFCC Committee
ORGANIZER;CN="Unitarian Universalist Fellowship of Centre County":MAILTO:office@uufcc.com
END:VEVENT
BEGIN:VEVENT
DTSTART;TZID=America/New_York:20250114T190000
DTEND;TZID=America/New_York:20250114T210000
DTSTAMP:20260423T214208
CREATED:20250108T185239Z
LAST-MODIFIED:20250108T185239Z
UID:10008155-1736881200-1736888400@uufcc.com
SUMMARY:Community Event - "Tipping Points and the Big Picture on Climate and Energy"
DESCRIPTION:Dr. Richard Alley\, an Evan Pugh University Professor in the Department of Geosciences and leader of the Penn State Ice and Climate Research Center\, will present a talk on Tuesday\, January 14 at 7 pm at Foxdale. The well-documented risk of climate change is the potential of crossing thresholds called tipping points\, which could trigger rapid\, irreversible changes. Dr. Alley will describe potential tipping points and discuss the benefits of transitioning to a sustainable energy system in avoiding these thresholds. This lecture is open to the public.
URL:https://uufcc.com/event/community-event-tipping-points-and-the-big-picture-on-climate-and-energy/
LOCATION:Foxdale Auditorium\, 500 E Marylyn Ave\, State College\, 16801\, United States
CATEGORIES:Community Event
END:VEVENT
END:VCALENDAR