BEGIN:VCALENDAR
VERSION:2.0
PRODID:-//UUFCC - ECPv6.15.17//NONSGML v1.0//EN
CALSCALE:GREGORIAN
METHOD:PUBLISH
X-WR-CALNAME:UUFCC
X-ORIGINAL-URL:https://uufcc.com
X-WR-CALDESC:Events for UUFCC
REFRESH-INTERVAL;VALUE=DURATION:PT1H
X-Robots-Tag:noindex
X-PUBLISHED-TTL:PT1H
BEGIN:VTIMEZONE
TZID:America/New_York
BEGIN:DAYLIGHT
TZOFFSETFROM:-0500
TZOFFSETTO:-0400
TZNAME:EDT
DTSTART:20240310T070000
END:DAYLIGHT
BEGIN:STANDARD
TZOFFSETFROM:-0400
TZOFFSETTO:-0500
TZNAME:EST
DTSTART:20241103T060000
END:STANDARD
BEGIN:DAYLIGHT
TZOFFSETFROM:-0500
TZOFFSETTO:-0400
TZNAME:EDT
DTSTART:20250309T070000
END:DAYLIGHT
BEGIN:STANDARD
TZOFFSETFROM:-0400
TZOFFSETTO:-0500
TZNAME:EST
DTSTART:20251102T060000
END:STANDARD
BEGIN:DAYLIGHT
TZOFFSETFROM:-0500
TZOFFSETTO:-0400
TZNAME:EDT
DTSTART:20260308T070000
END:DAYLIGHT
BEGIN:STANDARD
TZOFFSETFROM:-0400
TZOFFSETTO:-0500
TZNAME:EST
DTSTART:20261101T060000
END:STANDARD
END:VTIMEZONE
BEGIN:VEVENT
DTSTART;TZID=America/New_York:20250511T093000
DTEND;TZID=America/New_York:20250511T130000
DTSTAMP:20260424T185841
CREATED:20231128T173327Z
LAST-MODIFIED:20231128T173552Z
UID:10003554-1746955800-1746968400@uufcc.com
SUMMARY:Child Care
DESCRIPTION:
URL:https://uufcc.com/event/child-care-2/2025-05-11/
LOCATION:UUFCC – Room C\, 780 Waupelani Drive\, State College\, PA\, 16801\, United States
CATEGORIES:Lifespan Religious Exploration,RE Kids & Youth,Young Kids
ORGANIZER;CN="Unitarian Universalist Fellowship of Centre County":MAILTO:office@uufcc.com
END:VEVENT
BEGIN:VEVENT
DTSTART;TZID=America/New_York:20250511T100000
DTEND;TZID=America/New_York:20250511T110000
DTSTAMP:20260424T185841
CREATED:20241203T195217Z
LAST-MODIFIED:20250119T160300Z
UID:10007766-1746957600-1746961200@uufcc.com
SUMMARY:RE 1st-5th Grade: "Love; You are love and you are loved"
DESCRIPTION:LEGO Values Workshop: 15 Value: Love Title: You are love and you are loved. Love is at the center of Unitarian Universalism.
URL:https://uufcc.com/event/re-1st-5th-grade-class-9/
LOCATION:UUFCC – Gathering Space\, 780 Waupelani Drive\, State College\, PA\, 16801\, United States
CATEGORIES:Lifespan Religious Exploration,RE Kids & Youth,Young Kids
ATTACH;FMTTYPE=image/png:https://uufcc.com/wp-content/uploads/2024/01/RE-Kids.png
END:VEVENT
BEGIN:VEVENT
DTSTART;TZID=America/New_York:20250511T100000
DTEND;TZID=America/New_York:20250511T110000
DTSTAMP:20260424T185841
CREATED:20250119T154404Z
LAST-MODIFIED:20250119T154420Z
UID:10007741-1746957600-1746961200@uufcc.com
SUMMARY:RE Pre-K/K: "Mother's Day & Flowers"
DESCRIPTION:Each week our kids will gather to explore our world in light of our UU values. \nPre-K/K friends will engage in guided exploration of various topics with their wonderful teachers. Sue Smith and Rocky Landers\, downstairs in Room D.
URL:https://uufcc.com/event/re-pre-k-kindergarten-9/
LOCATION:UUFCC – Gathering Space and Room D\, 780 Waupelani Drive\, State College\, PA\, 16801\, United States
CATEGORIES:Lifespan Religious Exploration,RE Kids & Youth,Young Kids
ATTACH;FMTTYPE=image/png:https://uufcc.com/wp-content/uploads/2024/01/RE-Pre-KK-Kids.png
ORGANIZER;CN="Unitarian Universalist Fellowship of Centre County":MAILTO:office@uufcc.com
END:VEVENT
BEGIN:VEVENT
DTSTART;TZID=America/New_York:20250511T100000
DTEND;TZID=America/New_York:20250511T110000
DTSTAMP:20260424T185841
CREATED:20250507T163217Z
LAST-MODIFIED:20250507T163324Z
UID:10007424-1746957600-1746961200@uufcc.com
SUMMARY:Sunday Service - "Nurturing Our Center"
DESCRIPTION:…with Rev. Tracy Sprowls.\n“When we tend our gardens with love and care\, the reward can be greater than the effort.” A service about Mother’s Day\, the uniquely UU ritual of the Flower Celebration\, and nurturing ourselves in times such as these. \nPlease bring a flower for the Flower Celebration. Mothers Day celebration in the Community Room after the service.
URL:https://uufcc.com/event/sunday-service-nurturing-our-center/
LOCATION:UUFCC – Sanctuary\, 780 Waupelani Drive\, State College\, PA\, 16801\, United States
CATEGORIES:Sunday Worship Service,Worship Service
ATTACH;FMTTYPE=image/jpeg:https://uufcc.com/wp-content/uploads/2025/05/May-11-nurturing-our-center.jpg
ORGANIZER;CN="Unitarian Universalist Fellowship of Centre County":MAILTO:office@uufcc.com
END:VEVENT
BEGIN:VEVENT
DTSTART;TZID=America/New_York:20250511T110000
DTEND;TZID=America/New_York:20250511T113000
DTSTAMP:20260424T185841
CREATED:20250427T142506Z
LAST-MODIFIED:20250427T142506Z
UID:10008991-1746961200-1746963000@uufcc.com
SUMMARY:Community Circle
DESCRIPTION:Are you concerned about our democracy? Feeling overwhelmed and stressed by current events? Please join others in the library every Sunday after the service from 11 to 11:30 or longer for sharing and mutual support (except the first Sunday).
URL:https://uufcc.com/event/community-circle/2025-05-11/
LOCATION:UUFCC – Minister’s Office\, 780 Waupelani Drive Ext.\, State College\, PA\, 16801\, United States
CATEGORIES:Meeting
ORGANIZER;CN="Unitarian Universalist Fellowship of Centre County":MAILTO:office@uufcc.com
END:VEVENT
BEGIN:VEVENT
DTSTART;TZID=America/New_York:20250511T111500
DTEND;TZID=America/New_York:20250511T120000
DTSTAMP:20260424T185841
CREATED:20250430T151749Z
LAST-MODIFIED:20250430T151806Z
UID:10005460-1746962100-1746964800@uufcc.com
SUMMARY:Getting to Know UU
DESCRIPTION:If you’re new or have questions\, come to the library and chat and learn!
URL:https://uufcc.com/event/getting-to-know-uu-2/
LOCATION:UUFCC – Library\, 780 Waupelani Drive\, State College\, PA\, 16801\, United States
CATEGORIES:Event,Interfaith
ORGANIZER;CN="Unitarian Universalist Fellowship of Centre County":MAILTO:office@uufcc.com
END:VEVENT
BEGIN:VEVENT
DTSTART;TZID=America/New_York:20250511T120000
DTEND;TZID=America/New_York:20250511T133000
DTSTAMP:20260424T185841
CREATED:20240911T175727Z
LAST-MODIFIED:20240911T175728Z
UID:10007006-1746964800-1746970200@uufcc.com
SUMMARY:UUFCC Jazz Band Rehearsal
DESCRIPTION:The UUFCC Jazz Band is open to all. Rehearsals occur on Sundays in the Sanctuary\, although occasionally the band may rehearse in Room 6 due to major church events. \nContact David Morris if interested.
URL:https://uufcc.com/event/uufcc-jazz-band-rehearsal-3/2025-05-11/
LOCATION:UUFCC – Sanctuary\, 780 Waupelani Drive\, State College\, PA\, 16801\, United States
CATEGORIES:Meeting,Music
ORGANIZER;CN="Unitarian Universalist Fellowship of Centre County":MAILTO:office@uufcc.com
END:VEVENT
END:VCALENDAR