BEGIN:VCALENDAR
VERSION:2.0
PRODID:-//UUFCC - ECPv6.15.17//NONSGML v1.0//EN
CALSCALE:GREGORIAN
METHOD:PUBLISH
X-ORIGINAL-URL:https://uufcc.com
X-WR-CALDESC:Events for UUFCC
REFRESH-INTERVAL;VALUE=DURATION:PT1H
X-Robots-Tag:noindex
X-PUBLISHED-TTL:PT1H
BEGIN:VTIMEZONE
TZID:America/New_York
BEGIN:DAYLIGHT
TZOFFSETFROM:-0500
TZOFFSETTO:-0400
TZNAME:EDT
DTSTART:20240310T070000
END:DAYLIGHT
BEGIN:STANDARD
TZOFFSETFROM:-0400
TZOFFSETTO:-0500
TZNAME:EST
DTSTART:20241103T060000
END:STANDARD
BEGIN:DAYLIGHT
TZOFFSETFROM:-0500
TZOFFSETTO:-0400
TZNAME:EDT
DTSTART:20250309T070000
END:DAYLIGHT
BEGIN:STANDARD
TZOFFSETFROM:-0400
TZOFFSETTO:-0500
TZNAME:EST
DTSTART:20251102T060000
END:STANDARD
BEGIN:DAYLIGHT
TZOFFSETFROM:-0500
TZOFFSETTO:-0400
TZNAME:EDT
DTSTART:20260308T070000
END:DAYLIGHT
BEGIN:STANDARD
TZOFFSETFROM:-0400
TZOFFSETTO:-0500
TZNAME:EST
DTSTART:20261101T060000
END:STANDARD
END:VTIMEZONE
BEGIN:VEVENT
DTSTART;TZID=America/New_York:20250914T093000
DTEND;TZID=America/New_York:20250914T130000
DTSTAMP:20260420T141329
CREATED:20250618T190652Z
LAST-MODIFIED:20250618T190655Z
UID:10003572-1757842200-1757854800@uufcc.com
SUMMARY:Child Care
DESCRIPTION:
URL:https://uufcc.com/event/child-care-2-2-2/2025-09-14/
LOCATION:UUFCC – Room C\, 780 Waupelani Drive\, State College\, PA\, 16801\, United States
CATEGORIES:Lifespan Religious Exploration,RE Kids & Youth,Young Kids
ORGANIZER;CN="Unitarian Universalist Fellowship of Centre County":MAILTO:office@uufcc.com
END:VEVENT
BEGIN:VEVENT
DTSTART;TZID=America/New_York:20250914T100000
DTEND;TZID=America/New_York:20250914T110000
DTSTAMP:20260420T141329
CREATED:20250903T161743Z
LAST-MODIFIED:20250903T161948Z
UID:10009990-1757844000-1757847600@uufcc.com
SUMMARY:Sunday Service - "A Blessing Called Sanctuary"
DESCRIPTION:with Rev. Tracy Sprowls. \nJan Richardson\, the writer\, artist\, and minister writes\, “You hardly knew how hungry you were to be gathered in\, to receive the welcome that invited you to enter entirely—nothing of you found foreign or strange\, nothing of your life that you were asked to leave behind or to carry in silence or in shame.” \nWe visit this theme often\, but this morning we go a little deeper into what sanctuary means in today’s political climate.
URL:https://uufcc.com/event/sunday-service-29/
LOCATION:UUFCC – Sanctuary\, 780 Waupelani Drive\, State College\, PA\, 16801\, United States
CATEGORIES:Sunday Worship Service,Worship Service
ATTACH;FMTTYPE=image/jpeg:https://uufcc.com/wp-content/uploads/2025/09/Sept-14-Sanctuary.jpg
ORGANIZER;CN="Unitarian Universalist Fellowship of Centre County":MAILTO:office@uufcc.com
END:VEVENT
BEGIN:VEVENT
DTSTART;TZID=America/New_York:20250914T100000
DTEND;TZID=America/New_York:20250914T110000
DTSTAMP:20260420T141329
CREATED:20250913T192529Z
LAST-MODIFIED:20250913T192529Z
UID:10010530-1757844000-1757847600@uufcc.com
SUMMARY:RE: Pre-K & K
DESCRIPTION:Each week our kids gather to explore our world in light of our UU values. Pre-K/K friends will engage in guided exploration of various topics with their wonderful teachers\, Sue Smith and Rocky Landers\, downstairs in Room D.
URL:https://uufcc.com/event/re-pre-k-k/2025-09-14/
LOCATION:Unitarian Universalist Fellowship of Centre County\, 780 Waupelani Drive\, State College\, PA\, 16801\, United States
CATEGORIES:Lifespan Religious Exploration,RE Kids & Youth,Young Kids
ORGANIZER;CN="Unitarian Universalist Fellowship of Centre County":MAILTO:office@uufcc.com
END:VEVENT
BEGIN:VEVENT
DTSTART;TZID=America/New_York:20250914T100000
DTEND;TZID=America/New_York:20250914T110000
DTSTAMP:20260420T141329
CREATED:20250913T193329Z
LAST-MODIFIED:20250913T193329Z
UID:10010791-1757844000-1757847600@uufcc.com
SUMMARY:RE: 1st-5th Grade
DESCRIPTION:1st through 5th grade kids explore UU Identity through our Article II values with Legos. In services led by Rev. Tracy Sprowls\, children remain in the Sanctuary until the Wisdom Lesson\, then go downstairs to class. In multigenerational services\, they stay for the entire service.
URL:https://uufcc.com/event/re-1st-5th-grade/
LOCATION:UUFCC – Sanctuary first\, then Gathering Space
CATEGORIES:Lifespan Religious Exploration,RE Kids & Youth,Young Kids
ORGANIZER;CN="Unitarian Universalist Fellowship of Centre County":MAILTO:office@uufcc.com
END:VEVENT
BEGIN:VEVENT
DTSTART;TZID=America/New_York:20250914T100000
DTEND;TZID=America/New_York:20250914T110000
DTSTAMP:20260420T141329
CREATED:20250913T193556Z
LAST-MODIFIED:20250913T193909Z
UID:10011052-1757844000-1757847600@uufcc.com
SUMMARY:RE: Middle School
DESCRIPTION:Middle School youth engage in UU Identity through themes each month and fun activities using our Soul Matters curriculum.  \nIn services led by Rev. Tracy Sprowls\, kids remain in the Sanctuary until the Wisdom Lesson\, then go to class. In multigenerational services\, they stay for the entire service.
URL:https://uufcc.com/event/re-middle-school/2025-09-14/
LOCATION:UUFCC – Sanctuary\, then Room 6\, 780 Waupelani Drive Ext.\, State College\, PA\, 16801\, United States
CATEGORIES:Lifespan Religious Exploration,Middle School Youth,RE Kids & Youth
ORGANIZER;CN="Unitarian Universalist Fellowship of Centre County":MAILTO:office@uufcc.com
END:VEVENT
BEGIN:VEVENT
DTSTART;TZID=America/New_York:20250914T100000
DTEND;TZID=America/New_York:20250914T110000
DTSTAMP:20260420T141329
CREATED:20250913T194240Z
LAST-MODIFIED:20250913T194240Z
UID:10011314-1757844000-1757847600@uufcc.com
SUMMARY:Music & Play
DESCRIPTION:For elementary ages\, led by Karen Maynard.
URL:https://uufcc.com/event/music-play-2/
LOCATION:UUFCC – Room B\, 780 Waupelani Drive\, State College\, PA\, 16801\, United States
CATEGORIES:Lifespan Religious Exploration,Young Kids
ORGANIZER;CN="Unitarian Universalist Fellowship of Centre County":MAILTO:office@uufcc.com
END:VEVENT
BEGIN:VEVENT
DTSTART;TZID=America/New_York:20250914T113000
DTEND;TZID=America/New_York:20250914T130000
DTSTAMP:20260420T141329
CREATED:20250913T194017Z
LAST-MODIFIED:20250913T194017Z
UID:10011313-1757849400-1757854800@uufcc.com
SUMMARY:RE Parent Orientation
DESCRIPTION:with Ashley and the LRE Committee –  for all parents (youth in all age groups including toddlers). Please plan to attend for important information for our RE Fellowship year.
URL:https://uufcc.com/event/re-parent-orientation/
LOCATION:UUFCC – Room 6\, 780 Waupelani Drive\, State College\, PA\, 16801\, United States
CATEGORIES:Adult RE,Lifespan Religious Exploration
ORGANIZER;CN="Unitarian Universalist Fellowship of Centre County":MAILTO:office@uufcc.com
END:VEVENT
BEGIN:VEVENT
DTSTART;TZID=America/New_York:20250914T120000
DTEND;TZID=America/New_York:20250914T133000
DTSTAMP:20260420T141329
CREATED:20240911T175727Z
LAST-MODIFIED:20240911T175728Z
UID:10007024-1757851200-1757856600@uufcc.com
SUMMARY:UUFCC Jazz Band Rehearsal
DESCRIPTION:The UUFCC Jazz Band is open to all. Rehearsals occur on Sundays in the Sanctuary\, although occasionally the band may rehearse in Room 6 due to major church events. \nContact David Morris if interested.
URL:https://uufcc.com/event/uufcc-jazz-band-rehearsal-3/2025-09-14/
LOCATION:UUFCC – Sanctuary\, 780 Waupelani Drive\, State College\, PA\, 16801\, United States
CATEGORIES:Meeting,Music
ORGANIZER;CN="Unitarian Universalist Fellowship of Centre County":MAILTO:office@uufcc.com
END:VEVENT
BEGIN:VEVENT
DTSTART;TZID=America/New_York:20250914T183000
DTEND;TZID=America/New_York:20250914T200000
DTSTAMP:20260420T141329
CREATED:20250813T150836Z
LAST-MODIFIED:20250813T150836Z
UID:10010436-1757874600-1757880000@uufcc.com
SUMMARY:OWL: 7th-9th Grade
DESCRIPTION:
URL:https://uufcc.com/event/owl-7th-9th-grade/2025-09-14/
LOCATION:Unitarian Universalist Fellowship of Centre County\, 780 Waupelani Drive\, State College\, PA\, 16801\, United States
CATEGORIES:Lifespan Religious Exploration,Middle School Youth,RE Kids & Youth
ORGANIZER;CN="Unitarian Universalist Fellowship of Centre County":MAILTO:office@uufcc.com
END:VEVENT
BEGIN:VEVENT
DTSTART;TZID=America/New_York:20250914T183000
DTEND;TZID=America/New_York:20250914T200000
DTSTAMP:20260420T141329
CREATED:20250813T150956Z
LAST-MODIFIED:20250813T150956Z
UID:10010450-1757874600-1757880000@uufcc.com
SUMMARY:OWL: 10th-12th Grade
DESCRIPTION:
URL:https://uufcc.com/event/owl-10th-12th-grade/2025-09-14/
LOCATION:Unitarian Universalist Fellowship of Centre County\, 780 Waupelani Drive\, State College\, PA\, 16801\, United States
CATEGORIES:High School Youth,Lifespan Religious Exploration,RE Kids & Youth
ORGANIZER;CN="Unitarian Universalist Fellowship of Centre County":MAILTO:office@uufcc.com
END:VEVENT
END:VCALENDAR