BEGIN:VCALENDAR
VERSION:2.0
PRODID:-//UUFCC - ECPv6.15.17//NONSGML v1.0//EN
CALSCALE:GREGORIAN
METHOD:PUBLISH
X-ORIGINAL-URL:https://uufcc.com
X-WR-CALDESC:Events for UUFCC
REFRESH-INTERVAL;VALUE=DURATION:PT1H
X-Robots-Tag:noindex
X-PUBLISHED-TTL:PT1H
BEGIN:VTIMEZONE
TZID:America/New_York
BEGIN:DAYLIGHT
TZOFFSETFROM:-0500
TZOFFSETTO:-0400
TZNAME:EDT
DTSTART:20240310T070000
END:DAYLIGHT
BEGIN:STANDARD
TZOFFSETFROM:-0400
TZOFFSETTO:-0500
TZNAME:EST
DTSTART:20241103T060000
END:STANDARD
BEGIN:DAYLIGHT
TZOFFSETFROM:-0500
TZOFFSETTO:-0400
TZNAME:EDT
DTSTART:20250309T070000
END:DAYLIGHT
BEGIN:STANDARD
TZOFFSETFROM:-0400
TZOFFSETTO:-0500
TZNAME:EST
DTSTART:20251102T060000
END:STANDARD
BEGIN:DAYLIGHT
TZOFFSETFROM:-0500
TZOFFSETTO:-0400
TZNAME:EDT
DTSTART:20260308T070000
END:DAYLIGHT
BEGIN:STANDARD
TZOFFSETFROM:-0400
TZOFFSETTO:-0500
TZNAME:EST
DTSTART:20261101T060000
END:STANDARD
END:VTIMEZONE
BEGIN:VEVENT
DTSTART;TZID=America/New_York:20250917T190000
DTEND;TZID=America/New_York:20250917T203000
DTSTAMP:20260423T013757
CREATED:20250910T164251Z
LAST-MODIFIED:20250910T164251Z
UID:10010529-1758135600-1758141000@uufcc.com
SUMMARY:Community Event - "The Global Effect of Climate Change on Human Health"
DESCRIPTION:With guest speaker Dr. Brian King. \nSee the flier here. \nDr. Brian King is Professor and Head of the Department of Geography at Penn State. His research\, teaching\, and outreach focus on livelihoods\, conservation and development\, environmental change\, and human health. He holds affiliations across the university\, including with the Population Research Institute\, the Earth and Environmental Systems Institute\, the School of International Affairs\, and the Consortium to Combat Substance Abuse. \nDr. King is also an honorary research associate with the African Climate and Development Initiative at the University of Cape Town and was selected as a National Academy of Sciences Kavli Fellow in 2017. In addition\, he serves as the Nature and Society editor for The Annals of the American Association of Geographers. \nIn this talk\, Dr. King will examine how climate change is reshaping human health\, from heat exposure and food insecurity to extreme weather events\, with attention to uneven impacts and community resilience. \nThis program is free and open to the public.
URL:https://uufcc.com/event/community-event-the-global-effect-of-climate-change-on-human-health/
LOCATION:Foxdale Auditorium\, 500 E Marylyn Ave\, State College\, 16801\, United States
CATEGORIES:Community Event
ATTACH;FMTTYPE=image/jpeg:https://uufcc.com/wp-content/uploads/2025/09/Screenshot-2025-09-10-at-12.41.52-PM.jpg
END:VEVENT
END:VCALENDAR