BEGIN:VCALENDAR
VERSION:2.0
PRODID:-//UUFCC - ECPv6.15.17//NONSGML v1.0//EN
CALSCALE:GREGORIAN
METHOD:PUBLISH
X-WR-CALNAME:UUFCC
X-ORIGINAL-URL:https://uufcc.com
X-WR-CALDESC:Events for UUFCC
REFRESH-INTERVAL;VALUE=DURATION:PT1H
X-Robots-Tag:noindex
X-PUBLISHED-TTL:PT1H
BEGIN:VTIMEZONE
TZID:America/New_York
BEGIN:DAYLIGHT
TZOFFSETFROM:-0500
TZOFFSETTO:-0400
TZNAME:EDT
DTSTART:20240310T070000
END:DAYLIGHT
BEGIN:STANDARD
TZOFFSETFROM:-0400
TZOFFSETTO:-0500
TZNAME:EST
DTSTART:20241103T060000
END:STANDARD
BEGIN:DAYLIGHT
TZOFFSETFROM:-0500
TZOFFSETTO:-0400
TZNAME:EDT
DTSTART:20250309T070000
END:DAYLIGHT
BEGIN:STANDARD
TZOFFSETFROM:-0400
TZOFFSETTO:-0500
TZNAME:EST
DTSTART:20251102T060000
END:STANDARD
BEGIN:DAYLIGHT
TZOFFSETFROM:-0500
TZOFFSETTO:-0400
TZNAME:EDT
DTSTART:20260308T070000
END:DAYLIGHT
BEGIN:STANDARD
TZOFFSETFROM:-0400
TZOFFSETTO:-0500
TZNAME:EST
DTSTART:20261101T060000
END:STANDARD
END:VTIMEZONE
BEGIN:VEVENT
DTSTART;TZID=America/New_York:20251002T190000
DTEND;TZID=America/New_York:20251002T220000
DTSTAMP:20260424T225914
CREATED:20251002T174347Z
LAST-MODIFIED:20251002T174347Z
UID:10012164-1759431600-1759442400@uufcc.com
SUMMARY:Community Event - Foxdale Multicultural Film Festival: Killers of the Flower Moon (2023)
DESCRIPTION:Set in 1920s Oklahoma\, this film tells the true story of a corrupt political boss who orchestrates the murders of oil-rich Osage Nation members\, manipulating his nephew into betraying his Osage wife until the Bureau of Investigation uncovers the conspiracy. It is a haunting tale of greed\, betrayal\, and injustice. (3 hrs. 26 min.\, R) \nThis film will be shown in two parts: Part One on Thursday\, October 2\, and Part Two on Friday\, October 3. \nThe Multicultural Film Festival is free and open to the public.
URL:https://uufcc.com/event/community-event-foxdale-multicultural-film-festival-killers-of-the-flower-moon-2023/
LOCATION:Foxdale Auditorium\, 500 E Marylyn Ave\, State College\, 16801\, United States
CATEGORIES:Community Event
END:VEVENT
END:VCALENDAR