BEGIN:VCALENDAR
VERSION:2.0
PRODID:-//UUFCC - ECPv6.15.17//NONSGML v1.0//EN
CALSCALE:GREGORIAN
METHOD:PUBLISH
X-WR-CALNAME:UUFCC
X-ORIGINAL-URL:https://uufcc.com
X-WR-CALDESC:Events for UUFCC
REFRESH-INTERVAL;VALUE=DURATION:PT1H
X-Robots-Tag:noindex
X-PUBLISHED-TTL:PT1H
BEGIN:VTIMEZONE
TZID:America/New_York
BEGIN:DAYLIGHT
TZOFFSETFROM:-0500
TZOFFSETTO:-0400
TZNAME:EDT
DTSTART:20240310T070000
END:DAYLIGHT
BEGIN:STANDARD
TZOFFSETFROM:-0400
TZOFFSETTO:-0500
TZNAME:EST
DTSTART:20241103T060000
END:STANDARD
BEGIN:DAYLIGHT
TZOFFSETFROM:-0500
TZOFFSETTO:-0400
TZNAME:EDT
DTSTART:20250309T070000
END:DAYLIGHT
BEGIN:STANDARD
TZOFFSETFROM:-0400
TZOFFSETTO:-0500
TZNAME:EST
DTSTART:20251102T060000
END:STANDARD
BEGIN:DAYLIGHT
TZOFFSETFROM:-0500
TZOFFSETTO:-0400
TZNAME:EDT
DTSTART:20260308T070000
END:DAYLIGHT
BEGIN:STANDARD
TZOFFSETFROM:-0400
TZOFFSETTO:-0500
TZNAME:EST
DTSTART:20261101T060000
END:STANDARD
END:VTIMEZONE
BEGIN:VEVENT
DTSTART;TZID=America/New_York:20251008T120000
DTEND;TZID=America/New_York:20251008T130000
DTSTAMP:20260421T044141
CREATED:20250716T172931Z
LAST-MODIFIED:20250716T172931Z
UID:10010124-1759924800-1759928400@uufcc.com
SUMMARY:Centre County Interfaith Coalition for Gun Safety
DESCRIPTION:
URL:https://uufcc.com/event/centre-county-interfaith-coalition-for-gun-safety-3/2025-10-08/
LOCATION:UUFCC – Fellowship Hall\, 780 Waupelani Drive\, State College\, PA\, 16801\, United States
CATEGORIES:Community Event,Interfaith
END:VEVENT
BEGIN:VEVENT
DTSTART;TZID=America/New_York:20251010T190000
DTEND;TZID=America/New_York:20251010T220000
DTSTAMP:20260421T044141
CREATED:20251002T174738Z
LAST-MODIFIED:20251002T174738Z
UID:10012165-1760122800-1760133600@uufcc.com
SUMMARY:Community Event - Foxdale Multicultural Film Festival: "Who is Dayani Cristal?" (2013)
DESCRIPTION:This film is a powerful documentary that traces the journey of a migrant whose body is found in the Arizona desert\, prompting an investigation into his identity and the broader human cost of immigration. Starring Gael García Bernal\, the film combines forensics and reenactments to reveal migrant hardships. (1 hr. 54 min.\, R) \nThe Multicultural Film Festival is free and open to the public.
URL:https://uufcc.com/event/community-event-foxdale-multicultural-film-festival-who-is-dayani-cristal-2013/
LOCATION:Foxdale Auditorium\, 500 E Marylyn Ave\, State College\, 16801\, United States
CATEGORIES:Community Event
END:VEVENT
BEGIN:VEVENT
DTSTART;TZID=America/New_York:20251011T100000
DTEND;TZID=America/New_York:20251011T120000
DTSTAMP:20260421T044141
CREATED:20251009T145222Z
LAST-MODIFIED:20251009T145507Z
UID:10012218-1760176800-1760184000@uufcc.com
SUMMARY:Community Event: "Kickball & Queens\, a coming out kickball klassic tourney"
DESCRIPTION:Come join us on National Coming Out Day for a cookout and kickball with the State Queens and other teams! \n\n\nSaturday October 11th\, with kickoff at 10:00am \n\n\nLocation: Tudek Park 400 Herman Drive
URL:https://uufcc.com/event/__trashed/
LOCATION:Tudek Park\, 400 Herman Drive\, State College\, 16803\, United States
CATEGORIES:Community Event
ATTACH;FMTTYPE=image/jpeg:https://uufcc.com/wp-content/uploads/2025/10/Multicultural-Unity-Fair-4-1.jpg
END:VEVENT
END:VCALENDAR