BEGIN:VCALENDAR
VERSION:2.0
PRODID:-//UUFCC - ECPv6.15.17//NONSGML v1.0//EN
CALSCALE:GREGORIAN
METHOD:PUBLISH
X-ORIGINAL-URL:https://uufcc.com
X-WR-CALDESC:Events for UUFCC
REFRESH-INTERVAL;VALUE=DURATION:PT1H
X-Robots-Tag:noindex
X-PUBLISHED-TTL:PT1H
BEGIN:VTIMEZONE
TZID:America/New_York
BEGIN:DAYLIGHT
TZOFFSETFROM:-0500
TZOFFSETTO:-0400
TZNAME:EDT
DTSTART:20240310T070000
END:DAYLIGHT
BEGIN:STANDARD
TZOFFSETFROM:-0400
TZOFFSETTO:-0500
TZNAME:EST
DTSTART:20241103T060000
END:STANDARD
BEGIN:DAYLIGHT
TZOFFSETFROM:-0500
TZOFFSETTO:-0400
TZNAME:EDT
DTSTART:20250309T070000
END:DAYLIGHT
BEGIN:STANDARD
TZOFFSETFROM:-0400
TZOFFSETTO:-0500
TZNAME:EST
DTSTART:20251102T060000
END:STANDARD
BEGIN:DAYLIGHT
TZOFFSETFROM:-0500
TZOFFSETTO:-0400
TZNAME:EDT
DTSTART:20260308T070000
END:DAYLIGHT
BEGIN:STANDARD
TZOFFSETFROM:-0400
TZOFFSETTO:-0500
TZNAME:EST
DTSTART:20261101T060000
END:STANDARD
END:VTIMEZONE
BEGIN:VEVENT
DTSTART;TZID=America/New_York:20251026T130000
DTEND;TZID=America/New_York:20251026T150000
DTSTAMP:20260421T082614
CREATED:20251008T182447Z
LAST-MODIFIED:20251008T182613Z
UID:10012191-1761483600-1761490800@uufcc.com
SUMMARY:Community Event: Equal Rights Equal Care Rally
DESCRIPTION:For the first time in over a decade\, LGBTQIA+ Communities & Allies unite to march on Harrisburg to demand the protection of our rights and healthcare! The March begins to the Capitol Building in Harrisburg at 1pm. The Rally continues at the Capitol Steps at 2pm. \nSign up to receive updates: www.linktr.ee/ERECPA
URL:https://uufcc.com/event/community-event-equal-rights-equal-care-rally/
LOCATION:Harrisburg Capitol Building\, 501 N 3rd St\, Harrisburg\, PA\, 17120\, United States
CATEGORIES:Community Event
ATTACH;FMTTYPE=image/jpeg:https://uufcc.com/wp-content/uploads/2025/10/Screenshot-2025-10-08-at-2.25.54-PM.jpg
END:VEVENT
BEGIN:VEVENT
DTSTART;TZID=America/New_York:20251026T160000
DTEND;TZID=America/New_York:20251026T173000
DTSTAMP:20260421T082614
CREATED:20251015T230846Z
LAST-MODIFIED:20251015T230846Z
UID:10012227-1761494400-1761499800@uufcc.com
SUMMARY:Community Event: State College Choral Society - Luck\, Laughter\, and Love (State College)
DESCRIPTION:We are excited to be joining forces with the Williamsport Symphony Orchestra to open the 77th season of the State College Choral Society with the perennial favorite\, Carl Orff’s Carmina Burana. Inspired by a collection of Medieval poetry from southern Germany\, Orff composed the music in 1935 in a style purposefully much simpler and more tonal than his contemporaries Schoenberg and Stravinsky.  The poetry’s focus on the fickleness of luck\, life in the tavern\, and the thrill of springtime and love\, are as relevant today as when they were written nearly one thousand years ago.  The iconic music of Carmina Burana remains a mainstay popular culture today\, as is heard in commercials and athletic events. \nVisit the State College Choral Society’s website to find links to tickets: scchoralsociety.org/this-season
URL:https://uufcc.com/event/community-event-state-college-choral-society-luck-laughter-and-love-state-college/
LOCATION:State College Area High School Performance Hall\, 650 Westerly Pkwy\, State College\, PA\, 16801\, United States
CATEGORIES:Community Event
END:VEVENT
BEGIN:VEVENT
DTSTART;TZID=America/New_York:20251026T170000
DTEND;TZID=America/New_York:20251026T203000
DTSTAMP:20260421T082614
CREATED:20250917T165048Z
LAST-MODIFIED:20250917T165117Z
UID:10011662-1761498000-1761510600@uufcc.com
SUMMARY:Community Event: United Nations Day Celebration Dinner
DESCRIPTION:“The Hard Way Home: A Conversation about Global Migration” \n\nSocial Hour (5-6pm)\nWelcome of international guests\nPanelist-led conversation and dinner
URL:https://uufcc.com/event/community-event-united-nations-day-celebration-dinner/
LOCATION:Graduate by Hilton\, 125 S. Atherton St\, State College\, PA\, 16801\, United States
CATEGORIES:Community Event
ATTACH;FMTTYPE=image/jpeg:https://uufcc.com/wp-content/uploads/2025/09/FINAL-VERSION.jpg
END:VEVENT
END:VCALENDAR