BEGIN:VCALENDAR
VERSION:2.0
PRODID:-//UUFCC - ECPv6.15.17//NONSGML v1.0//EN
CALSCALE:GREGORIAN
METHOD:PUBLISH
X-ORIGINAL-URL:https://uufcc.com
X-WR-CALDESC:Events for UUFCC
REFRESH-INTERVAL;VALUE=DURATION:PT1H
X-Robots-Tag:noindex
X-PUBLISHED-TTL:PT1H
BEGIN:VTIMEZONE
TZID:America/New_York
BEGIN:DAYLIGHT
TZOFFSETFROM:-0500
TZOFFSETTO:-0400
TZNAME:EDT
DTSTART:20230312T070000
END:DAYLIGHT
BEGIN:STANDARD
TZOFFSETFROM:-0400
TZOFFSETTO:-0500
TZNAME:EST
DTSTART:20231105T060000
END:STANDARD
BEGIN:DAYLIGHT
TZOFFSETFROM:-0500
TZOFFSETTO:-0400
TZNAME:EDT
DTSTART:20240310T070000
END:DAYLIGHT
BEGIN:STANDARD
TZOFFSETFROM:-0400
TZOFFSETTO:-0500
TZNAME:EST
DTSTART:20241103T060000
END:STANDARD
BEGIN:DAYLIGHT
TZOFFSETFROM:-0500
TZOFFSETTO:-0400
TZNAME:EDT
DTSTART:20250309T070000
END:DAYLIGHT
BEGIN:STANDARD
TZOFFSETFROM:-0400
TZOFFSETTO:-0500
TZNAME:EST
DTSTART:20251102T060000
END:STANDARD
END:VTIMEZONE
BEGIN:VEVENT
DTSTART;TZID=America/New_York:20240504T180000
DTEND;TZID=America/New_York:20240504T220000
DTSTAMP:20260421T173330
CREATED:20231021T172516Z
LAST-MODIFIED:20240401T162826Z
UID:10000664-1714845600-1714860000@uufcc.com
SUMMARY:At Your Service Auction 2024 Mardi Gras
DESCRIPTION:Mardi Gras in May Auction is in need of your Time\, Talent and Treasures. The UUFCC will be hosting the annual Auction online starting April 28th with a transition to a live event May 4th at 6:00 pm.\nClick here to register for the online portion of the Auction. \nDonate your time\, talent\, and treasures by filling out this form and dropping it in the box at the fellowship or emailing it and any questions to uufccauction@gmail.com. You can also check with local businesses or friends to see if they would like to donate as well. \nChildcare will be provided and we are looking for volunteers to help with food for the auction and setup/clean up. Signup will be in the community room on Sundays after service. \nAny questions or concerns please contact Bonnie Rossi 540-834-7060.
URL:https://uufcc.com/event/uufcc-auction-2024/
LOCATION:Unitarian Universalist Fellowship of Centre County\, 780 Waupelani Drive\, State College\, PA\, 16801\, United States
CATEGORIES:Event
ATTACH;FMTTYPE=image/png:https://uufcc.com/wp-content/uploads/2023/10/flyer.png
ORGANIZER;CN="Unitarian Universalist Fellowship of Centre County":MAILTO:office@uufcc.com
END:VEVENT
BEGIN:VEVENT
DTSTART;TZID=America/New_York:20240505T111500
DTEND;TZID=America/New_York:20240505T120000
DTSTAMP:20260421T173330
CREATED:20240430T181159Z
LAST-MODIFIED:20240430T181159Z
UID:10005448-1714907700-1714910400@uufcc.com
SUMMARY:Getting to Know UU
DESCRIPTION:If you’re new or have questions\, come to the library and chat and learn!
URL:https://uufcc.com/event/getting-to-know-uu/2024-05-05/
LOCATION:UUFCC – Library\, 780 Waupelani Drive\, State College\, PA\, 16801\, United States
CATEGORIES:Event,Interfaith
ORGANIZER;CN="Unitarian Universalist Fellowship of Centre County":MAILTO:office@uufcc.com
END:VEVENT
BEGIN:VEVENT
DTSTART;TZID=America/New_York:20240505T113000
DTEND;TZID=America/New_York:20240505T130000
DTSTAMP:20260421T173330
CREATED:20240213T230902Z
LAST-MODIFIED:20240213T231004Z
UID:10005185-1714908600-1714914000@uufcc.com
SUMMARY:Chat Cafe with the Board
DESCRIPTION:Come share your thoughts\, concerns\, and questions with our UUFCC Board members! They desire to be transparent in all their decision-making and would love to hear feedback\, input\, and just engage in conversation with you.
URL:https://uufcc.com/event/chat-cafe-with-the-board/2024-05-05/
LOCATION:UUFCC – Room A\, 780 Waupelani Drive\, State College\, PA\, 16801\, United States
CATEGORIES:Event
ATTACH;FMTTYPE=image/png:https://uufcc.com/wp-content/uploads/2024/02/Chat-Cafe.png
ORGANIZER;CN="Unitarian Universalist Fellowship of Centre County":MAILTO:office@uufcc.com
END:VEVENT
BEGIN:VEVENT
DTSTART;TZID=America/New_York:20240507T071500
DTEND;TZID=America/New_York:20240507T143000
DTSTAMP:20260421T173330
CREATED:20240423T143452Z
LAST-MODIFIED:20240425T195718Z
UID:10005429-1715066100-1715092200@uufcc.com
SUMMARY:Community Event - End Gun Violence Advocacy Day and Carpooling
DESCRIPTION:End Gun Violence Advocacy Day \nLast year\, 500 Pennsylvanians descended on Harrisburg\, demanding an end to gun violence. Soon after\, the first bipartisan policies in years passed the PA House. \nJoin us on Tuesday\, May 7th as we continue our life-saving work\, use this link to register https://act.ceasefirepa.org/a/advocacyday24?ms=CCIC4GS. \nSchedule: \n9:00 – 9:30 AM: Arrive in Harrisburg\, Check-In \n10:00 – 11:45 AM: Advocacy Meetings & Drop-Bys with Legislative Offices (meetings scheduled on your behalf) \n12:00 – 1:00 PM: End Gun Violence Rally/Press Event on the Front Steps of the Capitol (tentative timing) \nCarpooling: Meet at UUFCC at 7:15 am to carpool down to Harrisburg \nPlease contact Ashley Hamlin (ahamlin@uufcc.com\, 509-339-9389) to RSVP by Monday\, May 6 \n\nCan you drive and how many people does your car hold?\nDo you need a ride?
URL:https://uufcc.com/event/community-event-end-gun-violence-advocacy-day/
LOCATION:PA
CATEGORIES:Community Event,Event,Interfaith
ATTACH;FMTTYPE=image/png:https://uufcc.com/wp-content/uploads/2024/04/pa-advocacy-may-7-2024.png
END:VEVENT
BEGIN:VEVENT
DTSTART;TZID=America/New_York:20240512T110000
DTEND;TZID=America/New_York:20240512T120000
DTSTAMP:20260421T173330
CREATED:20240506T212702Z
LAST-MODIFIED:20240506T212702Z
UID:10005578-1715511600-1715515200@uufcc.com
SUMMARY:Mother's Day Pancake Breakfast ~ Youth Fundraiser
DESCRIPTION:Enjoy fresh made pancakes after the service on Mother’s Day. The youth will be selling pancakes to help raise funds for their Urban Work Service Trip\, so please support their important effort!
URL:https://uufcc.com/event/mothers-day-pancake-breakfast-youth-fundraiser/
LOCATION:UUFCC – Fellowship Hall\, 780 Waupelani Drive\, State College\, PA\, 16801\, United States
CATEGORIES:Event,High School Youth
ATTACH;FMTTYPE=image/png:https://uufcc.com/wp-content/uploads/2024/05/Pancake-Breakfast.png
ORGANIZER;CN="Unitarian Universalist Fellowship of Centre County":MAILTO:office@uufcc.com
END:VEVENT
BEGIN:VEVENT
DTSTART;TZID=America/New_York:20240513T150000
DTEND;TZID=America/New_York:20240513T160000
DTSTAMP:20260421T173330
CREATED:20240327T180455Z
LAST-MODIFIED:20240327T180456Z
UID:10005250-1715612400-1715616000@uufcc.com
SUMMARY:Centre County Interfaith Coalition for Gun Safety
DESCRIPTION:The Centre County Interfaith Coalition for Gun Safety is an alliance of local religious leaders and community members committed to building a peaceful society free from preventable gun violence. Through our work\, we educate on issues related to gun violence\, advocate for responsible and safe gun ownership\, and unite with local\, state\, and federal officials on matters of gun safety that benefit the whole community.
URL:https://uufcc.com/event/ccicgs-2-2/2024-05-13/
LOCATION:UUFCC – Fellowship Hall\, 780 Waupelani Drive\, State College\, PA\, 16801\, United States
CATEGORIES:Event,Interfaith
ATTACH;FMTTYPE=image/jpeg:https://uufcc.com/wp-content/uploads/2024/01/CCIC4GS-Blue-Logo.jpg
ORGANIZER;CN="Centre Couny Interfaith Coalition for Gun Safety":MAILTO:interfaith4gs@gmail.com
END:VEVENT
BEGIN:VEVENT
DTSTART;TZID=America/New_York:20240516T180000
DTEND;TZID=America/New_York:20240516T190000
DTSTAMP:20260421T173330
CREATED:20240309T054252Z
LAST-MODIFIED:20240309T054253Z
UID:10001813-1715882400-1715886000@uufcc.com
SUMMARY:Fellowship Supper
DESCRIPTION:Join us for a community potluck each month in Fellowship Hall! This is a wonderful time out to connect with UUFCC friends\, eat a delicious meal\, and celebrate birthdays of the month.
URL:https://uufcc.com/event/fellowship-suppers-3/2024-05-16/
LOCATION:UUFCC – Fellowship Hall\, 780 Waupelani Drive\, State College\, PA\, 16801\, United States
CATEGORIES:Event
ATTACH;FMTTYPE=image/jpeg:https://uufcc.com/wp-content/uploads/2024/03/Fellowship-Supper.jpg
ORGANIZER;CN="Unitarian Universalist Fellowship of Centre County":MAILTO:office@uufcc.com
END:VEVENT
BEGIN:VEVENT
DTSTART;TZID=America/New_York:20240516T190000
DTEND;TZID=America/New_York:20240516T200000
DTSTAMP:20260421T173330
CREATED:20240117T020932Z
LAST-MODIFIED:20240121T154419Z
UID:10001568-1715886000-1715889600@uufcc.com
SUMMARY:Wheel of the Year - May
DESCRIPTION:Theme: Pluralism \nBeltane- Fertility\, Joy\, pleasure\, creativity \nRitual: Ribbon Tree Ritual
URL:https://uufcc.com/event/wheel-of-the-year-6/
LOCATION:UUFCC – Fellowship Hall\, 780 Waupelani Drive\, State College\, PA\, 16801\, United States
CATEGORIES:Event,Interfaith Ritual,Intergenerational RE,Lifespan Religious Exploration,Worship Service
ATTACH;FMTTYPE=image/png:https://uufcc.com/wp-content/uploads/2023/10/May.png
ORGANIZER;CN="Unitarian Universalist Fellowship of Centre County":MAILTO:office@uufcc.com
END:VEVENT
BEGIN:VEVENT
DTSTART;TZID=America/New_York:20240517T120000
DTEND;TZID=America/New_York:20240517T130000
DTSTAMP:20260421T173330
CREATED:20240112T180324Z
LAST-MODIFIED:20240112T180331Z
UID:10004674-1715947200-1715950800@uufcc.com
SUMMARY:Lunch with Tracy
DESCRIPTION:Bring your lunch and hang out with Rev. Tracy for an hour of conversation. All ages are welcome!
URL:https://uufcc.com/event/lunch-with-tracy-3/
LOCATION:Unitarian Universalist Fellowship of Centre County\, 780 Waupelani Drive\, State College\, PA\, 16801\, United States
CATEGORIES:Event
ATTACH;FMTTYPE=image/png:https://uufcc.com/wp-content/uploads/2023/10/Lunch-with-Rev.-Tracy.png
END:VEVENT
BEGIN:VEVENT
DTSTART;TZID=America/New_York:20240522T173000
DTEND;TZID=America/New_York:20240522T180000
DTSTAMP:20260421T173330
CREATED:20240521T184548Z
LAST-MODIFIED:20240521T185556Z
UID:10005606-1716399000-1716400800@uufcc.com
SUMMARY:Pride 2024 Weekly Prep Meeting
DESCRIPTION:We need help with a float\, the booth\, and lots of friendly volunteers to greet folks! Fill this form out to volunteer. \nWeekly Zoom meeting Wednesday at 5:30. Join one or all to get up-to-date info and share ideas. Use the Zoom link on this page to join Zoom. \nThis is in preparation for participating in State College Pride on June 8th\, 2024.
URL:https://uufcc.com/event/pride-2024-weekly-prep-meeting/2024-05-22/
LOCATION:PA
CATEGORIES:Event,Interfaith,Meeting
ATTACH;FMTTYPE=image/png:https://uufcc.com/wp-content/uploads/2024/05/State-College-Pride.png
ORGANIZER;CN="Unitarian Universalist Fellowship of Centre County":MAILTO:office@uufcc.com
END:VEVENT
BEGIN:VEVENT
DTSTART;TZID=America/New_York:20240526T113000
DTEND;TZID=America/New_York:20240526T130000
DTSTAMP:20260421T173330
CREATED:20240509T145744Z
LAST-MODIFIED:20240522T174845Z
UID:10005599-1716723000-1716728400@uufcc.com
SUMMARY:Workshop for Lay-led Summer Services 2024
DESCRIPTION:Run by the Worship Committee.\nDo you have an idea for a summer Worship Service that’s been percolating in your brain?\nCome to our one hour workshop and  learn how to craft your ideas into a service to share during the months of July\, August\, or other Sundays throughout the year. You will be supported by a Worship Associate from the Worship Committee. We’ll discuss how to put together a service that speaks to both the head and the heart\, including the music\, readings\, poems\, sharings\, and more!\nQuestions?  Contact Elaine Jurs\, emjurs@gmail.com. Please let Elaine know if you plan to attend the workshop.
URL:https://uufcc.com/event/workshop-for-lay-led-summer-services-2024/
LOCATION:UUFCC – Room 6\, 780 Waupelani Drive\, State College\, PA\, 16801\, United States
CATEGORIES:Event,UUFCC Committee
ATTACH;FMTTYPE=image/png:https://uufcc.com/wp-content/uploads/2024/05/Workshop.png
ORGANIZER;CN="Unitarian Universalist Fellowship of Centre County":MAILTO:office@uufcc.com
END:VEVENT
BEGIN:VEVENT
DTSTART;TZID=America/New_York:20240529T173000
DTEND;TZID=America/New_York:20240529T180000
DTSTAMP:20260421T173330
CREATED:20240521T184548Z
LAST-MODIFIED:20240521T185556Z
UID:10005607-1717003800-1717005600@uufcc.com
SUMMARY:Pride 2024 Weekly Prep Meeting
DESCRIPTION:We need help with a float\, the booth\, and lots of friendly volunteers to greet folks! Fill this form out to volunteer. \nWeekly Zoom meeting Wednesday at 5:30. Join one or all to get up-to-date info and share ideas. Use the Zoom link on this page to join Zoom. \nThis is in preparation for participating in State College Pride on June 8th\, 2024.
URL:https://uufcc.com/event/pride-2024-weekly-prep-meeting/2024-05-29/
LOCATION:PA
CATEGORIES:Event,Interfaith,Meeting
ATTACH;FMTTYPE=image/png:https://uufcc.com/wp-content/uploads/2024/05/State-College-Pride.png
ORGANIZER;CN="Unitarian Universalist Fellowship of Centre County":MAILTO:office@uufcc.com
END:VEVENT
END:VCALENDAR