BEGIN:VCALENDAR
VERSION:2.0
PRODID:-//UUFCC - ECPv6.15.17//NONSGML v1.0//EN
CALSCALE:GREGORIAN
METHOD:PUBLISH
X-WR-CALNAME:UUFCC
X-ORIGINAL-URL:https://uufcc.com
X-WR-CALDESC:Events for UUFCC
REFRESH-INTERVAL;VALUE=DURATION:PT1H
X-Robots-Tag:noindex
X-PUBLISHED-TTL:PT1H
BEGIN:VTIMEZONE
TZID:America/New_York
BEGIN:DAYLIGHT
TZOFFSETFROM:-0500
TZOFFSETTO:-0400
TZNAME:EDT
DTSTART:20230312T070000
END:DAYLIGHT
BEGIN:STANDARD
TZOFFSETFROM:-0400
TZOFFSETTO:-0500
TZNAME:EST
DTSTART:20231105T060000
END:STANDARD
BEGIN:DAYLIGHT
TZOFFSETFROM:-0500
TZOFFSETTO:-0400
TZNAME:EDT
DTSTART:20240310T070000
END:DAYLIGHT
BEGIN:STANDARD
TZOFFSETFROM:-0400
TZOFFSETTO:-0500
TZNAME:EST
DTSTART:20241103T060000
END:STANDARD
BEGIN:DAYLIGHT
TZOFFSETFROM:-0500
TZOFFSETTO:-0400
TZNAME:EDT
DTSTART:20250309T070000
END:DAYLIGHT
BEGIN:STANDARD
TZOFFSETFROM:-0400
TZOFFSETTO:-0500
TZNAME:EST
DTSTART:20251102T060000
END:STANDARD
END:VTIMEZONE
BEGIN:VEVENT
DTSTART;TZID=America/New_York:20241006T111500
DTEND;TZID=America/New_York:20241006T120000
DTSTAMP:20260422T064350
CREATED:20240430T181159Z
LAST-MODIFIED:20240430T181159Z
UID:10005453-1728213300-1728216000@uufcc.com
SUMMARY:Getting to Know UU
DESCRIPTION:If you’re new or have questions\, come to the library and chat and learn!
URL:https://uufcc.com/event/getting-to-know-uu/2024-10-06/
LOCATION:UUFCC – Library\, 780 Waupelani Drive\, State College\, PA\, 16801\, United States
CATEGORIES:Event,Interfaith
ORGANIZER;CN="Unitarian Universalist Fellowship of Centre County":MAILTO:office@uufcc.com
END:VEVENT
BEGIN:VEVENT
DTSTART;TZID=America/New_York:20241006T123000
DTEND;TZID=America/New_York:20241006T170000
DTSTAMP:20260422T064350
CREATED:20240922T035309Z
LAST-MODIFIED:20240922T035326Z
UID:10007245-1728217800-1728234000@uufcc.com
SUMMARY:UU Adventurers - Picnic and Hike at Shaver's Creek/Lake Perez
DESCRIPTION:Meet at the Lake Perez side of Shaver’s Creek for a picnic and hike around the lake. Or bring a kayak to paddle on the lake. We will provide pizza and you can bring a munchie and beverage to share! All Ages are welcome! \nPlease register to come: https://uufcc.breezechms.com/form/ShaversCreek
URL:https://uufcc.com/event/uu-adventurers-picnic-and-hike-at-shavers-creek-lake-perez/
LOCATION:PA
CATEGORIES:Event,Intergenerational RE,Lifespan Religious Exploration
ATTACH;FMTTYPE=image/jpeg:https://uufcc.com/wp-content/uploads/2024/09/50ef470f-44f4-4a01-8cb7-7c10ce6e07b01.jpg
ORGANIZER;CN="Unitarian Universalist Fellowship of Centre County":MAILTO:office@uufcc.com
END:VEVENT
BEGIN:VEVENT
DTSTART;TZID=America/New_York:20241014T150000
DTEND;TZID=America/New_York:20241014T160000
DTSTAMP:20260422T064350
CREATED:20240327T180455Z
LAST-MODIFIED:20240327T180456Z
UID:10005267-1728918000-1728921600@uufcc.com
SUMMARY:Centre County Interfaith Coalition for Gun Safety
DESCRIPTION:The Centre County Interfaith Coalition for Gun Safety is an alliance of local religious leaders and community members committed to building a peaceful society free from preventable gun violence. Through our work\, we educate on issues related to gun violence\, advocate for responsible and safe gun ownership\, and unite with local\, state\, and federal officials on matters of gun safety that benefit the whole community.
URL:https://uufcc.com/event/ccicgs-2-2/2024-10-14/
LOCATION:UUFCC – Fellowship Hall\, 780 Waupelani Drive\, State College\, PA\, 16801\, United States
CATEGORIES:Event,Interfaith
ATTACH;FMTTYPE=image/jpeg:https://uufcc.com/wp-content/uploads/2024/01/CCIC4GS-Blue-Logo.jpg
ORGANIZER;CN="Centre Couny Interfaith Coalition for Gun Safety":MAILTO:interfaith4gs@gmail.com
END:VEVENT
BEGIN:VEVENT
DTSTART;TZID=America/New_York:20241017T180000
DTEND;TZID=America/New_York:20241017T190000
DTSTAMP:20260422T064350
CREATED:20241012T183157Z
LAST-MODIFIED:20241012T183157Z
UID:10001818-1729188000-1729191600@uufcc.com
SUMMARY:Fellowship Supper
DESCRIPTION:Join us for a community potluck each month in Fellowship Hall! This is a wonderful time out to connect with UUFCC friends\, eat a delicious meal\, and celebrate birthdays of the month.
URL:https://uufcc.com/event/fellowship-supper-3/
LOCATION:UUFCC – Fellowship Hall\, 780 Waupelani Drive\, State College\, PA\, 16801\, United States
CATEGORIES:Event
ATTACH;FMTTYPE=image/jpeg:https://uufcc.com/wp-content/uploads/2024/03/Fellowship-Supper.jpg
ORGANIZER;CN="Unitarian Universalist Fellowship of Centre County":MAILTO:office@uufcc.com
END:VEVENT
BEGIN:VEVENT
DTSTART;TZID=America/New_York:20241018T120000
DTEND;TZID=America/New_York:20241018T130000
DTSTAMP:20260422T064350
CREATED:20240909T181136Z
LAST-MODIFIED:20250213T230645Z
UID:10008238-1729252800-1729256400@uufcc.com
SUMMARY:Lunch with Tracy
DESCRIPTION:Enjoy lunch with Rev Tracy and bring whatever topic you’d like to chat about! Open to all ages. Bring your own lunch.
URL:https://uufcc.com/event/lunch-with-tracy-4/2024-10-18/
LOCATION:UUFCC – Fellowship Hall\, 780 Waupelani Drive\, State College\, PA\, 16801\, United States
CATEGORIES:Event
ATTACH;FMTTYPE=image/png:https://uufcc.com/wp-content/uploads/2024/09/Lunch-with-Rev.-Tracy.png
ORGANIZER;CN="Unitarian Universalist Fellowship of Centre County":MAILTO:office@uufcc.com
END:VEVENT
BEGIN:VEVENT
DTSTART;TZID=America/New_York:20241020T111500
DTEND;TZID=America/New_York:20241020T123000
DTSTAMP:20260422T064350
CREATED:20240903T174711Z
LAST-MODIFIED:20240919T150350Z
UID:10006758-1729422900-1729427400@uufcc.com
SUMMARY:Hot Topics - Responding to Christian Nationalism\, Interfaith Discussion Series
DESCRIPTION:Are you worried about the future of our democracy and wondering how to engage with and respond to the rise of Christian Nationalism? Join our interfaith interactive discussion series\, Responding to Christian Nationalism. \n  \nSundays\, 11:15 am – 12:45 pm \nSession 1: September 22 (UBBC)\, Introduction to Christian Nationalism \nSession 2: October 20 (UUFCC)\, Expanding an Understanding of Christian Nationalism \nSession 3: November 17 (UBBC)\, a Faith Response to Christian Nationalism \n  \nThe Unitarian Universalist Fellowship and University Baptist and Brethren Church are jointly curating curriculum and hosting this important conversation. Christian nationalism is an ideology that threatens our faith and our pluralistic democracy\, and thus needs to be addressed by faith groups  in the United States. We need your presence and voice with us to understand and respond to this rising power in our society. \nFor more information contact the Interfaith Education Development Committee.
URL:https://uufcc.com/event/hot-topics-responding-to-christian-nationalism-interfaith-discussion-series-4/
LOCATION:Unitarian Universalist Fellowship of Centre County\, 780 Waupelani Drive\, State College\, PA\, 16801\, United States
CATEGORIES:Adult RE,Event,Interfaith,Lifespan Religious Exploration
ATTACH;FMTTYPE=image/png:https://uufcc.com/wp-content/uploads/2024/09/Responding-to-Christian-Nationalism1.png
END:VEVENT
BEGIN:VEVENT
DTSTART;TZID=America/New_York:20241027T110000
DTEND;TZID=America/New_York:20241027T123000
DTSTAMP:20260422T064350
CREATED:20240925T202933Z
LAST-MODIFIED:20240927T132237Z
UID:10007251-1730026800-1730032200@uufcc.com
SUMMARY:Multi-generational Halloween/Samhain Celebration
DESCRIPTION:For all ages! \nCelebrate our carnival themed Halloween and Samhain event as we explore these two festivals with games\, costumes\, a pumpkin carving contest\, crafts\, food\, and fun! All ages welcome! Sign up here to help: https://bit.ly/3XxAXXK
URL:https://uufcc.com/event/multi-generational-halloween-samhain-celebration/
LOCATION:UUFCC – Community Room\, 780 Waupelani Drive\, State College\, PA\, 16801\, United States
CATEGORIES:Event,Intergenerational RE,Lifespan Religious Exploration
ATTACH;FMTTYPE=image/png:https://uufcc.com/wp-content/uploads/2023/10/Halloween-Costume-Parade.png
ORGANIZER;CN="Unitarian Universalist Fellowship of Centre County":MAILTO:office@uufcc.com
END:VEVENT
END:VCALENDAR