BEGIN:VCALENDAR
VERSION:2.0
PRODID:-//UUFCC - ECPv6.15.17//NONSGML v1.0//EN
CALSCALE:GREGORIAN
METHOD:PUBLISH
X-WR-CALNAME:UUFCC
X-ORIGINAL-URL:https://uufcc.com
X-WR-CALDESC:Events for UUFCC
REFRESH-INTERVAL;VALUE=DURATION:PT1H
X-Robots-Tag:noindex
X-PUBLISHED-TTL:PT1H
BEGIN:VTIMEZONE
TZID:America/New_York
BEGIN:DAYLIGHT
TZOFFSETFROM:-0500
TZOFFSETTO:-0400
TZNAME:EDT
DTSTART:20230312T070000
END:DAYLIGHT
BEGIN:STANDARD
TZOFFSETFROM:-0400
TZOFFSETTO:-0500
TZNAME:EST
DTSTART:20231105T060000
END:STANDARD
BEGIN:DAYLIGHT
TZOFFSETFROM:-0500
TZOFFSETTO:-0400
TZNAME:EDT
DTSTART:20240310T070000
END:DAYLIGHT
BEGIN:STANDARD
TZOFFSETFROM:-0400
TZOFFSETTO:-0500
TZNAME:EST
DTSTART:20241103T060000
END:STANDARD
BEGIN:DAYLIGHT
TZOFFSETFROM:-0500
TZOFFSETTO:-0400
TZNAME:EDT
DTSTART:20250309T070000
END:DAYLIGHT
BEGIN:STANDARD
TZOFFSETFROM:-0400
TZOFFSETTO:-0500
TZNAME:EST
DTSTART:20251102T060000
END:STANDARD
END:VTIMEZONE
BEGIN:VEVENT
DTSTART;TZID=America/New_York:20240317T113000
DTEND;TZID=America/New_York:20240317T130000
DTSTAMP:20260425T202026
CREATED:20240205T160422Z
LAST-MODIFIED:20240205T160422Z
UID:10005178-1710675000-1710680400@uufcc.com
SUMMARY:Pardon Project
DESCRIPTION:Across the United States\, 1 of 3 adults has a criminal record\, and 1 of every 2 children has a parent with a criminal record. Those histories are keeping people – our neighbors – from better jobs\, trades\, educations\, housing\, health care\, volunteering in their communities\, and more. They are keeping families – and whole neighborhoods – in poverty. People change. Records can too! It’s time we stopped letting history hold us back! Across the country\, people are now agreeing: If you paid your debt to society\, you should be allowed to work. \nJoin us for a presentation by Gopal Balachandran\, Associate Professor of Clinical Law at Penn State and current State College Borough Council memeber. Professor Balachandran directs the Externships Program as well as the Criminal Appellate & Post-Conviction Services Clinic at PSU while also maintaining an active presence in international legal education by teaching legal writing to LLM students. 
URL:https://uufcc.com/event/pardon-project/
LOCATION:UUFCC – Sanctuary\, 780 Waupelani Drive\, State College\, PA\, 16801\, United States
CATEGORIES:Adult RE,Event,Lifespan Religious Exploration
ATTACH;FMTTYPE=image/png:https://uufcc.com/wp-content/uploads/2024/02/Pardon-Project.png
ORGANIZER;CN="Unitarian Universalist Fellowship of Centre County":MAILTO:office@uufcc.com
END:VEVENT
BEGIN:VEVENT
DTSTART;TZID=America/New_York:20240319T163000
DTEND;TZID=America/New_York:20240319T190000
DTSTAMP:20260425T202026
CREATED:20240229T191350Z
LAST-MODIFIED:20240229T191350Z
UID:10005203-1710865800-1710874800@uufcc.com
SUMMARY:Osaze's Heart Scholarship Fundraiser
DESCRIPTION:This is a public non-UUFCC event that is recommended by the UUFCC Racial Justice Committee. \nYou are invited to attend a scholarship fundraiser dinner supporting community-minded college-bound students at SCASD: \n  \nOsaze’s Heart Scholarship Fundraiser \nState College Access Church \n3601 S. Atherton St. \nTuesday\, March 19 @ 4:30 pm \n  \nREGISTER to attend the dinner: https://docs.google.com/forms/d/e/1FAIpQLSfUMSjd-plv3LX0Ni9pOeLq7J84eNkcBD9vrsD2S6uBMEXp4A/viewform \nCan’t attend or want to make a Direct Donations to Osaze’s Heart Community Service Scholarship at Center Foundation: https://centre-foundation.org/funds/osazes-heart
URL:https://uufcc.com/event/osazes-heart-scholarship-fundraiser/
LOCATION:PA
CATEGORIES:Event
ATTACH;FMTTYPE=image/png:https://uufcc.com/wp-content/uploads/2024/02/Osaze-Scholarship-Fundraiser.png
END:VEVENT
BEGIN:VEVENT
DTSTART;TZID=America/New_York:20240321T180000
DTEND;TZID=America/New_York:20240321T190000
DTSTAMP:20260425T202026
CREATED:20240309T054252Z
LAST-MODIFIED:20240309T054253Z
UID:10001811-1711044000-1711047600@uufcc.com
SUMMARY:Fellowship Supper
DESCRIPTION:Join us for a community potluck each month in Fellowship Hall! This is a wonderful time out to connect with UUFCC friends\, eat a delicious meal\, and celebrate birthdays of the month.
URL:https://uufcc.com/event/fellowship-suppers-3/2024-03-21/
LOCATION:UUFCC – Fellowship Hall\, 780 Waupelani Drive\, State College\, PA\, 16801\, United States
CATEGORIES:Event
ATTACH;FMTTYPE=image/jpeg:https://uufcc.com/wp-content/uploads/2024/03/Fellowship-Supper.jpg
ORGANIZER;CN="Unitarian Universalist Fellowship of Centre County":MAILTO:office@uufcc.com
END:VEVENT
BEGIN:VEVENT
DTSTART;TZID=America/New_York:20240321T190000
DTEND;TZID=America/New_York:20240321T200000
DTSTAMP:20260425T202026
CREATED:20240117T020536Z
LAST-MODIFIED:20240121T154454Z
UID:10001566-1711047600-1711051200@uufcc.com
SUMMARY:Wheel of the Year - March
DESCRIPTION:Theme: Transformation \nEaster\, Spring Equinox- balance\, rebirth\, regrowth \nRitual: Dyeing Eggs with natural colors
URL:https://uufcc.com/event/wheel-of-the-year-4/
LOCATION:UUFCC – Fellowship Hall\, 780 Waupelani Drive\, State College\, PA\, 16801\, United States
CATEGORIES:Event,Interfaith Ritual,Intergenerational RE,Lifespan Religious Exploration,Worship Service
ATTACH;FMTTYPE=image/png:https://uufcc.com/wp-content/uploads/2023/10/Mar.png
ORGANIZER;CN="Unitarian Universalist Fellowship of Centre County":MAILTO:office@uufcc.com
END:VEVENT
END:VCALENDAR