BEGIN:VCALENDAR
VERSION:2.0
PRODID:-//UUFCC - ECPv6.15.17//NONSGML v1.0//EN
CALSCALE:GREGORIAN
METHOD:PUBLISH
X-ORIGINAL-URL:https://uufcc.com
X-WR-CALDESC:Events for UUFCC
REFRESH-INTERVAL;VALUE=DURATION:PT1H
X-Robots-Tag:noindex
X-PUBLISHED-TTL:PT1H
BEGIN:VTIMEZONE
TZID:America/New_York
BEGIN:DAYLIGHT
TZOFFSETFROM:-0500
TZOFFSETTO:-0400
TZNAME:EDT
DTSTART:20230312T070000
END:DAYLIGHT
BEGIN:STANDARD
TZOFFSETFROM:-0400
TZOFFSETTO:-0500
TZNAME:EST
DTSTART:20231105T060000
END:STANDARD
BEGIN:DAYLIGHT
TZOFFSETFROM:-0500
TZOFFSETTO:-0400
TZNAME:EDT
DTSTART:20240310T070000
END:DAYLIGHT
BEGIN:STANDARD
TZOFFSETFROM:-0400
TZOFFSETTO:-0500
TZNAME:EST
DTSTART:20241103T060000
END:STANDARD
BEGIN:DAYLIGHT
TZOFFSETFROM:-0500
TZOFFSETTO:-0400
TZNAME:EDT
DTSTART:20250309T070000
END:DAYLIGHT
BEGIN:STANDARD
TZOFFSETFROM:-0400
TZOFFSETTO:-0500
TZNAME:EST
DTSTART:20251102T060000
END:STANDARD
END:VTIMEZONE
BEGIN:VEVENT
DTSTART;TZID=America/New_York:20240407T150000
DTEND;TZID=America/New_York:20240407T170000
DTSTAMP:20260423T192029
CREATED:20240313T163200Z
LAST-MODIFIED:20240313T173015Z
UID:10005246-1712502000-1712509200@uufcc.com
SUMMARY:State College Choral Society's 75th Anniversary Concert: Haydn's Creation
DESCRIPTION:This is a non-UUFCC event\, in which several UUFCC members will be performing! \nFeaturing: \nLaura Choi Stewart\, soprano\nJacob Wilde\, tenor\nTimothy LeFebvre\, baritone\nState High Master Singers\nPennsylvania Chamber Orchestra \nJoin us for this dramatic oratorio as we conclude our 75th Diamond Anniversary season. This concert will be the final concert conducted by Dr. Russ Shelley\, Artistic Director for the past 25 years.
URL:https://uufcc.com/event/state-college-choral-societys-75th-anniversary-concert-haydns-creation/
LOCATION:State College Area High School Performance Hall\, 650 Westerly Pkwy\, State College\, PA\, 16801\, United States
CATEGORIES:Event
ATTACH;FMTTYPE=image/jpeg:https://uufcc.com/wp-content/uploads/2024/03/75_CREATION_Mini_Flyer.jpg
END:VEVENT
END:VCALENDAR