BEGIN:VCALENDAR
VERSION:2.0
PRODID:-//UUFCC - ECPv6.15.17//NONSGML v1.0//EN
CALSCALE:GREGORIAN
METHOD:PUBLISH
X-WR-CALNAME:UUFCC
X-ORIGINAL-URL:https://uufcc.com
X-WR-CALDESC:Events for UUFCC
REFRESH-INTERVAL;VALUE=DURATION:PT1H
X-Robots-Tag:noindex
X-PUBLISHED-TTL:PT1H
BEGIN:VTIMEZONE
TZID:America/New_York
BEGIN:DAYLIGHT
TZOFFSETFROM:-0500
TZOFFSETTO:-0400
TZNAME:EDT
DTSTART:20230312T070000
END:DAYLIGHT
BEGIN:STANDARD
TZOFFSETFROM:-0400
TZOFFSETTO:-0500
TZNAME:EST
DTSTART:20231105T060000
END:STANDARD
BEGIN:DAYLIGHT
TZOFFSETFROM:-0500
TZOFFSETTO:-0400
TZNAME:EDT
DTSTART:20240310T070000
END:DAYLIGHT
BEGIN:STANDARD
TZOFFSETFROM:-0400
TZOFFSETTO:-0500
TZNAME:EST
DTSTART:20241103T060000
END:STANDARD
BEGIN:DAYLIGHT
TZOFFSETFROM:-0500
TZOFFSETTO:-0400
TZNAME:EDT
DTSTART:20250309T070000
END:DAYLIGHT
BEGIN:STANDARD
TZOFFSETFROM:-0400
TZOFFSETTO:-0500
TZNAME:EST
DTSTART:20251102T060000
END:STANDARD
END:VTIMEZONE
BEGIN:VEVENT
DTSTART;TZID=America/New_York:20240415T150000
DTEND;TZID=America/New_York:20240415T160000
DTSTAMP:20260423T073735
CREATED:20240327T180417Z
LAST-MODIFIED:20240327T180418Z
UID:10005161-1713193200-1713196800@uufcc.com
SUMMARY:Centre County Interfaith Coalition for Gun Safety
DESCRIPTION:The Centre County Interfaith Coalition for Gun Safety is an alliance of local religious leaders and community members committed to building a peaceful society free from preventable gun violence. Through our work\, we educate on issues related to gun violence\, advocate for responsible and safe gun ownership\, and unite with local\, state\, and federal officials on matters of gun safety that benefit the whole community.
URL:https://uufcc.com/event/ccicgs-2/
LOCATION:UUFCC – Fellowship Hall\, 780 Waupelani Drive\, State College\, PA\, 16801\, United States
CATEGORIES:Event,Interfaith
ATTACH;FMTTYPE=image/jpeg:https://uufcc.com/wp-content/uploads/2024/01/CCIC4GS-Blue-Logo.jpg
ORGANIZER;CN="Centre Couny Interfaith Coalition for Gun Safety":MAILTO:interfaith4gs@gmail.com
END:VEVENT
BEGIN:VEVENT
DTSTART;TZID=America/New_York:20240418T180000
DTEND;TZID=America/New_York:20240418T190000
DTSTAMP:20260423T073735
CREATED:20240309T054252Z
LAST-MODIFIED:20240309T054253Z
UID:10001812-1713463200-1713466800@uufcc.com
SUMMARY:Fellowship Supper
DESCRIPTION:Join us for a community potluck each month in Fellowship Hall! This is a wonderful time out to connect with UUFCC friends\, eat a delicious meal\, and celebrate birthdays of the month.
URL:https://uufcc.com/event/fellowship-suppers-3/2024-04-18/
LOCATION:UUFCC – Fellowship Hall\, 780 Waupelani Drive\, State College\, PA\, 16801\, United States
CATEGORIES:Event
ATTACH;FMTTYPE=image/jpeg:https://uufcc.com/wp-content/uploads/2024/03/Fellowship-Supper.jpg
ORGANIZER;CN="Unitarian Universalist Fellowship of Centre County":MAILTO:office@uufcc.com
END:VEVENT
BEGIN:VEVENT
DTSTART;TZID=America/New_York:20240418T190000
DTEND;TZID=America/New_York:20240418T200000
DTSTAMP:20260423T073735
CREATED:20240117T020740Z
LAST-MODIFIED:20240121T154437Z
UID:10001567-1713466800-1713470400@uufcc.com
SUMMARY:Wheel of the Year - April
DESCRIPTION:Theme: Interdependence \nBalance\, rebirth\, regrowth \nRitual: discovering Green Man
URL:https://uufcc.com/event/wheel-of-the-year-5/
LOCATION:UUFCC – Fellowship Hall\, 780 Waupelani Drive\, State College\, PA\, 16801\, United States
CATEGORIES:Event,Interfaith Ritual,Intergenerational RE,Lifespan Religious Exploration,Worship Service
ATTACH;FMTTYPE=image/png:https://uufcc.com/wp-content/uploads/2023/10/April.png
ORGANIZER;CN="Unitarian Universalist Fellowship of Centre County":MAILTO:office@uufcc.com
END:VEVENT
BEGIN:VEVENT
DTSTART;TZID=America/New_York:20240419T183000
DTEND;TZID=America/New_York:20240419T203000
DTSTAMP:20260423T073735
CREATED:20240315T155051Z
LAST-MODIFIED:20240417T174538Z
UID:10005216-1713551400-1713558600@uufcc.com
SUMMARY:Building a Culture of Inclusion: Workshop with Paula Cole Jones Day 1
DESCRIPTION:This is Day 1 of the Workshop held over Zoom. \nAnyone is welcome to join in a group Zoom in Room 6 at the Fellowship Friday and Saturday for this workshop. \nWe\, Unitarian Universalists\, are called to build the Beloved Community.  To do that\, UUs must attend to the\nunfinished business of dismantling racism and oppression in our congregations and Association and with\nour community partners.  How do we stand in solidarity with the social movements of our times and how do\nthey change us? How do we help to preserve and strengthen a multicultural democracy in this country? \nThis workshop addresses the 8th Principle and multicultural change as a developmental process for\ncongregations.  How have other UU congregations approached the spiritual and structural aspects of\nmoving more fully into our vision of the Beloved Community?  What tools will help you accomplish the\ntasks? \nClick here or go to the Event Series to learn more about the entire Building a Culture of Inclusion workshop and Paula Cole Jones. \nFriday Schedule:\nSession: 6:30 – 8:30 PM (2 hours) \nWorkshop Part 1 \n~ To introduce strategies for working toward long-term cultural change and to elicit the knowledge of\nparticipants about how to engage the congregation.\n~ To share a framework for how collaboration and accountability shape the racial and social justice\nhistory of institutions in the United States.\n~ To engage participants in an interactive experience of the transformative power of the 8th Principle.\n~ To address the relationship between the 8th Principle and the Article II Study Commission’s\nprocess.
URL:https://uufcc.com/event/building-a-culture-of-inclusion-04-19-24/
LOCATION:PA
CATEGORIES:Adult RE,Event,Lifespan Religious Exploration
ATTACH;FMTTYPE=image/png:https://uufcc.com/wp-content/uploads/2024/03/Untitled-design.png
ORGANIZER;CN="Unitarian Universalist Fellowship of Centre County":MAILTO:office@uufcc.com
END:VEVENT
BEGIN:VEVENT
DTSTART;TZID=America/New_York:20240419T190000
DTEND;TZID=America/New_York:20240419T210000
DTSTAMP:20260423T073735
CREATED:20240405T011249Z
LAST-MODIFIED:20240405T011249Z
UID:10005356-1713553200-1713560400@uufcc.com
SUMMARY:Community Event ~ CPAU Presents Documentary Screening: No Way Home
DESCRIPTION:Please note: you can attend this event either in person or virtually. \nJoin CPAU on April 19th at 7:00 pm at University Baptist & Brethren Church for the release of No Way Home\, a documentary depicting a mother’s poignant journey to reunite her family and end mandatory life without parole in Pennsylvania. Witness the story of Lorraine Haw\, affectionately known as Mrs. Dee Dee\, as she navigates the aftermath of gun violence in Philadelphia. From the loss of her brother to a fatal altercation over a gold necklace to her son’s heartbreaking sentence\, Mrs. Dee Dee’s narrative sheds light on the dual impact of gun violence and incarceration. \nWe will also highlight the case of a State College man\, Subramanyam (Subu) Vedam\, who was wrongfully convicted of murder in 1982 and sentenced to life without parole\, leading to decades of trauma for him and his family. Authorities offered no witnesses\, no motive\, no weapon\, or any other direct evidence tying him to the crime. Documents have recently surfaced showing that prosecutors knew Subu could not have committed the crime\, and concealed that evidence from his defense. The effort to ultimately free Subu is ongoing\, and the local community has an important part to play. \nThe night will conclude with a panel discussion. \nSign up here: https://www.mobilize.us/paunited/event/614973/
URL:https://uufcc.com/event/community-event-cpau-presents-documentary-screening-no-way-home/
LOCATION:University Baptist and Brethren Church\, 411 S Burrowes St\, State College\, PA\, 16801\, United States
CATEGORIES:Community Event,Event,Interfaith
ATTACH;FMTTYPE=image/png:https://uufcc.com/wp-content/uploads/2024/04/No-Way-Home.png
END:VEVENT
BEGIN:VEVENT
DTSTART;TZID=America/New_York:20240420T083000
DTEND;TZID=America/New_York:20240420T110000
DTSTAMP:20260423T073735
CREATED:20240311T181820Z
LAST-MODIFIED:20240311T181820Z
UID:10005215-1713601800-1713610800@uufcc.com
SUMMARY:Annual Spring Creek Cleanup 2024
DESCRIPTION:Please join the UUFCC volunteers\, 8:30am till 11am at the Spring Creek Park parking lot off Houserville Rd. Children are welcome! ClearWater Conservancy sponsors this event and provides garbage bags and  gloves\, but you will be better off bringing your own gloves if you have them; also tick spray\, and a hat you can spray and wear.\n\nTo sign up or if you have questions\, contact Dorothy Blair: 814-360-0610 (text or call). With precautions\, Dorothy has not gotten ticks\, working at this task\, for 20 years. Or simply shower afterwards.
URL:https://uufcc.com/event/annual-spring-creek-cleanup-2024/
LOCATION:Spring Creek Park\, 935 Houserville Rd\, State College\, PA\, 16801\, United States
CATEGORIES:Event
ATTACH;FMTTYPE=image/jpeg:https://uufcc.com/wp-content/uploads/2024/03/Spring-creek-calm-copy-scaled.jpg
ORGANIZER;CN="Unitarian Universalist Fellowship of Centre County":MAILTO:office@uufcc.com
END:VEVENT
BEGIN:VEVENT
DTSTART;TZID=America/New_York:20240420T090000
DTEND;TZID=America/New_York:20240420T140000
DTSTAMP:20260423T073735
CREATED:20240315T155141Z
LAST-MODIFIED:20240417T174721Z
UID:10005217-1713603600-1713621600@uufcc.com
SUMMARY:Building a Culture of Inclusion: Workshop with Paula Cole Jones Day 2
DESCRIPTION:This is Day 2 of the Workshop held over Zoom. \nAnyone is welcome to join in a group Zoom in Room 6 at the Fellowship Friday and Saturday for this workshop. \nWe\, Unitarian Universalists\, are called to build the Beloved Community.  To do that\, UUs must attend to the\nunfinished business of dismantling racism and oppression in our congregations and Association and with\nour community partners.  How do we stand in solidarity with the social movements of our times and how do\nthey change us? How do we help to preserve and strengthen a multicultural democracy in this country? \nThis workshop addresses the 8th Principle and multicultural change as a developmental process for\ncongregations.  How have other UU congregations approached the spiritual and structural aspects of\nmoving more fully into our vision of the Beloved Community?  What tools will help you accomplish the\ntasks? \nClick here or go to the Event Series to learn more about the entire Building a Culture of Inclusion workshop and Paula Cole Jones. \nSaturday Schedule:\nSession 1: 9:00 AM – 11:00 AM (2 hours)\nLunch Break: 11:00 AM – 11:45 AM\nSession 2: 11:45 AM – 2:00 PM (2 hours 15 min) \nWorkshop Part 2\n~ To build on concepts from Part 1 of the workshop\, and to provide an integrated approach for understanding\nthe complexity of congregations\, a pathway to change\, and the range of individual reactions.\n~ To provide hands-on experience with tools for assessing institutional readiness for change\, create\nan umbrella conversation while engaging members/leaders in collective discernment about\nwidening the congregation’s ministries.\n~ To help congregations answer the question\, what is next?\n~ To gather baseline data that will serve for strategic planning and measuring/assessing the\ncongregation’s progress.
URL:https://uufcc.com/event/building-a-culture-of-inclusion-04-20-24/
LOCATION:PA
CATEGORIES:Adult RE,Event,Lifespan Religious Exploration
ATTACH;FMTTYPE=image/png:https://uufcc.com/wp-content/uploads/2024/03/Untitled-design.png
ORGANIZER;CN="Unitarian Universalist Fellowship of Centre County":MAILTO:office@uufcc.com
END:VEVENT
END:VCALENDAR