BEGIN:VCALENDAR
VERSION:2.0
PRODID:-//UUFCC - ECPv6.15.17//NONSGML v1.0//EN
CALSCALE:GREGORIAN
METHOD:PUBLISH
X-WR-CALNAME:UUFCC
X-ORIGINAL-URL:https://uufcc.com
X-WR-CALDESC:Events for UUFCC
REFRESH-INTERVAL;VALUE=DURATION:PT1H
X-Robots-Tag:noindex
X-PUBLISHED-TTL:PT1H
BEGIN:VTIMEZONE
TZID:America/New_York
BEGIN:DAYLIGHT
TZOFFSETFROM:-0500
TZOFFSETTO:-0400
TZNAME:EDT
DTSTART:20240310T070000
END:DAYLIGHT
BEGIN:STANDARD
TZOFFSETFROM:-0400
TZOFFSETTO:-0500
TZNAME:EST
DTSTART:20241103T060000
END:STANDARD
BEGIN:DAYLIGHT
TZOFFSETFROM:-0500
TZOFFSETTO:-0400
TZNAME:EDT
DTSTART:20250309T070000
END:DAYLIGHT
BEGIN:STANDARD
TZOFFSETFROM:-0400
TZOFFSETTO:-0500
TZNAME:EST
DTSTART:20251102T060000
END:STANDARD
BEGIN:DAYLIGHT
TZOFFSETFROM:-0500
TZOFFSETTO:-0400
TZNAME:EDT
DTSTART:20260308T070000
END:DAYLIGHT
BEGIN:STANDARD
TZOFFSETFROM:-0400
TZOFFSETTO:-0500
TZNAME:EST
DTSTART:20261101T060000
END:STANDARD
END:VTIMEZONE
BEGIN:VEVENT
DTSTART;TZID=America/New_York:20250601T113000
DTEND;TZID=America/New_York:20250601T130000
DTSTAMP:20260420T153435
CREATED:20240827T150049Z
LAST-MODIFIED:20250520T184750Z
UID:10008163-1748777400-1748782800@uufcc.com
SUMMARY:Annual Meeting + End of Year Celebration 2025
DESCRIPTION:Join us for a short Annual Meeting\, after which we will celebrate the end of the year! \nWe’ll gather outdoors (weather permitting) for a festive potluck to celebrate the close of the RE year. The Board will provide sandwich fixings\, and the RE Team will treat us to an ice cream bar. \nThis is also a special opportunity to welcome back Ashley Hamlin\, our Director of Religious Lifespan Education. Bring a dish to share and come celebrate with us!
URL:https://uufcc.com/event/annual-meeting-2025/
LOCATION:Unitarian Universalist Fellowship of Centre County\, 780 Waupelani Drive\, State College\, PA\, 16801\, United States
CATEGORIES:Event,Intergenerational RE,Lifespan Religious Exploration,Meeting
ORGANIZER;CN="Unitarian Universalist Fellowship of Centre County":MAILTO:office@uufcc.com
END:VEVENT
BEGIN:VEVENT
DTSTART;TZID=America/New_York:20250607T080000
DTEND;TZID=America/New_York:20250607T160000
DTSTAMP:20260420T153435
CREATED:20250528T171639Z
LAST-MODIFIED:20250528T202736Z
UID:10009584-1749283200-1749312000@uufcc.com
SUMMARY:UUFCC at State College Pride 2025
DESCRIPTION:Join UUFCC at State College Pride 2025! UUFCC will be proudly marching in the parade and hosting an outreach table at State College Pride! \nSign up to march with us in the parade\, or volunteer at our table in 2-hour shifts—feel free to sign up for more than one slot. Sign up here. \nLet’s show our spirit and support together! \nInterested in helping with the Wall of Love? Contact Rev. Tracy to get involved!
URL:https://uufcc.com/event/uufcc-at-state-college-pride-2025/
LOCATION:Schlow Library\, 211 S. Allen Street\, State College\, Pennsylvania\, 16801
CATEGORIES:Event
ATTACH;FMTTYPE=image/jpeg:https://uufcc.com/wp-content/uploads/2025/05/uufcc-at-pride.jpg
END:VEVENT
END:VCALENDAR