BEGIN:VCALENDAR
VERSION:2.0
PRODID:-//UUFCC - ECPv6.15.17//NONSGML v1.0//EN
CALSCALE:GREGORIAN
METHOD:PUBLISH
X-ORIGINAL-URL:https://uufcc.com
X-WR-CALDESC:Events for UUFCC
REFRESH-INTERVAL;VALUE=DURATION:PT1H
X-Robots-Tag:noindex
X-PUBLISHED-TTL:PT1H
BEGIN:VTIMEZONE
TZID:America/New_York
BEGIN:DAYLIGHT
TZOFFSETFROM:-0500
TZOFFSETTO:-0400
TZNAME:EDT
DTSTART:20240310T070000
END:DAYLIGHT
BEGIN:STANDARD
TZOFFSETFROM:-0400
TZOFFSETTO:-0500
TZNAME:EST
DTSTART:20241103T060000
END:STANDARD
BEGIN:DAYLIGHT
TZOFFSETFROM:-0500
TZOFFSETTO:-0400
TZNAME:EDT
DTSTART:20250309T070000
END:DAYLIGHT
BEGIN:STANDARD
TZOFFSETFROM:-0400
TZOFFSETTO:-0500
TZNAME:EST
DTSTART:20251102T060000
END:STANDARD
BEGIN:DAYLIGHT
TZOFFSETFROM:-0500
TZOFFSETTO:-0400
TZNAME:EDT
DTSTART:20260308T070000
END:DAYLIGHT
BEGIN:STANDARD
TZOFFSETFROM:-0400
TZOFFSETTO:-0500
TZNAME:EST
DTSTART:20261101T060000
END:STANDARD
END:VTIMEZONE
BEGIN:VEVENT
DTSTART;TZID=America/New_York:20250608T111500
DTEND;TZID=America/New_York:20250608T120000
DTSTAMP:20260420T081352
CREATED:20250520T180457Z
LAST-MODIFIED:20250520T180733Z
UID:10005461-1749381300-1749384000@uufcc.com
SUMMARY:Getting to Know UU
DESCRIPTION:If you’re new or have questions\, come to the library and chat and learn!
URL:https://uufcc.com/event/getting-to-know-uu-3/
LOCATION:UUFCC – Library\, 780 Waupelani Drive\, State College\, PA\, 16801\, United States
CATEGORIES:Event,Interfaith
ORGANIZER;CN="Unitarian Universalist Fellowship of Centre County":MAILTO:office@uufcc.com
END:VEVENT
BEGIN:VEVENT
DTSTART;TZID=America/New_York:20250609T150000
DTEND;TZID=America/New_York:20250609T160000
DTSTAMP:20260420T081352
CREATED:20240327T180455Z
LAST-MODIFIED:20240327T180456Z
UID:10005275-1749481200-1749484800@uufcc.com
SUMMARY:Centre County Interfaith Coalition for Gun Safety
DESCRIPTION:The Centre County Interfaith Coalition for Gun Safety is an alliance of local religious leaders and community members committed to building a peaceful society free from preventable gun violence. Through our work\, we educate on issues related to gun violence\, advocate for responsible and safe gun ownership\, and unite with local\, state\, and federal officials on matters of gun safety that benefit the whole community.
URL:https://uufcc.com/event/ccicgs-2-2/2025-06-09/
LOCATION:UUFCC – Fellowship Hall\, 780 Waupelani Drive\, State College\, PA\, 16801\, United States
CATEGORIES:Event,Interfaith
ATTACH;FMTTYPE=image/jpeg:https://uufcc.com/wp-content/uploads/2024/01/CCIC4GS-Blue-Logo.jpg
ORGANIZER;CN="Centre Couny Interfaith Coalition for Gun Safety":MAILTO:interfaith4gs@gmail.com
END:VEVENT
END:VCALENDAR