BEGIN:VCALENDAR
VERSION:2.0
PRODID:-//UUFCC - ECPv6.15.17//NONSGML v1.0//EN
CALSCALE:GREGORIAN
METHOD:PUBLISH
X-WR-CALNAME:UUFCC
X-ORIGINAL-URL:https://uufcc.com
X-WR-CALDESC:Events for UUFCC
REFRESH-INTERVAL;VALUE=DURATION:PT1H
X-Robots-Tag:noindex
X-PUBLISHED-TTL:PT1H
BEGIN:VTIMEZONE
TZID:America/New_York
BEGIN:DAYLIGHT
TZOFFSETFROM:-0500
TZOFFSETTO:-0400
TZNAME:EDT
DTSTART:20220313T070000
END:DAYLIGHT
BEGIN:STANDARD
TZOFFSETFROM:-0400
TZOFFSETTO:-0500
TZNAME:EST
DTSTART:20221106T060000
END:STANDARD
BEGIN:DAYLIGHT
TZOFFSETFROM:-0500
TZOFFSETTO:-0400
TZNAME:EDT
DTSTART:20230312T070000
END:DAYLIGHT
BEGIN:STANDARD
TZOFFSETFROM:-0400
TZOFFSETTO:-0500
TZNAME:EST
DTSTART:20231105T060000
END:STANDARD
BEGIN:DAYLIGHT
TZOFFSETFROM:-0500
TZOFFSETTO:-0400
TZNAME:EDT
DTSTART:20240310T070000
END:DAYLIGHT
BEGIN:STANDARD
TZOFFSETFROM:-0400
TZOFFSETTO:-0500
TZNAME:EST
DTSTART:20241103T060000
END:STANDARD
END:VTIMEZONE
BEGIN:VEVENT
DTSTART;TZID=America/New_York:20231202T160000
DTEND;TZID=America/New_York:20231202T210000
DTSTAMP:20260422T200222
CREATED:20231021T172402Z
LAST-MODIFIED:20231112T063756Z
UID:10000663-1701532800-1701550800@uufcc.com
SUMMARY:Jingle\, Jangle: A Christmas Story - Tree Cutting and Decorating\, Potluck\, and Movie Night for Kids\, Families\, and All Ages!
DESCRIPTION:Meet at UUFCC to then caravan to a tree farm to pick out a tree for our Fellowship (and for your family!). Then we’ll light it and decorate it in the sanctuary! Followed by a potluck\, hot beverages\, holiday treats\, and a movie (Jingle\, Jangle: A Christmas Story) All ages welcome! (Please bring a dish to share!). Sign up HERE!
URL:https://uufcc.com/event/christmas-tree-setup-and-movie-night/
LOCATION:UUFCC – Sanctuary\, 780 Waupelani Drive\, State College\, PA\, 16801\, United States
CATEGORIES:Event,High School Youth,Intergenerational RE,Lifespan Religious Exploration,Middle School Youth,RE Kids & Youth,Young Kids
ATTACH;FMTTYPE=image/png:https://uufcc.com/wp-content/uploads/2023/10/Christmas-Tree-Movie-Night.png
ORGANIZER;CN="Unitarian Universalist Fellowship of Centre County":MAILTO:office@uufcc.com
END:VEVENT
BEGIN:VEVENT
DTSTART;TZID=America/New_York:20231203T093000
DTEND;TZID=America/New_York:20231203T130000
DTSTAMP:20260422T200222
CREATED:20231128T173327Z
LAST-MODIFIED:20231128T173552Z
UID:10003219-1701595800-1701608400@uufcc.com
SUMMARY:Child Care
DESCRIPTION:
URL:https://uufcc.com/event/child-care-2/2023-12-03/
LOCATION:UUFCC – Room C\, 780 Waupelani Drive\, State College\, PA\, 16801\, United States
CATEGORIES:Lifespan Religious Exploration,RE Kids & Youth,Young Kids
ORGANIZER;CN="Unitarian Universalist Fellowship of Centre County":MAILTO:office@uufcc.com
END:VEVENT
BEGIN:VEVENT
DTSTART;TZID=America/New_York:20231203T100000
DTEND;TZID=America/New_York:20231203T110000
DTSTAMP:20260422T200222
CREATED:20231129T034330Z
LAST-MODIFIED:20231129T034759Z
UID:10003740-1701597600-1701601200@uufcc.com
SUMMARY:Family Chapel
DESCRIPTION:Join Family Chapel this week as we explore our monthly theme of Mystery. Sometimes we see other people as a mystery\, but what if looking at another person is like looking in a mirror in many ways? How do we see others as part of us and not strangers? What if each person in the world looked at all other people as part of themselves?
URL:https://uufcc.com/event/family-chapel-2/
LOCATION:UUFCC – Gathering Space\, 780 Waupelani Drive\, State College\, PA\, 16801\, United States
CATEGORIES:Lifespan Religious Exploration,RE Kids & Youth,Young Kids
ATTACH;FMTTYPE=image/png:https://uufcc.com/wp-content/uploads/2023/11/Family-Chapel-1.png
ORGANIZER;CN="Unitarian Universalist Fellowship of Centre County":MAILTO:office@uufcc.com
END:VEVENT
BEGIN:VEVENT
DTSTART;TZID=America/New_York:20231203T100000
DTEND;TZID=America/New_York:20231203T111500
DTSTAMP:20260422T200222
CREATED:20231028T162026Z
LAST-MODIFIED:20231129T004910Z
UID:10000682-1701597600-1701602100@uufcc.com
SUMMARY:RE Kids & Youth
DESCRIPTION:Pre-K and Kindergarten will meet downstairs in Room D at 10 am. Please sign in and sign out downstairs in Room D. We will explore candles for the winter holidays! \n1st through 5th grade – Join us for Family Chapel in the Gathering Space at 10 am!
URL:https://uufcc.com/event/re-kids-youth-2-6/
LOCATION:Unitarian Universalist Fellowship of Centre County\, 780 Waupelani Drive\, State College\, PA\, 16801\, United States
CATEGORIES:Lifespan Religious Exploration,RE Kids & Youth,Young Kids
ATTACH;FMTTYPE=image/png:https://uufcc.com/wp-content/uploads/2023/10/RE-Elementary-Pre-K.png
ORGANIZER;CN="Unitarian Universalist Fellowship of Centre County":MAILTO:office@uufcc.com
END:VEVENT
BEGIN:VEVENT
DTSTART;TZID=America/New_York:20231203T100000
DTEND;TZID=America/New_York:20231203T111500
DTSTAMP:20260422T200222
CREATED:20231128T171926Z
LAST-MODIFIED:20240127T145408Z
UID:10000948-1701597600-1701602100@uufcc.com
SUMMARY:Middle School Youth - Stamped from the Beginning\, Part I
DESCRIPTION:This Sunday\, we will begin the documentary\, Stamped from the Beginning\, and explore: \nIntroduction to Blackness (content warming: within this section are clips where the N-word is used as well as some swearing like “fuck”)\nMyth of Assimilation\n\nDiscussion will follow with Laurie Parmele and Laura Liermann
URL:https://uufcc.com/event/middle-school-youth-2-3/
LOCATION:UUFCC – Room 6\, 780 Waupelani Drive\, State College\, PA\, 16801\, United States
CATEGORIES:Lifespan Religious Exploration,Middle School Youth,RE Kids & Youth
ATTACH;FMTTYPE=image/png:https://uufcc.com/wp-content/uploads/2023/10/Middle-School-Youth.png
ORGANIZER;CN="Unitarian Universalist Fellowship of Centre County":MAILTO:office@uufcc.com
END:VEVENT
BEGIN:VEVENT
DTSTART;TZID=America/New_York:20231203T113000
DTEND;TZID=America/New_York:20231203T123000
DTSTAMP:20260422T200222
CREATED:20231023T232442Z
LAST-MODIFIED:20231023T232442Z
UID:10001474-1701603000-1701606600@uufcc.com
SUMMARY:Drum Circle
DESCRIPTION:led by Tim and Rachel Summers \nJoin together to experience communal drumming and learn various rhythms and have fun!
URL:https://uufcc.com/event/drum-circle/2023-12-03/
LOCATION:UUFCC – Gathering Space\, 780 Waupelani Drive\, State College\, PA\, 16801\, United States
CATEGORIES:Lifespan Religious Exploration
ATTACH;FMTTYPE=image/png:https://uufcc.com/wp-content/uploads/2023/10/Drum-Circle.png
ORGANIZER;CN="Unitarian Universalist Fellowship of Centre County":MAILTO:office@uufcc.com
END:VEVENT
BEGIN:VEVENT
DTSTART;TZID=America/New_York:20231204T123000
DTEND;TZID=America/New_York:20231204T130000
DTSTAMP:20260422T200222
CREATED:20231021T021336Z
LAST-MODIFIED:20250419T193312Z
UID:10000020-1701693000-1701694800@uufcc.com
SUMMARY:Meditation Monday
DESCRIPTION:Open to the public.\nJoin Kelle Kersten on Zoom for a guided meditation during your lunch to center yourself for the coming week!\nClick here to join the Zoom meeting.
URL:https://uufcc.com/event/meditation-monday/2023-12-04/
LOCATION:PA
CATEGORIES:Adult RE,Lifespan Religious Exploration
ATTACH;FMTTYPE=image/png:https://uufcc.com/wp-content/uploads/2023/10/UUFCC-Meditation-Mondays-540.png
END:VEVENT
BEGIN:VEVENT
DTSTART;TZID=America/New_York:20231207T143000
DTEND;TZID=America/New_York:20231207T160000
DTSTAMP:20260422T200222
CREATED:20231213T185939Z
LAST-MODIFIED:20231213T185939Z
UID:10003942-1701959400-1701964800@uufcc.com
SUMMARY:Memoirs Group
DESCRIPTION:
URL:https://uufcc.com/event/memoirs-group-2/2023-12-07/
LOCATION:Unitarian Universalist Fellowship of Centre County\, 780 Waupelani Drive\, State College\, PA\, 16801\, United States
CATEGORIES:Adult RE,Lifespan Religious Exploration
END:VEVENT
BEGIN:VEVENT
DTSTART;TZID=America/New_York:20231209T170000
DTEND;TZID=America/New_York:20231209T200000
DTSTAMP:20260422T200222
CREATED:20231207T151106Z
LAST-MODIFIED:20231207T151107Z
UID:10001478-1702141200-1702152000@uufcc.com
SUMMARY:Parents' Night Out
DESCRIPTION:Parents\, drop your kids off with our childcare providers for an evening of fun games\, dinner\, and a movie while you have some time for you! Open to the public. \nSign up for December here.
URL:https://uufcc.com/event/parents-night-out-4/
LOCATION:UUFCC – Fellowship Hall\, 780 Waupelani Drive\, State College\, PA\, 16801\, United States
CATEGORIES:Lifespan Religious Exploration,RE Kids & Youth,Young Kids
ATTACH;FMTTYPE=image/png:https://uufcc.com/wp-content/uploads/2023/10/Parents-Night-Out.png
ORGANIZER;CN="Unitarian Universalist Fellowship of Centre County":MAILTO:office@uufcc.com
END:VEVENT
BEGIN:VEVENT
DTSTART;TZID=America/New_York:20231210T093000
DTEND;TZID=America/New_York:20231210T130000
DTSTAMP:20260422T200222
CREATED:20231128T173327Z
LAST-MODIFIED:20231128T173552Z
UID:10003480-1702200600-1702213200@uufcc.com
SUMMARY:Child Care
DESCRIPTION:
URL:https://uufcc.com/event/child-care-2/2023-12-10/
LOCATION:UUFCC – Room C\, 780 Waupelani Drive\, State College\, PA\, 16801\, United States
CATEGORIES:Lifespan Religious Exploration,RE Kids & Youth,Young Kids
ORGANIZER;CN="Unitarian Universalist Fellowship of Centre County":MAILTO:office@uufcc.com
END:VEVENT
BEGIN:VEVENT
DTSTART;TZID=America/New_York:20231210T100000
DTEND;TZID=America/New_York:20231210T111500
DTSTAMP:20260422T200222
CREATED:20231025T164421Z
LAST-MODIFIED:20231128T172102Z
UID:10000683-1702202400-1702206900@uufcc.com
SUMMARY:RE Kids & Youth
DESCRIPTION:Pre-K and Kindergarten will meet downstairs in Room D at 10 am with Sue and Rocky. Please sign in and sign out downstairs in Room D. \n1st through 5th grade kids will start in the sanctuary and leave after the Wisdom Lesson. Sign in at the welcome table before the service and sign out downstairs by 11:15 am!
URL:https://uufcc.com/event/re-kids-youth-2/
LOCATION:Unitarian Universalist Fellowship of Centre County\, 780 Waupelani Drive\, State College\, PA\, 16801\, United States
CATEGORIES:Lifespan Religious Exploration,RE Kids & Youth,Young Kids
ATTACH;FMTTYPE=image/png:https://uufcc.com/wp-content/uploads/2023/10/RE-Elementary-Pre-K.png
ORGANIZER;CN="Unitarian Universalist Fellowship of Centre County":MAILTO:office@uufcc.com
END:VEVENT
BEGIN:VEVENT
DTSTART;TZID=America/New_York:20231210T110000
DTEND;TZID=America/New_York:20231210T120000
DTSTAMP:20260422T200222
CREATED:20231023T233012Z
LAST-MODIFIED:20231205T191208Z
UID:10001477-1702206000-1702209600@uufcc.com
SUMMARY:Hot Topics: White Christian Nationalism
DESCRIPTION:For our December Hot Topics\, we are joining University Baptist and Brethren for a presentation on White Christian Nationalism featuring Dr. Esther Prins \nDr. Esther Prins\, White Christian Nationalism: What is it and how should Christians respond?  This presentation will explore what White Christian nationalism is—and what it is not. Learn how education is showing up in current events (particularly in education) and reflect on why Christians should care and how we can work to counteract this powerful religio-political movement. \nEsther Prins is a professor in the Lifelong Learning and Adult Education Program at Penn State. Her research focuses on adult education (particularly adult and family literacy) and\, more broadly\, the intersection of (adult) education and social justice. With co-authors Mary Juzwik and Kevin Burke\, she recently published an article on White Christian nationalism and educational research (attached). She and Mary are writing a new article on White Christian nationalism and the local SCASD school board election. Esther grew up in the Christian Reformed Church and graduated from Wheaton College (BA\, Sociology) and Cornell University (Ph.D.\, Adult Education). She and her family (Leland Glenna\, Rural Sociology professor\, and Lily\, a 9th grader at Delta High) attend University Mennonite Church. \nDr. Prins would like us to take the survey at this link by Thursday\, December 7th – https://docs.google.com/forms/d/e/1FAIpQLSfa4ZSyYR623x-LrB4JWT9OLJVT41sWm-DodMv2uABHG7vovg/viewform \n\n  \nThis offering will be in person and on Zoom. \nInstructions for UBBC Zoom Worship & Adult Forum: \nBy computer or wifi device \n(no passcode needed) \nhttps://us02web.zoom.us/j/84996246803?pwd=SGpRUTh4L1FvU0NaMVpHaVJleFcxZz09 \n\nJoin us for a presentation on the “hot topics” of today!
URL:https://uufcc.com/event/hot-topics-white-christian-nationalism/
LOCATION:University Baptist and Brethren Church\, 411 S Burrowes St\, State College\, PA\, 16801\, United States
CATEGORIES:Adult RE,Intergenerational RE,Lifespan Religious Exploration
ATTACH;FMTTYPE=image/png:https://uufcc.com/wp-content/uploads/2023/10/white-christian-nationalism.png
ORGANIZER;CN="Unitarian Universalist Fellowship of Centre County":MAILTO:office@uufcc.com
END:VEVENT
BEGIN:VEVENT
DTSTART;TZID=America/New_York:20231211T123000
DTEND;TZID=America/New_York:20231211T130000
DTSTAMP:20260422T200222
CREATED:20231021T021336Z
LAST-MODIFIED:20250419T193312Z
UID:10000021-1702297800-1702299600@uufcc.com
SUMMARY:Meditation Monday
DESCRIPTION:Open to the public.\nJoin Kelle Kersten on Zoom for a guided meditation during your lunch to center yourself for the coming week!\nClick here to join the Zoom meeting.
URL:https://uufcc.com/event/meditation-monday/2023-12-11/
LOCATION:PA
CATEGORIES:Adult RE,Lifespan Religious Exploration
ATTACH;FMTTYPE=image/png:https://uufcc.com/wp-content/uploads/2023/10/UUFCC-Meditation-Mondays-540.png
END:VEVENT
BEGIN:VEVENT
DTSTART;TZID=America/New_York:20231216T190000
DTEND;TZID=America/New_York:20231216T210000
DTSTAMP:20260422T200222
CREATED:20231023T233503Z
LAST-MODIFIED:20231108T164506Z
UID:10001537-1702753200-1702760400@uufcc.com
SUMMARY:UU Adventures: Stargazing\, Firepit\, and Sing-Along
DESCRIPTION:Join us for a now annual event in our own backyard around our fire pit where we’ll enjoy a holiday sing-along and stargazing! Hot Chocolate\, s’mores\, and apples for roasting provided. Bundle up and join with friends in the fun. Sign up HERE!
URL:https://uufcc.com/event/uu-adventures-stargazing-firepit-and-sing-along/
LOCATION:Unitarian Universalist Fellowship of Centre County\, 780 Waupelani Drive\, State College\, PA\, 16801\, United States
CATEGORIES:Intergenerational RE,Lifespan Religious Exploration
ATTACH;FMTTYPE=image/png:https://uufcc.com/wp-content/uploads/2023/10/Fire-pit-sing-along.png
ORGANIZER;CN="Unitarian Universalist Fellowship of Centre County":MAILTO:office@uufcc.com
END:VEVENT
BEGIN:VEVENT
DTSTART;TZID=America/New_York:20231217T093000
DTEND;TZID=America/New_York:20231217T130000
DTSTAMP:20260422T200222
CREATED:20231128T173327Z
LAST-MODIFIED:20231128T173552Z
UID:10003481-1702805400-1702818000@uufcc.com
SUMMARY:Child Care
DESCRIPTION:
URL:https://uufcc.com/event/child-care-2/2023-12-17/
LOCATION:UUFCC – Room C\, 780 Waupelani Drive\, State College\, PA\, 16801\, United States
CATEGORIES:Lifespan Religious Exploration,RE Kids & Youth,Young Kids
ORGANIZER;CN="Unitarian Universalist Fellowship of Centre County":MAILTO:office@uufcc.com
END:VEVENT
BEGIN:VEVENT
DTSTART;TZID=America/New_York:20231218T123000
DTEND;TZID=America/New_York:20231218T130000
DTSTAMP:20260422T200222
CREATED:20231021T021336Z
LAST-MODIFIED:20250419T193312Z
UID:10000022-1702902600-1702904400@uufcc.com
SUMMARY:Meditation Monday
DESCRIPTION:Open to the public.\nJoin Kelle Kersten on Zoom for a guided meditation during your lunch to center yourself for the coming week!\nClick here to join the Zoom meeting.
URL:https://uufcc.com/event/meditation-monday/2023-12-18/
LOCATION:PA
CATEGORIES:Adult RE,Lifespan Religious Exploration
ATTACH;FMTTYPE=image/png:https://uufcc.com/wp-content/uploads/2023/10/UUFCC-Meditation-Mondays-540.png
END:VEVENT
BEGIN:VEVENT
DTSTART;TZID=America/New_York:20231221T143000
DTEND;TZID=America/New_York:20231221T160000
DTSTAMP:20260422T200222
CREATED:20231213T185939Z
LAST-MODIFIED:20231213T185939Z
UID:10003943-1703169000-1703174400@uufcc.com
SUMMARY:Memoirs Group
DESCRIPTION:
URL:https://uufcc.com/event/memoirs-group-2/2023-12-21/
LOCATION:Unitarian Universalist Fellowship of Centre County\, 780 Waupelani Drive\, State College\, PA\, 16801\, United States
CATEGORIES:Adult RE,Lifespan Religious Exploration
END:VEVENT
BEGIN:VEVENT
DTSTART;TZID=America/New_York:20231221T190000
DTEND;TZID=America/New_York:20231221T200000
DTSTAMP:20260422T200222
CREATED:20231023T234740Z
LAST-MODIFIED:20231101T163238Z
UID:10004804-1703185200-1703188800@uufcc.com
SUMMARY:Wheel of the Year
DESCRIPTION:
URL:https://uufcc.com/event/wheel-of-the-year/2023-12-21/
LOCATION:UUFCC – Fellowship Hall\, 780 Waupelani Drive\, State College\, PA\, 16801\, United States
CATEGORIES:Event,Interfaith Ritual,Intergenerational RE,Lifespan Religious Exploration,Worship Service
ATTACH;FMTTYPE=image/png:https://uufcc.com/wp-content/uploads/2023/09/Wheel-of-the-Year.png
ORGANIZER;CN="Unitarian Universalist Fellowship of Centre County":MAILTO:office@uufcc.com
END:VEVENT
BEGIN:VEVENT
DTSTART;TZID=America/New_York:20231224T093000
DTEND;TZID=America/New_York:20231224T130000
DTSTAMP:20260422T200222
CREATED:20231128T173327Z
LAST-MODIFIED:20231128T173552Z
UID:10003482-1703410200-1703422800@uufcc.com
SUMMARY:Child Care
DESCRIPTION:
URL:https://uufcc.com/event/child-care-2/2023-12-24/
LOCATION:UUFCC – Room C\, 780 Waupelani Drive\, State College\, PA\, 16801\, United States
CATEGORIES:Lifespan Religious Exploration,RE Kids & Youth,Young Kids
ORGANIZER;CN="Unitarian Universalist Fellowship of Centre County":MAILTO:office@uufcc.com
END:VEVENT
BEGIN:VEVENT
DTSTART;TZID=America/New_York:20231224T100000
DTEND;TZID=America/New_York:20231224T120000
DTSTAMP:20260422T200222
CREATED:20231205T191817Z
LAST-MODIFIED:20231205T191817Z
UID:10003805-1703412000-1703419200@uufcc.com
SUMMARY:Gift-Making (for kids)
DESCRIPTION:All kids (Pre-K through Middle School) are invited to join in craft making and art. Parents are welcome to drop off and pick up by noon. Please sign up here by Saturday\, December 23.
URL:https://uufcc.com/event/gift-making-for-kids/
LOCATION:Unitarian Universalist Fellowship of Centre County\, 780 Waupelani Drive\, State College\, PA\, 16801\, United States
CATEGORIES:Event,Lifespan Religious Exploration,Middle School Youth,RE Kids & Youth,Young Kids
ATTACH;FMTTYPE=image/png:https://uufcc.com/wp-content/uploads/2023/12/Gift-Making-for-kids.png
END:VEVENT
BEGIN:VEVENT
DTSTART;TZID=America/New_York:20231225T123000
DTEND;TZID=America/New_York:20231225T130000
DTSTAMP:20260422T200222
CREATED:20231021T021336Z
LAST-MODIFIED:20250419T193312Z
UID:10000023-1703507400-1703509200@uufcc.com
SUMMARY:Meditation Monday
DESCRIPTION:Open to the public.\nJoin Kelle Kersten on Zoom for a guided meditation during your lunch to center yourself for the coming week!\nClick here to join the Zoom meeting.
URL:https://uufcc.com/event/meditation-monday/2023-12-25/
LOCATION:PA
CATEGORIES:Adult RE,Lifespan Religious Exploration
ATTACH;FMTTYPE=image/png:https://uufcc.com/wp-content/uploads/2023/10/UUFCC-Meditation-Mondays-540.png
END:VEVENT
BEGIN:VEVENT
DTSTART;TZID=America/New_York:20231231T093000
DTEND;TZID=America/New_York:20231231T130000
DTSTAMP:20260422T200222
CREATED:20231128T173327Z
LAST-MODIFIED:20231128T173552Z
UID:10003483-1704015000-1704027600@uufcc.com
SUMMARY:Child Care
DESCRIPTION:
URL:https://uufcc.com/event/child-care-2/2023-12-31/
LOCATION:UUFCC – Room C\, 780 Waupelani Drive\, State College\, PA\, 16801\, United States
CATEGORIES:Lifespan Religious Exploration,RE Kids & Youth,Young Kids
ORGANIZER;CN="Unitarian Universalist Fellowship of Centre County":MAILTO:office@uufcc.com
END:VEVENT
END:VCALENDAR