BEGIN:VCALENDAR
VERSION:2.0
PRODID:-//UUFCC - ECPv6.15.17//NONSGML v1.0//EN
CALSCALE:GREGORIAN
METHOD:PUBLISH
X-ORIGINAL-URL:https://uufcc.com
X-WR-CALDESC:Events for UUFCC
REFRESH-INTERVAL;VALUE=DURATION:PT1H
X-Robots-Tag:noindex
X-PUBLISHED-TTL:PT1H
BEGIN:VTIMEZONE
TZID:America/New_York
BEGIN:DAYLIGHT
TZOFFSETFROM:-0500
TZOFFSETTO:-0400
TZNAME:EDT
DTSTART:20230312T070000
END:DAYLIGHT
BEGIN:STANDARD
TZOFFSETFROM:-0400
TZOFFSETTO:-0500
TZNAME:EST
DTSTART:20231105T060000
END:STANDARD
BEGIN:DAYLIGHT
TZOFFSETFROM:-0500
TZOFFSETTO:-0400
TZNAME:EDT
DTSTART:20240310T070000
END:DAYLIGHT
BEGIN:STANDARD
TZOFFSETFROM:-0400
TZOFFSETTO:-0500
TZNAME:EST
DTSTART:20241103T060000
END:STANDARD
BEGIN:DAYLIGHT
TZOFFSETFROM:-0500
TZOFFSETTO:-0400
TZNAME:EDT
DTSTART:20250309T070000
END:DAYLIGHT
BEGIN:STANDARD
TZOFFSETFROM:-0400
TZOFFSETTO:-0500
TZNAME:EST
DTSTART:20251102T060000
END:STANDARD
END:VTIMEZONE
BEGIN:VEVENT
DTSTART;TZID=America/New_York:20240101T123000
DTEND;TZID=America/New_York:20240101T130000
DTSTAMP:20260421T092703
CREATED:20231021T021336Z
LAST-MODIFIED:20250419T193312Z
UID:10000024-1704112200-1704114000@uufcc.com
SUMMARY:Meditation Monday
DESCRIPTION:Open to the public.\nJoin Kelle Kersten on Zoom for a guided meditation during your lunch to center yourself for the coming week!\nClick here to join the Zoom meeting.
URL:https://uufcc.com/event/meditation-monday/2024-01-01/
CATEGORIES:Adult RE,Lifespan Religious Exploration
ATTACH;FMTTYPE=image/png:https://uufcc.com/wp-content/uploads/2023/10/UUFCC-Meditation-Mondays-540.png
END:VEVENT
BEGIN:VEVENT
DTSTART;TZID=America/New_York:20240104T143000
DTEND;TZID=America/New_York:20240104T160000
DTSTAMP:20260421T092703
CREATED:20231213T185939Z
LAST-MODIFIED:20231213T185939Z
UID:10003944-1704378600-1704384000@uufcc.com
SUMMARY:Memoirs Group
DESCRIPTION:
URL:https://uufcc.com/event/memoirs-group-2/2024-01-04/
LOCATION:Unitarian Universalist Fellowship of Centre County\, 780 Waupelani Drive\, State College\, PA\, 16801\, United States
CATEGORIES:Adult RE,Lifespan Religious Exploration
END:VEVENT
BEGIN:VEVENT
DTSTART;TZID=America/New_York:20240107T093000
DTEND;TZID=America/New_York:20240107T130000
DTSTAMP:20260421T092703
CREATED:20231128T173327Z
LAST-MODIFIED:20231128T173552Z
UID:10003484-1704619800-1704632400@uufcc.com
SUMMARY:Child Care
DESCRIPTION:
URL:https://uufcc.com/event/child-care-2/2024-01-07/
LOCATION:UUFCC – Room C\, 780 Waupelani Drive\, State College\, PA\, 16801\, United States
CATEGORIES:Lifespan Religious Exploration,RE Kids & Youth,Young Kids
ORGANIZER;CN="Unitarian Universalist Fellowship of Centre County":MAILTO:office@uufcc.com
END:VEVENT
BEGIN:VEVENT
DTSTART;TZID=America/New_York:20240107T100000
DTEND;TZID=America/New_York:20240107T110000
DTSTAMP:20260421T092703
CREATED:20240102T215816Z
LAST-MODIFIED:20240102T215817Z
UID:10003741-1704621600-1704625200@uufcc.com
SUMMARY:Family Chapel
DESCRIPTION:Join us this Sunday for Family Chapel open to our RE Elementary kids and parents. We’ll explore Liberating Love and how we can swim upstream to fight systems of oppression. A fun\, engaging\, and interactive time for everyone.
URL:https://uufcc.com/event/family-chapel-3/
LOCATION:UUFCC – Gathering Space\, 780 Waupelani Drive\, State College\, PA\, 16801\, United States
CATEGORIES:Lifespan Religious Exploration,RE Kids & Youth,Young Kids
ORGANIZER;CN="Unitarian Universalist Fellowship of Centre County":MAILTO:office@uufcc.com
END:VEVENT
BEGIN:VEVENT
DTSTART;TZID=America/New_York:20240108T123000
DTEND;TZID=America/New_York:20240108T130000
DTSTAMP:20260421T092703
CREATED:20231021T021336Z
LAST-MODIFIED:20250419T193312Z
UID:10000025-1704717000-1704718800@uufcc.com
SUMMARY:Meditation Monday
DESCRIPTION:Open to the public.\nJoin Kelle Kersten on Zoom for a guided meditation during your lunch to center yourself for the coming week!\nClick here to join the Zoom meeting.
URL:https://uufcc.com/event/meditation-monday/2024-01-08/
CATEGORIES:Adult RE,Lifespan Religious Exploration
ATTACH;FMTTYPE=image/png:https://uufcc.com/wp-content/uploads/2023/10/UUFCC-Meditation-Mondays-540.png
END:VEVENT
BEGIN:VEVENT
DTSTART;TZID=America/New_York:20240114T093000
DTEND;TZID=America/New_York:20240114T130000
DTSTAMP:20260421T092703
CREATED:20231128T173327Z
LAST-MODIFIED:20231128T173552Z
UID:10003485-1705224600-1705237200@uufcc.com
SUMMARY:Child Care
DESCRIPTION:
URL:https://uufcc.com/event/child-care-2/2024-01-14/
LOCATION:UUFCC – Room C\, 780 Waupelani Drive\, State College\, PA\, 16801\, United States
CATEGORIES:Lifespan Religious Exploration,RE Kids & Youth,Young Kids
ORGANIZER;CN="Unitarian Universalist Fellowship of Centre County":MAILTO:office@uufcc.com
END:VEVENT
BEGIN:VEVENT
DTSTART;TZID=America/New_York:20240114T100000
DTEND;TZID=America/New_York:20240114T110000
DTSTAMP:20260421T092703
CREATED:20240109T151445Z
LAST-MODIFIED:20240109T151445Z
UID:10004146-1705226400-1705230000@uufcc.com
SUMMARY:RE Pre-K/Kindergarten Kids
DESCRIPTION:This week our Pre-K/K friends are invited to our Sunday Multi-generational MLK service at 10 am in the Sanctuary.
URL:https://uufcc.com/event/re-pre-k-kindergarten-kids/
LOCATION:UUFCC – Gathering Space and Room D\, 780 Waupelani Drive\, State College\, PA\, 16801\, United States
CATEGORIES:Lifespan Religious Exploration,Young Kids
ATTACH;FMTTYPE=image/png:https://uufcc.com/wp-content/uploads/2024/01/RE-Pre-KK-Kids.png
END:VEVENT
BEGIN:VEVENT
DTSTART;TZID=America/New_York:20240114T113000
DTEND;TZID=America/New_York:20240114T130000
DTSTAMP:20260421T092703
CREATED:20240102T223820Z
LAST-MODIFIED:20240102T223820Z
UID:10004138-1705231800-1705237200@uufcc.com
SUMMARY:Hot Topics ~ Contemporary Racist Behavior in the US
DESCRIPTION:The next Hot Topics event will explore the origins of contemporary racist behavior in the US utilizing excerpts from the acclaimed documentary\, “Stamped from the Beginning\,” based on the book of the same name by Ibram X Kendi. Discussion to follow\, facilitated by our Racial Justice Committee.
URL:https://uufcc.com/event/hottopics-1-14-2024/
LOCATION:UUFCC – Sanctuary\, 780 Waupelani Drive\, State College\, PA\, 16801\, United States
CATEGORIES:Adult RE,Lifespan Religious Exploration
ATTACH;FMTTYPE=image/png:https://uufcc.com/wp-content/uploads/2024/01/Hot-Topics-January.png
ORGANIZER;CN="Unitarian Universalist Fellowship of Centre County":MAILTO:office@uufcc.com
END:VEVENT
BEGIN:VEVENT
DTSTART;TZID=America/New_York:20240115T123000
DTEND;TZID=America/New_York:20240115T130000
DTSTAMP:20260421T092703
CREATED:20231021T021336Z
LAST-MODIFIED:20250419T193312Z
UID:10000026-1705321800-1705323600@uufcc.com
SUMMARY:Meditation Monday
DESCRIPTION:Open to the public.\nJoin Kelle Kersten on Zoom for a guided meditation during your lunch to center yourself for the coming week!\nClick here to join the Zoom meeting.
URL:https://uufcc.com/event/meditation-monday/2024-01-15/
CATEGORIES:Adult RE,Lifespan Religious Exploration
ATTACH;FMTTYPE=image/png:https://uufcc.com/wp-content/uploads/2023/10/UUFCC-Meditation-Mondays-540.png
END:VEVENT
BEGIN:VEVENT
DTSTART;TZID=America/New_York:20240118T143000
DTEND;TZID=America/New_York:20240118T160000
DTSTAMP:20260421T092703
CREATED:20231213T185939Z
LAST-MODIFIED:20231213T185939Z
UID:10003945-1705588200-1705593600@uufcc.com
SUMMARY:Memoirs Group
DESCRIPTION:
URL:https://uufcc.com/event/memoirs-group-2/2024-01-18/
LOCATION:Unitarian Universalist Fellowship of Centre County\, 780 Waupelani Drive\, State College\, PA\, 16801\, United States
CATEGORIES:Adult RE,Lifespan Religious Exploration
END:VEVENT
BEGIN:VEVENT
DTSTART;TZID=America/New_York:20240118T190000
DTEND;TZID=America/New_York:20240118T200000
DTSTAMP:20260421T092703
CREATED:20231023T234740Z
LAST-MODIFIED:20231101T163238Z
UID:10004805-1705604400-1705608000@uufcc.com
SUMMARY:Wheel of the Year
DESCRIPTION:
URL:https://uufcc.com/event/wheel-of-the-year/2024-01-18/
LOCATION:UUFCC – Fellowship Hall\, 780 Waupelani Drive\, State College\, PA\, 16801\, United States
CATEGORIES:Event,Interfaith Ritual,Intergenerational RE,Lifespan Religious Exploration,Worship Service
ATTACH;FMTTYPE=image/png:https://uufcc.com/wp-content/uploads/2023/09/Wheel-of-the-Year.png
ORGANIZER;CN="Unitarian Universalist Fellowship of Centre County":MAILTO:office@uufcc.com
END:VEVENT
BEGIN:VEVENT
DTSTART;TZID=America/New_York:20240118T190000
DTEND;TZID=America/New_York:20240118T200000
DTSTAMP:20260421T092703
CREATED:20240117T020128Z
LAST-MODIFIED:20240117T020129Z
UID:10001762-1705604400-1705608000@uufcc.com
SUMMARY:Wheel of the Year
DESCRIPTION:January– Liberating Love (theme) \n          Appreciating the gifts of winter \nRitual: Setting Intentions for the New Year
URL:https://uufcc.com/event/wheel-of-the-year-2/
LOCATION:UUFCC – Fellowship Hall\, 780 Waupelani Drive\, State College\, PA\, 16801\, United States
CATEGORIES:Event,Interfaith Ritual,Intergenerational RE,Lifespan Religious Exploration,Worship Service
ATTACH;FMTTYPE=image/png:https://uufcc.com/wp-content/uploads/2023/10/January.png
ORGANIZER;CN="Unitarian Universalist Fellowship of Centre County":MAILTO:office@uufcc.com
END:VEVENT
BEGIN:VEVENT
DTSTART;TZID=America/New_York:20240120T170000
DTEND;TZID=America/New_York:20240120T200000
DTSTAMP:20260421T092703
CREATED:20240109T181800Z
LAST-MODIFIED:20240116T145353Z
UID:10001479-1705770000-1705780800@uufcc.com
SUMMARY:Parents' Night Out
DESCRIPTION:Parents\, drop your kids off with our childcare providers for an evening of fun games\, dinner\, and a movie while you have some time for you! Sign up here: https://uufcc.breezechms.com/form/PNOJan2024. Open to the public.
URL:https://uufcc.com/event/parents-night-out-5/
LOCATION:UUFCC – Fellowship Hall\, 780 Waupelani Drive\, State College\, PA\, 16801\, United States
CATEGORIES:Lifespan Religious Exploration,RE Kids & Youth,Young Kids
ATTACH;FMTTYPE=image/png:https://uufcc.com/wp-content/uploads/2023/10/Parents-Night-Out.png
ORGANIZER;CN="Unitarian Universalist Fellowship of Centre County":MAILTO:office@uufcc.com
END:VEVENT
BEGIN:VEVENT
DTSTART;TZID=America/New_York:20240121T093000
DTEND;TZID=America/New_York:20240121T130000
DTSTAMP:20260421T092703
CREATED:20231128T173327Z
LAST-MODIFIED:20231128T173552Z
UID:10003486-1705829400-1705842000@uufcc.com
SUMMARY:Child Care
DESCRIPTION:
URL:https://uufcc.com/event/child-care-2/2024-01-21/
LOCATION:UUFCC – Room C\, 780 Waupelani Drive\, State College\, PA\, 16801\, United States
CATEGORIES:Lifespan Religious Exploration,RE Kids & Youth,Young Kids
ORGANIZER;CN="Unitarian Universalist Fellowship of Centre County":MAILTO:office@uufcc.com
END:VEVENT
BEGIN:VEVENT
DTSTART;TZID=America/New_York:20240121T100000
DTEND;TZID=America/New_York:20240121T110000
DTSTAMP:20260421T092703
CREATED:20240117T022412Z
LAST-MODIFIED:20240120T155001Z
UID:10004147-1705831200-1705834800@uufcc.com
SUMMARY:RE Pre-K/Kindergarten Kids ~ "I Was a Baby Once"
DESCRIPTION:Join us for “I Was a Baby Once”. Please bring a picture of yourself as a baby! \nThis week our Pre-K/K friends will begin in Room D downstairs. Sign-in will be in Room D.
URL:https://uufcc.com/event/re-pre-k-kindergarten-kids-2/
LOCATION:UUFCC – Gathering Space and Room D\, 780 Waupelani Drive\, State College\, PA\, 16801\, United States
CATEGORIES:Lifespan Religious Exploration,Young Kids
ATTACH;FMTTYPE=image/png:https://uufcc.com/wp-content/uploads/2024/01/RE-Pre-KK-Kids.png
END:VEVENT
BEGIN:VEVENT
DTSTART;TZID=America/New_York:20240121T100000
DTEND;TZID=America/New_York:20240121T110000
DTSTAMP:20260421T092703
CREATED:20240117T134440Z
LAST-MODIFIED:20240120T155055Z
UID:10004810-1705831200-1705834800@uufcc.com
SUMMARY:RE 1st - 5th Grade Kids ~ Anti-Racism Lesson
DESCRIPTION:Join us this week for our next Anti-Racism Lesson. \n1st-2nd Grade friends will explore “My Friends\, My School” \n3rd-5th Grade friends will explore “Empathy”
URL:https://uufcc.com/event/re-1st-5th-grade-kids-2/
LOCATION:Unitarian Universalist Fellowship of Centre County\, 780 Waupelani Drive\, State College\, PA\, 16801\, United States
CATEGORIES:Lifespan Religious Exploration,RE Kids & Youth,Young Kids
ATTACH;FMTTYPE=image/png:https://uufcc.com/wp-content/uploads/2024/01/RE-Kids.png
END:VEVENT
BEGIN:VEVENT
DTSTART;TZID=America/New_York:20240121T113000
DTEND;TZID=America/New_York:20240121T130000
DTSTAMP:20260421T092703
CREATED:20240117T135607Z
LAST-MODIFIED:20240117T180139Z
UID:10004881-1705836600-1705842000@uufcc.com
SUMMARY:Death\, Grief\, and Comfort
DESCRIPTION:Our companions in life are death and grief and yet they are so difficult to talk about\, and rarely at that. In times of loss\, how do we find healthy comfort? Further\, is emotional comfort something human beings should even expect as part of life? \nIn the death workshop we will go over practical matters\, memorial services\, and think about our own deaths. The grief workshop includes how to walk with grief\, writing condolence notes\, and digging deep into the grief of being human. The last workshop on comfort helps us understand how we can comfort ourselves naturally as well as realign our expectations of comfort. \nThese three workshops can be taken together or on their own. Each workshop includes videos\, exercises\, information sharing\, and conversation. \n 
URL:https://uufcc.com/event/death-grief-and-comfort/2024-01-21/
LOCATION:Unitarian Universalist Fellowship of Centre County\, 780 Waupelani Drive\, State College\, PA\, 16801\, United States
CATEGORIES:Adult RE,Lifespan Religious Exploration
ATTACH;FMTTYPE=image/png:https://uufcc.com/wp-content/uploads/2024/01/Death-Grief-and-Comfort-Re-Hour-TS.png
END:VEVENT
BEGIN:VEVENT
DTSTART;TZID=America/New_York:20240121T113000
DTEND;TZID=America/New_York:20240121T130000
DTSTAMP:20260421T092703
CREATED:20240117T160155Z
LAST-MODIFIED:20240117T160155Z
UID:10004890-1705836600-1705842000@uufcc.com
SUMMARY:Resilience and Acceptance in the Face of Collapse
DESCRIPTION:This course\, which takes a sobering introduction to societal collapse\, then guides you through a supportive pathway to greater resilience and acceptance in the face of collapse\, will meet through February 4 with leaders Kelle Kersten and Bob Flatley.
URL:https://uufcc.com/event/resilience/2024-01-21/
LOCATION:Unitarian Universalist Fellowship of Centre County\, 780 Waupelani Drive\, State College\, PA\, 16801\, United States
CATEGORIES:Adult RE,Lifespan Religious Exploration
ATTACH;FMTTYPE=image/png:https://uufcc.com/wp-content/uploads/2024/01/Resilience-and-Acceptance-in-the-Face-of-Collapse.png
END:VEVENT
BEGIN:VEVENT
DTSTART;TZID=America/New_York:20240122T123000
DTEND;TZID=America/New_York:20240122T130000
DTSTAMP:20260421T092703
CREATED:20231021T021336Z
LAST-MODIFIED:20250419T193312Z
UID:10000027-1705926600-1705928400@uufcc.com
SUMMARY:Meditation Monday
DESCRIPTION:Open to the public.\nJoin Kelle Kersten on Zoom for a guided meditation during your lunch to center yourself for the coming week!\nClick here to join the Zoom meeting.
URL:https://uufcc.com/event/meditation-monday/2024-01-22/
CATEGORIES:Adult RE,Lifespan Religious Exploration
ATTACH;FMTTYPE=image/png:https://uufcc.com/wp-content/uploads/2023/10/UUFCC-Meditation-Mondays-540.png
END:VEVENT
BEGIN:VEVENT
DTSTART;TZID=America/New_York:20240128T093000
DTEND;TZID=America/New_York:20240128T130000
DTSTAMP:20260421T092703
CREATED:20231128T173327Z
LAST-MODIFIED:20231128T173552Z
UID:10003487-1706434200-1706446800@uufcc.com
SUMMARY:Child Care
DESCRIPTION:
URL:https://uufcc.com/event/child-care-2/2024-01-28/
LOCATION:UUFCC – Room C\, 780 Waupelani Drive\, State College\, PA\, 16801\, United States
CATEGORIES:Lifespan Religious Exploration,RE Kids & Youth,Young Kids
ORGANIZER;CN="Unitarian Universalist Fellowship of Centre County":MAILTO:office@uufcc.com
END:VEVENT
BEGIN:VEVENT
DTSTART;TZID=America/New_York:20240128T100000
DTEND;TZID=America/New_York:20240128T110000
DTSTAMP:20260421T092703
CREATED:20240117T022711Z
LAST-MODIFIED:20240124T125607Z
UID:10004148-1706436000-1706439600@uufcc.com
SUMMARY:RE Pre-K/Kindergarten Kids - Friendship
DESCRIPTION:Join us as we explore “Friendship”! This week our Pre-K/K friends will begin in Room D downstairs. Sign-in will be in Room D.
URL:https://uufcc.com/event/re-pre-k-kindergarten-kids-3/
LOCATION:UUFCC – Gathering Space and Room D\, 780 Waupelani Drive\, State College\, PA\, 16801\, United States
CATEGORIES:Lifespan Religious Exploration,Young Kids
ATTACH;FMTTYPE=image/png:https://uufcc.com/wp-content/uploads/2024/01/RE-Pre-KK-Kids.png
END:VEVENT
BEGIN:VEVENT
DTSTART;TZID=America/New_York:20240128T100000
DTEND;TZID=America/New_York:20240128T110000
DTSTAMP:20260421T092703
CREATED:20240124T141256Z
LAST-MODIFIED:20240124T141333Z
UID:10004811-1706436000-1706439600@uufcc.com
SUMMARY:RE 1st - 5th Grade Kids - Resist\, Reform\, Re-imagine\, Recreate
DESCRIPTION:Join us this week as we explore the 4 R’s of Social Transformation and talk about 30 Days of Love (focusing on Climate Justice) \nThis Sunday\, our elementary friends will start in the sanctuary and go to the Gathering Space after the Wisdom Lesson.
URL:https://uufcc.com/event/re-1st-5th-grade-kids-3/
LOCATION:Unitarian Universalist Fellowship of Centre County\, 780 Waupelani Drive\, State College\, PA\, 16801\, United States
CATEGORIES:Lifespan Religious Exploration,RE Kids & Youth,Young Kids
ATTACH;FMTTYPE=image/png:https://uufcc.com/wp-content/uploads/2024/01/RE-Kids.png
END:VEVENT
BEGIN:VEVENT
DTSTART;TZID=America/New_York:20240128T100000
DTEND;TZID=America/New_York:20240128T111500
DTSTAMP:20260421T092703
CREATED:20240129T155942Z
LAST-MODIFIED:20240129T155942Z
UID:10004900-1706436000-1706440500@uufcc.com
SUMMARY:Middle School RE - Stamped from the Beginning Part I
DESCRIPTION:Join our Middle School class to watch the Netflix documentary\, Stamped from the Beginning\, based on the book by Ibram X. Kendi. This will be our first of three viewings and discussion on this topic of anti-racism. This week’s topic will center on: \n\nIntroduction to Blackness\nMyth of Assimilation\n\n\nLaura Liermann from the Racial Justice Committee will help facilitate discussion after the film viewing.
URL:https://uufcc.com/event/middle-school-re-stamped-from-the-beginning-part-i/
LOCATION:Unitarian Universalist Fellowship of Centre County\, 780 Waupelani Drive\, State College\, PA\, 16801\, United States
CATEGORIES:Lifespan Religious Exploration,Middle School Youth
ATTACH;FMTTYPE=image/png:https://uufcc.com/wp-content/uploads/2023/10/Middle-School-Youth.png
END:VEVENT
BEGIN:VEVENT
DTSTART;TZID=America/New_York:20240128T113000
DTEND;TZID=America/New_York:20240128T130000
DTSTAMP:20260421T092703
CREATED:20231108T205836Z
LAST-MODIFIED:20240122T200608Z
UID:10002888-1706441400-1706446800@uufcc.com
SUMMARY:Book Discussion: "The Heaven and Earth Grocery Store" by James McBride
DESCRIPTION:Please join us for a discussion of James McBride’s The Heaven and Earth Grocery Store (2023). Books can be obtained at Barnes & Noble in State College or over Amazon. \nClick here for a list of discussion ideas to think about. \n\nThe discussion will be led by Leslie Brown\, who has this to say about the book and its author: \nSelecting a work of fiction for this venue is out of the ordinary\, but the literary genre can show us much about living as a person of color in past and present America. I have read most of McBride’s novels that feature a variety of settings and historical contexts and have loved them all. The Good Lord Bird\, for which McBride received a National Book Award\, is set in the 1850s in the maelstrom of John Brown’s infamous uprising against the U.S. government. But HEGS stands at the top of my Favorites list\, in part because its historical context resonates with us: 1930s Pottstown\, PA. Two groups of “other” Americans—Blacks and Jews—live\, die\, struggle\, and strive to thrive together within a neglected community that must depend exclusively on its own resilience and resourcefulness. The diversity of characters makes for a lively tail of collaboration to rescue a Black child from the horrors of the notorious mental institution\, Pennhurst. McBride educates\, intrigues\, and entertains the reader\, but what is essential is that he makes us feel. \nQuestions or ideas? Please contact Leslie Brown.
URL:https://uufcc.com/event/book-discussion-heaven-and-earth-grocery-store/
LOCATION:UUFCC – Room 6\, 780 Waupelani Drive\, State College\, PA\, 16801\, United States
CATEGORIES:Adult RE,Lifespan Religious Exploration
ATTACH;FMTTYPE=image/png:https://uufcc.com/wp-content/uploads/2023/11/Untitled-design35.png
END:VEVENT
BEGIN:VEVENT
DTSTART;TZID=America/New_York:20240129T123000
DTEND;TZID=America/New_York:20240129T130000
DTSTAMP:20260421T092703
CREATED:20231021T021336Z
LAST-MODIFIED:20250419T193312Z
UID:10000028-1706531400-1706533200@uufcc.com
SUMMARY:Meditation Monday
DESCRIPTION:Open to the public.\nJoin Kelle Kersten on Zoom for a guided meditation during your lunch to center yourself for the coming week!\nClick here to join the Zoom meeting.
URL:https://uufcc.com/event/meditation-monday/2024-01-29/
CATEGORIES:Adult RE,Lifespan Religious Exploration
ATTACH;FMTTYPE=image/png:https://uufcc.com/wp-content/uploads/2023/10/UUFCC-Meditation-Mondays-540.png
END:VEVENT
END:VCALENDAR