BEGIN:VCALENDAR
VERSION:2.0
PRODID:-//UUFCC - ECPv6.15.17//NONSGML v1.0//EN
CALSCALE:GREGORIAN
METHOD:PUBLISH
X-WR-CALNAME:UUFCC
X-ORIGINAL-URL:https://uufcc.com
X-WR-CALDESC:Events for UUFCC
REFRESH-INTERVAL;VALUE=DURATION:PT1H
X-Robots-Tag:noindex
X-PUBLISHED-TTL:PT1H
BEGIN:VTIMEZONE
TZID:America/New_York
BEGIN:DAYLIGHT
TZOFFSETFROM:-0500
TZOFFSETTO:-0400
TZNAME:EDT
DTSTART:20240310T070000
END:DAYLIGHT
BEGIN:STANDARD
TZOFFSETFROM:-0400
TZOFFSETTO:-0500
TZNAME:EST
DTSTART:20241103T060000
END:STANDARD
BEGIN:DAYLIGHT
TZOFFSETFROM:-0500
TZOFFSETTO:-0400
TZNAME:EDT
DTSTART:20250309T070000
END:DAYLIGHT
BEGIN:STANDARD
TZOFFSETFROM:-0400
TZOFFSETTO:-0500
TZNAME:EST
DTSTART:20251102T060000
END:STANDARD
BEGIN:DAYLIGHT
TZOFFSETFROM:-0500
TZOFFSETTO:-0400
TZNAME:EDT
DTSTART:20260308T070000
END:DAYLIGHT
BEGIN:STANDARD
TZOFFSETFROM:-0400
TZOFFSETTO:-0500
TZNAME:EST
DTSTART:20261101T060000
END:STANDARD
END:VTIMEZONE
BEGIN:VEVENT
DTSTART;TZID=America/New_York:20250601T093000
DTEND;TZID=America/New_York:20250601T130000
DTSTAMP:20260424T085239
CREATED:20231128T173327Z
LAST-MODIFIED:20231128T173552Z
UID:10003557-1748770200-1748782800@uufcc.com
SUMMARY:Child Care
DESCRIPTION:
URL:https://uufcc.com/event/child-care-2/2025-06-01/
LOCATION:UUFCC – Room C\, 780 Waupelani Drive\, State College\, PA\, 16801\, United States
CATEGORIES:Lifespan Religious Exploration,RE Kids & Youth,Young Kids
ORGANIZER;CN="Unitarian Universalist Fellowship of Centre County":MAILTO:office@uufcc.com
END:VEVENT
BEGIN:VEVENT
DTSTART;TZID=America/New_York:20250601T100000
DTEND;TZID=America/New_York:20250601T110000
DTSTAMP:20260424T085239
CREATED:20250119T154520Z
LAST-MODIFIED:20250529T171817Z
UID:10007731-1748772000-1748775600@uufcc.com
SUMMARY:RE 1st - 5th Grade: All Ages RE
DESCRIPTION:Join in the Sanctuary first for the Wisdom Lesson / welcome Ashley Hamlin back\, and then the children will be sung out to go downstairs for all-ages RE.
URL:https://uufcc.com/event/re-pre-k-through-5th-grade-multi-generational-sunday-service-2/
LOCATION:UUFCC – Sanctuary\, 780 Waupelani Drive\, State College\, PA\, 16801\, United States
CATEGORIES:Lifespan Religious Exploration,RE Kids & Youth,Young Kids
ATTACH;FMTTYPE=image/png:https://uufcc.com/wp-content/uploads/2024/01/RE-Pre-KK-Kids.png
ORGANIZER;CN="Unitarian Universalist Fellowship of Centre County":MAILTO:office@uufcc.com
END:VEVENT
BEGIN:VEVENT
DTSTART;TZID=America/New_York:20250601T100000
DTEND;TZID=America/New_York:20250601T110000
DTSTAMP:20260424T085239
CREATED:20250119T154841Z
LAST-MODIFIED:20250119T161027Z
UID:10008159-1748772000-1748775600@uufcc.com
SUMMARY:RE Pre-K/K: "I Can Taste"
DESCRIPTION:Each week our kids will gather to explore our world in light of our UU values. \nPre-K/K friends will engage in guided exploration of various topics with their wonderful teachers. Sue Smith and Rocky Landers\, downstairs in Room D.
URL:https://uufcc.com/event/re-pre-k-k-i-can-taste/
LOCATION:UUFCC – Gathering Space and Room D\, 780 Waupelani Drive\, State College\, PA\, 16801\, United States
CATEGORIES:Lifespan Religious Exploration,RE Kids & Youth,Young Kids
ATTACH;FMTTYPE=image/png:https://uufcc.com/wp-content/uploads/2024/01/RE-Pre-KK-Kids.png
ORGANIZER;CN="Unitarian Universalist Fellowship of Centre County":MAILTO:office@uufcc.com
END:VEVENT
BEGIN:VEVENT
DTSTART;TZID=America/New_York:20250601T113000
DTEND;TZID=America/New_York:20250601T130000
DTSTAMP:20260424T085239
CREATED:20240827T150049Z
LAST-MODIFIED:20250520T184750Z
UID:10008163-1748777400-1748782800@uufcc.com
SUMMARY:Annual Meeting + End of Year Celebration 2025
DESCRIPTION:Join us for a short Annual Meeting\, after which we will celebrate the end of the year! \nWe’ll gather outdoors (weather permitting) for a festive potluck to celebrate the close of the RE year. The Board will provide sandwich fixings\, and the RE Team will treat us to an ice cream bar. \nThis is also a special opportunity to welcome back Ashley Hamlin\, our Director of Religious Lifespan Education. Bring a dish to share and come celebrate with us!
URL:https://uufcc.com/event/annual-meeting-2025/
LOCATION:Unitarian Universalist Fellowship of Centre County\, 780 Waupelani Drive\, State College\, PA\, 16801\, United States
CATEGORIES:Event,Intergenerational RE,Lifespan Religious Exploration,Meeting
ORGANIZER;CN="Unitarian Universalist Fellowship of Centre County":MAILTO:office@uufcc.com
END:VEVENT
BEGIN:VEVENT
DTSTART;TZID=America/New_York:20250602T123000
DTEND;TZID=America/New_York:20250602T130000
DTSTAMP:20260424T085239
CREATED:20231021T021336Z
LAST-MODIFIED:20250419T193312Z
UID:10000098-1748867400-1748869200@uufcc.com
SUMMARY:Meditation Monday
DESCRIPTION:Open to the public.\nJoin Kelle Kersten on Zoom for a guided meditation during your lunch to center yourself for the coming week!\nClick here to join the Zoom meeting.
URL:https://uufcc.com/event/meditation-monday/2025-06-02/
LOCATION:PA
CATEGORIES:Adult RE,Lifespan Religious Exploration
ATTACH;FMTTYPE=image/png:https://uufcc.com/wp-content/uploads/2023/10/UUFCC-Meditation-Mondays-540.png
END:VEVENT
BEGIN:VEVENT
DTSTART;TZID=America/New_York:20250605T143000
DTEND;TZID=America/New_York:20250605T160000
DTSTAMP:20260424T085239
CREATED:20240430T185149Z
LAST-MODIFIED:20240430T185151Z
UID:10003960-1749133800-1749139200@uufcc.com
SUMMARY:Memoirs Group
DESCRIPTION:
URL:https://uufcc.com/event/memoirs-group-2-2-2/2025-06-05/
LOCATION:UUFCC – Fellowship Hall\, 780 Waupelani Drive\, State College\, PA\, 16801\, United States
CATEGORIES:Adult RE,Lifespan Religious Exploration
END:VEVENT
BEGIN:VEVENT
DTSTART;TZID=America/New_York:20250608T093000
DTEND;TZID=America/New_York:20250608T130000
DTSTAMP:20260424T085239
CREATED:20231128T173327Z
LAST-MODIFIED:20231128T173552Z
UID:10003558-1749375000-1749387600@uufcc.com
SUMMARY:Child Care
DESCRIPTION:
URL:https://uufcc.com/event/child-care-2/2025-06-08/
LOCATION:UUFCC – Room C\, 780 Waupelani Drive\, State College\, PA\, 16801\, United States
CATEGORIES:Lifespan Religious Exploration,RE Kids & Youth,Young Kids
ORGANIZER;CN="Unitarian Universalist Fellowship of Centre County":MAILTO:office@uufcc.com
END:VEVENT
BEGIN:VEVENT
DTSTART;TZID=America/New_York:20250608T100000
DTEND;TZID=America/New_York:20250608T110000
DTSTAMP:20260424T085239
CREATED:20250119T155047Z
LAST-MODIFIED:20250119T161127Z
UID:10008160-1749376800-1749380400@uufcc.com
SUMMARY:RE Pre-K/K: "Rainbows"
DESCRIPTION:Each week our kids will gather to explore our world in light of our UU values. \nPre-K/K friends will engage in guided exploration of various topics with their wonderful teachers. Sue Smith and Rocky Landers\, downstairs in Room D.
URL:https://uufcc.com/event/re-pre-k-k-rainbows/
LOCATION:UUFCC – Gathering Space and Room D\, 780 Waupelani Drive\, State College\, PA\, 16801\, United States
CATEGORIES:Lifespan Religious Exploration,RE Kids & Youth,Young Kids
ATTACH;FMTTYPE=image/png:https://uufcc.com/wp-content/uploads/2024/01/RE-Pre-KK-Kids.png
ORGANIZER;CN="Unitarian Universalist Fellowship of Centre County":MAILTO:office@uufcc.com
END:VEVENT
BEGIN:VEVENT
DTSTART;TZID=America/New_York:20250608T100000
DTEND;TZID=America/New_York:20250608T110000
DTSTAMP:20260424T085239
CREATED:20250605T152239Z
LAST-MODIFIED:20250605T152239Z
UID:10009700-1749376800-1749380400@uufcc.com
SUMMARY:RE 1st-5th Grade: "We Celebrate Pride!"
DESCRIPTION:Join us this Sunday in the sanctuary for a Wisdom Lesson\, then we’ll go downstairs for Pride activities and a scavenger hunt.
URL:https://uufcc.com/event/re-1st-5th-grade-we-celebrate-pride/
LOCATION:UUFCC – Sanctuary first\, then Gathering Space
CATEGORIES:Lifespan Religious Exploration,RE Kids & Youth,Young Kids
END:VEVENT
BEGIN:VEVENT
DTSTART;TZID=America/New_York:20250609T123000
DTEND;TZID=America/New_York:20250609T130000
DTSTAMP:20260424T085239
CREATED:20231021T021336Z
LAST-MODIFIED:20250419T193312Z
UID:10000099-1749472200-1749474000@uufcc.com
SUMMARY:Meditation Monday
DESCRIPTION:Open to the public.\nJoin Kelle Kersten on Zoom for a guided meditation during your lunch to center yourself for the coming week!\nClick here to join the Zoom meeting.
URL:https://uufcc.com/event/meditation-monday/2025-06-09/
LOCATION:PA
CATEGORIES:Adult RE,Lifespan Religious Exploration
ATTACH;FMTTYPE=image/png:https://uufcc.com/wp-content/uploads/2023/10/UUFCC-Meditation-Mondays-540.png
END:VEVENT
BEGIN:VEVENT
DTSTART;TZID=America/New_York:20250615T093000
DTEND;TZID=America/New_York:20250615T130000
DTSTAMP:20260424T085239
CREATED:20231128T173327Z
LAST-MODIFIED:20231128T173552Z
UID:10003559-1749979800-1749992400@uufcc.com
SUMMARY:Child Care
DESCRIPTION:
URL:https://uufcc.com/event/child-care-2/2025-06-15/
LOCATION:UUFCC – Room C\, 780 Waupelani Drive\, State College\, PA\, 16801\, United States
CATEGORIES:Lifespan Religious Exploration,RE Kids & Youth,Young Kids
ORGANIZER;CN="Unitarian Universalist Fellowship of Centre County":MAILTO:office@uufcc.com
END:VEVENT
BEGIN:VEVENT
DTSTART;TZID=America/New_York:20250615T100000
DTEND;TZID=America/New_York:20250615T110000
DTSTAMP:20260424T085239
CREATED:20250119T161118Z
LAST-MODIFIED:20250119T161118Z
UID:10008161-1749981600-1749985200@uufcc.com
SUMMARY:RE Pre-K/K: "Celebrate"
DESCRIPTION:Each week our kids will gather to explore our world in light of our UU values. \nPre-K/K friends will engage in guided exploration of various topics with their wonderful teachers. Sue Smith and Rocky Landers\, downstairs in Room D.
URL:https://uufcc.com/event/re-pre-k-k-celebrate/
LOCATION:UUFCC – Gathering Space and Room D\, 780 Waupelani Drive\, State College\, PA\, 16801\, United States
CATEGORIES:Lifespan Religious Exploration,RE Kids & Youth,Young Kids
ATTACH;FMTTYPE=image/png:https://uufcc.com/wp-content/uploads/2024/01/RE-Pre-KK-Kids.png
ORGANIZER;CN="Unitarian Universalist Fellowship of Centre County":MAILTO:office@uufcc.com
END:VEVENT
BEGIN:VEVENT
DTSTART;TZID=America/New_York:20250615T100000
DTEND;TZID=America/New_York:20250615T110000
DTSTAMP:20260424T085239
CREATED:20250611T181255Z
LAST-MODIFIED:20250611T181255Z
UID:10009705-1749981600-1749985200@uufcc.com
SUMMARY:RE 1st-5th Grade: "Music and Play"
DESCRIPTION:Start in the Gathering Space (no Wisdom Lesson) for the Music and Play class for elementary ages\, led by Karen Maynard.
URL:https://uufcc.com/event/re-1st-5th-grade-music-and-play/
LOCATION:UUFCC – Gathering Space\, 780 Waupelani Drive\, State College\, PA\, 16801\, United States
CATEGORIES:Lifespan Religious Exploration,RE Kids & Youth,Young Kids
ATTACH;FMTTYPE=image/jpeg:https://uufcc.com/wp-content/uploads/2025/02/Music-Play.jpg
ORGANIZER;CN="Unitarian Universalist Fellowship of Centre County":MAILTO:office@uufcc.com
END:VEVENT
BEGIN:VEVENT
DTSTART;VALUE=DATE:20250618
DTEND;VALUE=DATE:20250623
DTSTAMP:20260424T085239
CREATED:20250226T174444Z
LAST-MODIFIED:20250226T174444Z
UID:10008308-1750204800-1750636799@uufcc.com
SUMMARY:UUA General Assembly 2025
DESCRIPTION:General Assembly (GA) is the annual meeting of the Unitarian Universalist Association (UUA)\, where participants gather to worship\, witness\, learn\, connect\, and make policy decisions for the Association through a democratic process. From June 18–22\, 2025\, the 64th UUA General Assembly will be a multi-platform event\, with the main stage hosted at the Baltimore Convention Center in Baltimore\, Maryland and hundreds more joining on the Whova app.\nPlease consider connecting to the larger UU world and attending the General Assembly either virtually or in Baltimore. It is a great experience meeting UUs from around the country.\nFor more information: uua.org/ga
URL:https://uufcc.com/event/uua-general-assembly-2025/
LOCATION:Baltimore Convention Center\, The Baltimore Convention Ctr\, 1 W Pratt St\, Baltimore\, MD\, 21201\, United States
CATEGORIES:Event,Interfaith,Lifespan Religious Exploration
ATTACH;FMTTYPE=image/png:https://uufcc.com/wp-content/uploads/2025/02/uua-general-assembly-2025.png
END:VEVENT
BEGIN:VEVENT
DTSTART;TZID=America/New_York:20250619T143000
DTEND;TZID=America/New_York:20250619T160000
DTSTAMP:20260424T085239
CREATED:20240430T185149Z
LAST-MODIFIED:20240430T185151Z
UID:10003961-1750343400-1750348800@uufcc.com
SUMMARY:Memoirs Group
DESCRIPTION:
URL:https://uufcc.com/event/memoirs-group-2-2-2/2025-06-19/
LOCATION:UUFCC – Fellowship Hall\, 780 Waupelani Drive\, State College\, PA\, 16801\, United States
CATEGORIES:Adult RE,Lifespan Religious Exploration
END:VEVENT
BEGIN:VEVENT
DTSTART;TZID=America/New_York:20250619T190000
DTEND;TZID=America/New_York:20250619T200000
DTSTAMP:20260424T085239
CREATED:20250410T182601Z
LAST-MODIFIED:20250410T182601Z
UID:10008389-1750359600-1750363200@uufcc.com
SUMMARY:Transitions Group
DESCRIPTION:We face transitions all the time from getting up in the morning after a night’s rest to retiring from a job to losing a loved one. Transitions are everywhere and they are everyday. What questions do you carry with you for those life changing transitions? What hopes or fears find their way into your consciousness? What can you offer others as they face their own transitions? This is a time to connect deeply and richly about the transitions\, good and bad\, in our lives.
URL:https://uufcc.com/event/transitions-group/2025-06-19/
LOCATION:UUFCC – Library\, 780 Waupelani Drive\, State College\, PA\, 16801\, United States
CATEGORIES:Adult RE,Event,Lifespan Religious Exploration
ORGANIZER;CN="Unitarian Universalist Fellowship of Centre County":MAILTO:office@uufcc.com
END:VEVENT
BEGIN:VEVENT
DTSTART;TZID=America/New_York:20250622T093000
DTEND;TZID=America/New_York:20250622T120000
DTSTAMP:20260424T085239
CREATED:20250611T181412Z
LAST-MODIFIED:20250618T194932Z
UID:10003560-1750584600-1750593600@uufcc.com
SUMMARY:Child Care (includes Pre-K/K)
DESCRIPTION:Childcare will shorten to 9:30 am to 12:00 noon for the summer starting June 22 (sign-in in the Toddler Room – Room 3) \nAll Pre-K/K children are invited into childcare for the summer
URL:https://uufcc.com/event/child-care-2-2/2025-06-22/
LOCATION:UUFCC – Room C\, 780 Waupelani Drive\, State College\, PA\, 16801\, United States
CATEGORIES:Lifespan Religious Exploration,RE Kids & Youth,Young Kids
ORGANIZER;CN="Unitarian Universalist Fellowship of Centre County":MAILTO:office@uufcc.com
END:VEVENT
BEGIN:VEVENT
DTSTART;TZID=America/New_York:20250622T100000
DTEND;TZID=America/New_York:20250622T110000
DTSTAMP:20260424T085239
CREATED:20250618T194720Z
LAST-MODIFIED:20250618T194849Z
UID:10009877-1750586400-1750590000@uufcc.com
SUMMARY:RE Elementary thru Middle School - "Designing a Layered Pollinator Habitat"
DESCRIPTION:Elementary and Middle School will meet with Michal Stump and Ashley Hamlin to get acquainted with our Layered Pollinator Habitat and build some pathways through it. Sign-in downstairs in the Gathering Space at 10 am.
URL:https://uufcc.com/event/re-elementary-thru-middle-school-designing-a-layered-pollinator-habitat/
LOCATION:UUFCC – Gathering Space\, 780 Waupelani Drive\, State College\, PA\, 16801\, United States
CATEGORIES:Lifespan Religious Exploration,Middle School Youth,RE Kids & Youth,Young Kids
ORGANIZER;CN="Unitarian Universalist Fellowship of Centre County":MAILTO:office@uufcc.com
END:VEVENT
BEGIN:VEVENT
DTSTART;TZID=America/New_York:20250622T113000
DTEND;TZID=America/New_York:20250622T124500
DTSTAMP:20260424T085239
CREATED:20241220T180130Z
LAST-MODIFIED:20250918T164235Z
UID:10011671-1750591800-1750596300@uufcc.com
SUMMARY:UUFCC Resilience and Acceptance Discussion Group
DESCRIPTION:The participants of the UUFCC Resilience and Acceptance in the Face of Collapse course (which met from October 2023-February 2024) would like to invite UUFCC members and others to participate in the UUFCC Resilience and Acceptance Discussion Group. \nThe purpose of this group is to create a safe and stimulating space for exploring resilience and acceptance in the face of the collapse of modern civilization and for supporting each other in making changes in our lives and communities to lessen the impact of collapse. “Resilience” includes both the capacity within each of us to allow and stay with difficult emotions while also remaining grounded\, as well as the actions we take with other people to meet challenges in our communities. “Collapse\nacceptance” means acknowledging that the collapse of modern industrial civilization is real and already happening and recognizing our inability to stop it. We don’t know if it will lead to the extinction of humans\, but it will bring about “The End Of The World As We Know It.” Collapse acceptance involves embracing what is coming to an end\, living fully in this present moment\, and co-creating a new way of being\, relating\, organizing\, and responding (acting) in these times. \nIf you are interested in participating in our discussions\, please join us on the fourth Sunday of every month in Room B.
URL:https://uufcc.com/event/uufcc-resilience-and-acceptance-discussion-group-2-2-2/2025-06-22/
LOCATION:UUFCC – Room B\, 780 Waupelani Drive\, State College\, PA\, 16801\, United States
CATEGORIES:Adult RE,Lifespan Religious Exploration
ATTACH;FMTTYPE=image/png:https://uufcc.com/wp-content/uploads/2024/01/Resilience-and-Acceptance-in-the-Face-of-Collapse.png
ORGANIZER;CN="Unitarian Universalist Fellowship of Centre County":MAILTO:office@uufcc.com
END:VEVENT
BEGIN:VEVENT
DTSTART;TZID=America/New_York:20250623T123000
DTEND;TZID=America/New_York:20250623T130000
DTSTAMP:20260424T085239
CREATED:20231021T021336Z
LAST-MODIFIED:20250419T193312Z
UID:10000101-1750681800-1750683600@uufcc.com
SUMMARY:Meditation Monday
DESCRIPTION:Open to the public.\nJoin Kelle Kersten on Zoom for a guided meditation during your lunch to center yourself for the coming week!\nClick here to join the Zoom meeting.
URL:https://uufcc.com/event/meditation-monday/2025-06-23/
LOCATION:PA
CATEGORIES:Adult RE,Lifespan Religious Exploration
ATTACH;FMTTYPE=image/png:https://uufcc.com/wp-content/uploads/2023/10/UUFCC-Meditation-Mondays-540.png
END:VEVENT
BEGIN:VEVENT
DTSTART;TZID=America/New_York:20250629T093000
DTEND;TZID=America/New_York:20250629T120000
DTSTAMP:20260424T085239
CREATED:20250611T181412Z
LAST-MODIFIED:20250618T194932Z
UID:10003561-1751189400-1751198400@uufcc.com
SUMMARY:Child Care (includes Pre-K/K)
DESCRIPTION:Childcare will shorten to 9:30 am to 12:00 noon for the summer starting June 22 (sign-in in the Toddler Room – Room 3) \nAll Pre-K/K children are invited into childcare for the summer
URL:https://uufcc.com/event/child-care-2-2/2025-06-29/
LOCATION:UUFCC – Room C\, 780 Waupelani Drive\, State College\, PA\, 16801\, United States
CATEGORIES:Lifespan Religious Exploration,RE Kids & Youth,Young Kids
ORGANIZER;CN="Unitarian Universalist Fellowship of Centre County":MAILTO:office@uufcc.com
END:VEVENT
BEGIN:VEVENT
DTSTART;TZID=America/New_York:20250629T100000
DTEND;TZID=America/New_York:20250629T110000
DTSTAMP:20260424T085239
CREATED:20250625T191310Z
LAST-MODIFIED:20250625T191310Z
UID:10009979-1751191200-1751194800@uufcc.com
SUMMARY:RE Elementary thru Middle School - "2nd Session: Designing a Layered Pollinator Habitat"
DESCRIPTION:Elementary and Middle School will meet with Michal Stump and Ashley Hamlin to get acquainted with our Layered Pollinator Habitat and build some pathways through it. Sign-in downstairs in the Gathering Space at 10 am.
URL:https://uufcc.com/event/re-elementary-thru-middle-school-2nd-session-designing-a-layered-pollinator-habitat/
LOCATION:UUFCC – Gathering Space\, 780 Waupelani Drive\, State College\, PA\, 16801\, United States
CATEGORIES:Lifespan Religious Exploration,Middle School Youth,RE Kids & Youth,Young Kids
ORGANIZER;CN="Unitarian Universalist Fellowship of Centre County":MAILTO:office@uufcc.com
END:VEVENT
BEGIN:VEVENT
DTSTART;TZID=America/New_York:20250630T123000
DTEND;TZID=America/New_York:20250630T130000
DTSTAMP:20260424T085239
CREATED:20231021T021336Z
LAST-MODIFIED:20250419T193312Z
UID:10000102-1751286600-1751288400@uufcc.com
SUMMARY:Meditation Monday
DESCRIPTION:Open to the public.\nJoin Kelle Kersten on Zoom for a guided meditation during your lunch to center yourself for the coming week!\nClick here to join the Zoom meeting.
URL:https://uufcc.com/event/meditation-monday/2025-06-30/
LOCATION:PA
CATEGORIES:Adult RE,Lifespan Religious Exploration
ATTACH;FMTTYPE=image/png:https://uufcc.com/wp-content/uploads/2023/10/UUFCC-Meditation-Mondays-540.png
END:VEVENT
END:VCALENDAR