BEGIN:VCALENDAR
VERSION:2.0
PRODID:-//UUFCC - ECPv6.15.17//NONSGML v1.0//EN
CALSCALE:GREGORIAN
METHOD:PUBLISH
X-WR-CALNAME:UUFCC
X-ORIGINAL-URL:https://uufcc.com
X-WR-CALDESC:Events for UUFCC
REFRESH-INTERVAL;VALUE=DURATION:PT1H
X-Robots-Tag:noindex
X-PUBLISHED-TTL:PT1H
BEGIN:VTIMEZONE
TZID:America/New_York
BEGIN:DAYLIGHT
TZOFFSETFROM:-0500
TZOFFSETTO:-0400
TZNAME:EDT
DTSTART:20230312T070000
END:DAYLIGHT
BEGIN:STANDARD
TZOFFSETFROM:-0400
TZOFFSETTO:-0500
TZNAME:EST
DTSTART:20231105T060000
END:STANDARD
BEGIN:DAYLIGHT
TZOFFSETFROM:-0500
TZOFFSETTO:-0400
TZNAME:EDT
DTSTART:20240310T070000
END:DAYLIGHT
BEGIN:STANDARD
TZOFFSETFROM:-0400
TZOFFSETTO:-0500
TZNAME:EST
DTSTART:20241103T060000
END:STANDARD
BEGIN:DAYLIGHT
TZOFFSETFROM:-0500
TZOFFSETTO:-0400
TZNAME:EDT
DTSTART:20250309T070000
END:DAYLIGHT
BEGIN:STANDARD
TZOFFSETFROM:-0400
TZOFFSETTO:-0500
TZNAME:EST
DTSTART:20251102T060000
END:STANDARD
END:VTIMEZONE
BEGIN:VEVENT
DTSTART;TZID=America/New_York:20240905T143000
DTEND;TZID=America/New_York:20240905T160000
DTSTAMP:20260425T155210
CREATED:20240430T185149Z
LAST-MODIFIED:20240430T185151Z
UID:10005514-1725546600-1725552000@uufcc.com
SUMMARY:Memoirs Group
DESCRIPTION:
URL:https://uufcc.com/event/memoirs-group-2-2-2/2024-09-05/
LOCATION:UUFCC – Fellowship Hall\, 780 Waupelani Drive\, State College\, PA\, 16801\, United States
CATEGORIES:Adult RE,Lifespan Religious Exploration
END:VEVENT
BEGIN:VEVENT
DTSTART;TZID=America/New_York:20240909T123000
DTEND;TZID=America/New_York:20240909T130000
DTSTAMP:20260425T155210
CREATED:20231021T021336Z
LAST-MODIFIED:20250419T193312Z
UID:10000060-1725885000-1725886800@uufcc.com
SUMMARY:Meditation Monday
DESCRIPTION:Open to the public.\nJoin Kelle Kersten on Zoom for a guided meditation during your lunch to center yourself for the coming week!\nClick here to join the Zoom meeting.
URL:https://uufcc.com/event/meditation-monday/2024-09-09/
LOCATION:PA
CATEGORIES:Adult RE,Lifespan Religious Exploration
ATTACH;FMTTYPE=image/png:https://uufcc.com/wp-content/uploads/2023/10/UUFCC-Meditation-Mondays-540.png
END:VEVENT
BEGIN:VEVENT
DTSTART;TZID=America/New_York:20240916T123000
DTEND;TZID=America/New_York:20240916T130000
DTSTAMP:20260425T155210
CREATED:20231021T021336Z
LAST-MODIFIED:20250419T193312Z
UID:10000061-1726489800-1726491600@uufcc.com
SUMMARY:Meditation Monday
DESCRIPTION:Open to the public.\nJoin Kelle Kersten on Zoom for a guided meditation during your lunch to center yourself for the coming week!\nClick here to join the Zoom meeting.
URL:https://uufcc.com/event/meditation-monday/2024-09-16/
LOCATION:PA
CATEGORIES:Adult RE,Lifespan Religious Exploration
ATTACH;FMTTYPE=image/png:https://uufcc.com/wp-content/uploads/2023/10/UUFCC-Meditation-Mondays-540.png
END:VEVENT
BEGIN:VEVENT
DTSTART;TZID=America/New_York:20240919T143000
DTEND;TZID=America/New_York:20240919T160000
DTSTAMP:20260425T155210
CREATED:20240430T185149Z
LAST-MODIFIED:20240430T185151Z
UID:10005515-1726756200-1726761600@uufcc.com
SUMMARY:Memoirs Group
DESCRIPTION:
URL:https://uufcc.com/event/memoirs-group-2-2-2/2024-09-19/
LOCATION:UUFCC – Fellowship Hall\, 780 Waupelani Drive\, State College\, PA\, 16801\, United States
CATEGORIES:Adult RE,Lifespan Religious Exploration
END:VEVENT
BEGIN:VEVENT
DTSTART;TZID=America/New_York:20240922T111500
DTEND;TZID=America/New_York:20240922T123000
DTSTAMP:20260425T155210
CREATED:20240903T174554Z
LAST-MODIFIED:20240919T150251Z
UID:10006760-1727003700-1727008200@uufcc.com
SUMMARY:Hot Topics - Responding to Christian Nationalism\, Interfaith Discussion Series
DESCRIPTION:Are you worried about the future of our democracy and wondering how to engage with and respond to the rise of Christian Nationalism? Join our interfaith interactive discussion series\, Responding to Christian Nationalism. \n  \nSundays\, 11:15 am – 12:45 pm \nSession 1: September 22 (UBBC)\, Introduction to Christian Nationalism \nSession 2: October 20 (UUFCC)\, Expanding an Understanding of Christian Nationalism \nSession 3: November 17 (UBBC)\, a Faith Response to Christian Nationalism \n  \nThe Unitarian Universalist Fellowship and University Baptist and Brethren Church are jointly curating curriculum and hosting this important conversation. Christian nationalism is an ideology that threatens our faith and our pluralistic democracy\, and thus needs to be addressed by faith groups  in the United States. We need your presence and voice with us to understand and respond to this rising power in our society. \nFor more information contact the Interfaith Education Development Committee.
URL:https://uufcc.com/event/hot-topics-responding-to-christian-nationalism-interfaith-discussion-series-2/
LOCATION:University Baptist and Brethren Church\, 411 S Burrowes St\, State College\, PA\, 16801\, United States
CATEGORIES:Adult RE,Event,Interfaith,Lifespan Religious Exploration
ATTACH;FMTTYPE=image/png:https://uufcc.com/wp-content/uploads/2024/09/Responding-to-Christian-Nationalism1.png
END:VEVENT
BEGIN:VEVENT
DTSTART;TZID=America/New_York:20240923T123000
DTEND;TZID=America/New_York:20240923T130000
DTSTAMP:20260425T155210
CREATED:20231021T021336Z
LAST-MODIFIED:20250419T193312Z
UID:10000062-1727094600-1727096400@uufcc.com
SUMMARY:Meditation Monday
DESCRIPTION:Open to the public.\nJoin Kelle Kersten on Zoom for a guided meditation during your lunch to center yourself for the coming week!\nClick here to join the Zoom meeting.
URL:https://uufcc.com/event/meditation-monday/2024-09-23/
LOCATION:PA
CATEGORIES:Adult RE,Lifespan Religious Exploration
ATTACH;FMTTYPE=image/png:https://uufcc.com/wp-content/uploads/2023/10/UUFCC-Meditation-Mondays-540.png
END:VEVENT
BEGIN:VEVENT
DTSTART;TZID=America/New_York:20240929T111500
DTEND;TZID=America/New_York:20240929T123000
DTSTAMP:20260425T155210
CREATED:20240908T110217Z
LAST-MODIFIED:20240908T110218Z
UID:10005371-1727608500-1727613000@uufcc.com
SUMMARY:UUFCC Resilience and Acceptance Discussion Group
DESCRIPTION:The participants of the UUFCC Resilience and Acceptance in the Face of Collapse course (which met from October 2023-February 2024) would like to invite UUFCC members and others to participate in the UUFCC Resilience and Acceptance Discussion Group. \nThe purpose of this group is to create a safe and stimulating space for exploring resilience and acceptance in the face of the collapse of modern civilization and for supporting each other in making changes in our lives and communities to lessen the impact of collapse. “Resilience” includes both the capacity within each of us to allow and stay with difficult emotions while also remaining grounded\, as well as the actions we take with other people to meet challenges in our communities. “Collapse\nacceptance” means acknowledging that the collapse of modern industrial civilization is real and already happening and recognizing our inability to stop it. We don’t know if it will lead to the extinction of humans\, but it will bring about “The End Of The World As We Know It.” Collapse acceptance involves embracing what is coming to an end\, living fully in this present moment\, and co-creating a new way of being\, relating\, organizing\, and responding (acting) in these times. \nIf you are interested in participating in our discussions\, please join us on the fourth Sunday of every month in Room B.
URL:https://uufcc.com/event/uufcc-resilience-and-acceptance-discussion-group-2/
LOCATION:UUFCC – Room B\, 780 Waupelani Drive\, State College\, PA\, 16801\, United States
CATEGORIES:Adult RE,Lifespan Religious Exploration
ATTACH;FMTTYPE=image/png:https://uufcc.com/wp-content/uploads/2024/01/Resilience-and-Acceptance-in-the-Face-of-Collapse.png
ORGANIZER;CN="Unitarian Universalist Fellowship of Centre County":MAILTO:office@uufcc.com
END:VEVENT
BEGIN:VEVENT
DTSTART;TZID=America/New_York:20240930T123000
DTEND;TZID=America/New_York:20240930T130000
DTSTAMP:20260425T155210
CREATED:20231021T021336Z
LAST-MODIFIED:20250419T193312Z
UID:10000063-1727699400-1727701200@uufcc.com
SUMMARY:Meditation Monday
DESCRIPTION:Open to the public.\nJoin Kelle Kersten on Zoom for a guided meditation during your lunch to center yourself for the coming week!\nClick here to join the Zoom meeting.
URL:https://uufcc.com/event/meditation-monday/2024-09-30/
LOCATION:PA
CATEGORIES:Adult RE,Lifespan Religious Exploration
ATTACH;FMTTYPE=image/png:https://uufcc.com/wp-content/uploads/2023/10/UUFCC-Meditation-Mondays-540.png
END:VEVENT
END:VCALENDAR