BEGIN:VCALENDAR
VERSION:2.0
PRODID:-//UUFCC - ECPv6.15.17//NONSGML v1.0//EN
CALSCALE:GREGORIAN
METHOD:PUBLISH
X-WR-CALNAME:UUFCC
X-ORIGINAL-URL:https://uufcc.com
X-WR-CALDESC:Events for UUFCC
REFRESH-INTERVAL;VALUE=DURATION:PT1H
X-Robots-Tag:noindex
X-PUBLISHED-TTL:PT1H
BEGIN:VTIMEZONE
TZID:America/New_York
BEGIN:DAYLIGHT
TZOFFSETFROM:-0500
TZOFFSETTO:-0400
TZNAME:EDT
DTSTART:20230312T070000
END:DAYLIGHT
BEGIN:STANDARD
TZOFFSETFROM:-0400
TZOFFSETTO:-0500
TZNAME:EST
DTSTART:20231105T060000
END:STANDARD
BEGIN:DAYLIGHT
TZOFFSETFROM:-0500
TZOFFSETTO:-0400
TZNAME:EDT
DTSTART:20240310T070000
END:DAYLIGHT
BEGIN:STANDARD
TZOFFSETFROM:-0400
TZOFFSETTO:-0500
TZNAME:EST
DTSTART:20241103T060000
END:STANDARD
BEGIN:DAYLIGHT
TZOFFSETFROM:-0500
TZOFFSETTO:-0400
TZNAME:EDT
DTSTART:20250309T070000
END:DAYLIGHT
BEGIN:STANDARD
TZOFFSETFROM:-0400
TZOFFSETTO:-0500
TZNAME:EST
DTSTART:20251102T060000
END:STANDARD
END:VTIMEZONE
BEGIN:VEVENT
DTSTART;TZID=America/New_York:20241003T143000
DTEND;TZID=America/New_York:20241003T160000
DTSTAMP:20260424T070652
CREATED:20240430T185149Z
LAST-MODIFIED:20240430T185151Z
UID:10005516-1727965800-1727971200@uufcc.com
SUMMARY:Memoirs Group
DESCRIPTION:
URL:https://uufcc.com/event/memoirs-group-2-2-2/2024-10-03/
LOCATION:UUFCC – Fellowship Hall\, 780 Waupelani Drive\, State College\, PA\, 16801\, United States
CATEGORIES:Adult RE,Lifespan Religious Exploration
END:VEVENT
BEGIN:VEVENT
DTSTART;TZID=America/New_York:20241007T123000
DTEND;TZID=America/New_York:20241007T130000
DTSTAMP:20260424T070652
CREATED:20231021T021336Z
LAST-MODIFIED:20250419T193312Z
UID:10000064-1728304200-1728306000@uufcc.com
SUMMARY:Meditation Monday
DESCRIPTION:Open to the public.\nJoin Kelle Kersten on Zoom for a guided meditation during your lunch to center yourself for the coming week!\nClick here to join the Zoom meeting.
URL:https://uufcc.com/event/meditation-monday/2024-10-07/
LOCATION:PA
CATEGORIES:Adult RE,Lifespan Religious Exploration
ATTACH;FMTTYPE=image/png:https://uufcc.com/wp-content/uploads/2023/10/UUFCC-Meditation-Mondays-540.png
END:VEVENT
BEGIN:VEVENT
DTSTART;TZID=America/New_York:20241013T111500
DTEND;TZID=America/New_York:20241013T123000
DTSTAMP:20260424T070652
CREATED:20241006T093409Z
LAST-MODIFIED:20241006T093409Z
UID:10007257-1728818100-1728822600@uufcc.com
SUMMARY:Hot Topics - What Do You Really Know About Native People?
DESCRIPTION:A Conversation with Professor John Sanchez \nJOHN SANCHEZ (Nde [Apache]/Yaqui) is an Emeritus Professor of\nJournalism at Penn State. His research endeavors are at the\nintersection of Indigenous cultures and the American news media. \n 
URL:https://uufcc.com/event/hot-topics-what-do-you-really-know-about-native-people/
LOCATION:UUFCC – Sanctuary\, 780 Waupelani Drive\, State College\, PA\, 16801\, United States
CATEGORIES:Adult RE,Community Event,Lifespan Religious Exploration
ATTACH;FMTTYPE=image/png:https://uufcc.com/wp-content/uploads/2024/10/CC_Topic-Banner_Native-Americans-First-Nations-Alaska-Natives.png
ORGANIZER;CN="Unitarian Universalist Fellowship of Centre County":MAILTO:office@uufcc.com
END:VEVENT
BEGIN:VEVENT
DTSTART;TZID=America/New_York:20241014T123000
DTEND;TZID=America/New_York:20241014T130000
DTSTAMP:20260424T070652
CREATED:20231021T021336Z
LAST-MODIFIED:20250419T193312Z
UID:10000065-1728909000-1728910800@uufcc.com
SUMMARY:Meditation Monday
DESCRIPTION:Open to the public.\nJoin Kelle Kersten on Zoom for a guided meditation during your lunch to center yourself for the coming week!\nClick here to join the Zoom meeting.
URL:https://uufcc.com/event/meditation-monday/2024-10-14/
LOCATION:PA
CATEGORIES:Adult RE,Lifespan Religious Exploration
ATTACH;FMTTYPE=image/png:https://uufcc.com/wp-content/uploads/2023/10/UUFCC-Meditation-Mondays-540.png
END:VEVENT
BEGIN:VEVENT
DTSTART;TZID=America/New_York:20241017T143000
DTEND;TZID=America/New_York:20241017T160000
DTSTAMP:20260424T070652
CREATED:20240430T185149Z
LAST-MODIFIED:20240430T185151Z
UID:10005517-1729175400-1729180800@uufcc.com
SUMMARY:Memoirs Group
DESCRIPTION:
URL:https://uufcc.com/event/memoirs-group-2-2-2/2024-10-17/
LOCATION:UUFCC – Fellowship Hall\, 780 Waupelani Drive\, State College\, PA\, 16801\, United States
CATEGORIES:Adult RE,Lifespan Religious Exploration
END:VEVENT
BEGIN:VEVENT
DTSTART;TZID=America/New_York:20241020T111500
DTEND;TZID=America/New_York:20241020T123000
DTSTAMP:20260424T070652
CREATED:20240903T174711Z
LAST-MODIFIED:20240919T150350Z
UID:10006758-1729422900-1729427400@uufcc.com
SUMMARY:Hot Topics - Responding to Christian Nationalism\, Interfaith Discussion Series
DESCRIPTION:Are you worried about the future of our democracy and wondering how to engage with and respond to the rise of Christian Nationalism? Join our interfaith interactive discussion series\, Responding to Christian Nationalism. \n  \nSundays\, 11:15 am – 12:45 pm \nSession 1: September 22 (UBBC)\, Introduction to Christian Nationalism \nSession 2: October 20 (UUFCC)\, Expanding an Understanding of Christian Nationalism \nSession 3: November 17 (UBBC)\, a Faith Response to Christian Nationalism \n  \nThe Unitarian Universalist Fellowship and University Baptist and Brethren Church are jointly curating curriculum and hosting this important conversation. Christian nationalism is an ideology that threatens our faith and our pluralistic democracy\, and thus needs to be addressed by faith groups  in the United States. We need your presence and voice with us to understand and respond to this rising power in our society. \nFor more information contact the Interfaith Education Development Committee.
URL:https://uufcc.com/event/hot-topics-responding-to-christian-nationalism-interfaith-discussion-series-4/
LOCATION:Unitarian Universalist Fellowship of Centre County\, 780 Waupelani Drive\, State College\, PA\, 16801\, United States
CATEGORIES:Adult RE,Event,Interfaith,Lifespan Religious Exploration
ATTACH;FMTTYPE=image/png:https://uufcc.com/wp-content/uploads/2024/09/Responding-to-Christian-Nationalism1.png
END:VEVENT
BEGIN:VEVENT
DTSTART;TZID=America/New_York:20241021T123000
DTEND;TZID=America/New_York:20241021T130000
DTSTAMP:20260424T070652
CREATED:20231021T021336Z
LAST-MODIFIED:20250419T193312Z
UID:10000066-1729513800-1729515600@uufcc.com
SUMMARY:Meditation Monday
DESCRIPTION:Open to the public.\nJoin Kelle Kersten on Zoom for a guided meditation during your lunch to center yourself for the coming week!\nClick here to join the Zoom meeting.
URL:https://uufcc.com/event/meditation-monday/2024-10-21/
LOCATION:PA
CATEGORIES:Adult RE,Lifespan Religious Exploration
ATTACH;FMTTYPE=image/png:https://uufcc.com/wp-content/uploads/2023/10/UUFCC-Meditation-Mondays-540.png
END:VEVENT
BEGIN:VEVENT
DTSTART;TZID=America/New_York:20241027T111500
DTEND;TZID=America/New_York:20241027T123000
DTSTAMP:20260424T070652
CREATED:20240908T110332Z
LAST-MODIFIED:20240908T110333Z
UID:10006886-1730027700-1730032200@uufcc.com
SUMMARY:UUFCC Resilience and Acceptance Discussion Group
DESCRIPTION:The participants of the UUFCC Resilience and Acceptance in the Face of Collapse course (which met from October 2023-February 2024) would like to invite UUFCC members and others to participate in the UUFCC Resilience and Acceptance Discussion Group. \nThe purpose of this group is to create a safe and stimulating space for exploring resilience and acceptance in the face of the collapse of modern civilization and for supporting each other in making changes in our lives and communities to lessen the impact of collapse. “Resilience” includes both the capacity within each of us to allow and stay with difficult emotions while also remaining grounded\, as well as the actions we take with other people to meet challenges in our communities. “Collapse\nacceptance” means acknowledging that the collapse of modern industrial civilization is real and already happening and recognizing our inability to stop it. We don’t know if it will lead to the extinction of humans\, but it will bring about “The End Of The World As We Know It.” Collapse acceptance involves embracing what is coming to an end\, living fully in this present moment\, and co-creating a new way of being\, relating\, organizing\, and responding (acting) in these times. \nIf you are interested in participating in our discussions\, please join us on the fourth Sunday of every month in Room B.
URL:https://uufcc.com/event/uufcc-resilience-and-acceptance-discussion-group-2-2/2024-10-27/
LOCATION:UUFCC – Room B\, 780 Waupelani Drive\, State College\, PA\, 16801\, United States
CATEGORIES:Adult RE,Lifespan Religious Exploration
ATTACH;FMTTYPE=image/png:https://uufcc.com/wp-content/uploads/2024/01/Resilience-and-Acceptance-in-the-Face-of-Collapse.png
ORGANIZER;CN="Unitarian Universalist Fellowship of Centre County":MAILTO:office@uufcc.com
END:VEVENT
BEGIN:VEVENT
DTSTART;TZID=America/New_York:20241027T111500
DTEND;TZID=America/New_York:20241027T123000
DTSTAMP:20260424T070652
CREATED:20240924T155819Z
LAST-MODIFIED:20241025T194056Z
UID:10007246-1730027700-1730032200@uufcc.com
SUMMARY:Facilitation for Transformation First Meeting - This meeting has been cancelled
DESCRIPTION:Look for more meeting dates to come! \nLearn how to be an anti-racism\, anti-oppression facilitator \nThis fall the UUFCC will support the training of a handful of its members in anti-racism facilitation in preparation for offering the UUA’s Mosaic Lifespan Anti-Racism Curriculum  at the UUFCC next spring. The training is offered by the UU Institute and the Racial Justice Committee will be hosting a discussion session on Sunday\, October 27 for all who are signed up. The RJC will also be funding the $30 tuition for each participant. The training includes facilitation skills\, classroom management\, as well as specific skill building in anti-racism work. Just as we train to be OWL facilitators because we want to make sure we are equipped for that work\, we also want to equip ourselves for our work in anti-racism. Sign-up here: https://uufcc.breezechms.com/form/Mosaic \nFor full information about the training go to: https://uuinstitute.org/courses/transformation-235\nYou can learn more about the Mosaic Lifespan Anti-Racism Curriculum at the UUA website
URL:https://uufcc.com/event/facilitation-for-transformation-first-meeting/
LOCATION:UUFCC – Room 6\, 780 Waupelani Drive\, State College\, PA\, 16801\, United States
CATEGORIES:Adult RE,Lifespan Religious Exploration
ATTACH;FMTTYPE=image/png:https://uufcc.com/wp-content/uploads/2024/09/Mosaic.png
ORGANIZER;CN="Unitarian Universalist Fellowship of Centre County":MAILTO:office@uufcc.com
END:VEVENT
BEGIN:VEVENT
DTSTART;TZID=America/New_York:20241028T123000
DTEND;TZID=America/New_York:20241028T130000
DTSTAMP:20260424T070652
CREATED:20231021T021336Z
LAST-MODIFIED:20250419T193312Z
UID:10000067-1730118600-1730120400@uufcc.com
SUMMARY:Meditation Monday
DESCRIPTION:Open to the public.\nJoin Kelle Kersten on Zoom for a guided meditation during your lunch to center yourself for the coming week!\nClick here to join the Zoom meeting.
URL:https://uufcc.com/event/meditation-monday/2024-10-28/
LOCATION:PA
CATEGORIES:Adult RE,Lifespan Religious Exploration
ATTACH;FMTTYPE=image/png:https://uufcc.com/wp-content/uploads/2023/10/UUFCC-Meditation-Mondays-540.png
END:VEVENT
END:VCALENDAR