BEGIN:VCALENDAR
VERSION:2.0
PRODID:-//UUFCC - ECPv6.15.17//NONSGML v1.0//EN
CALSCALE:GREGORIAN
METHOD:PUBLISH
X-ORIGINAL-URL:https://uufcc.com
X-WR-CALDESC:Events for UUFCC
REFRESH-INTERVAL;VALUE=DURATION:PT1H
X-Robots-Tag:noindex
X-PUBLISHED-TTL:PT1H
BEGIN:VTIMEZONE
TZID:America/New_York
BEGIN:DAYLIGHT
TZOFFSETFROM:-0500
TZOFFSETTO:-0400
TZNAME:EDT
DTSTART:20240310T070000
END:DAYLIGHT
BEGIN:STANDARD
TZOFFSETFROM:-0400
TZOFFSETTO:-0500
TZNAME:EST
DTSTART:20241103T060000
END:STANDARD
BEGIN:DAYLIGHT
TZOFFSETFROM:-0500
TZOFFSETTO:-0400
TZNAME:EDT
DTSTART:20250309T070000
END:DAYLIGHT
BEGIN:STANDARD
TZOFFSETFROM:-0400
TZOFFSETTO:-0500
TZNAME:EST
DTSTART:20251102T060000
END:STANDARD
BEGIN:DAYLIGHT
TZOFFSETFROM:-0500
TZOFFSETTO:-0400
TZNAME:EDT
DTSTART:20260308T070000
END:DAYLIGHT
BEGIN:STANDARD
TZOFFSETFROM:-0400
TZOFFSETTO:-0500
TZNAME:EST
DTSTART:20261101T060000
END:STANDARD
END:VTIMEZONE
BEGIN:VEVENT
DTSTART;TZID=America/New_York:20250325T190000
DTEND;TZID=America/New_York:20250325T203000
DTSTAMP:20260422T212210
CREATED:20250323T133608Z
LAST-MODIFIED:20250323T133608Z
UID:10008327-1742929200-1742934600@uufcc.com
SUMMARY:RE Parents' Listening Circle
DESCRIPTION:The Fellowship Relations Committee in conjunction with the Sabbatical Team would like to meet with parents to check in and see how things are going. Are your needs being met? Is there something more we can provide? What do you really appreciate right now? Members of the FRC\, the sabbatical team\, Rev. Tracy\, and the RE consultant\, Andrea Lerner will be in the circles to hear what you have to say.\n\n\nWe have 2 zoom listening circles scheduled. March 23 at 6 and March 25 at 7. If these dates don’t work for you\, please let us know. If you didn’t receive Rev. Tracy’s email with the Zoom link\, email her for it.
URL:https://uufcc.com/event/re-parents-listening-circle/2025-03-25/
LOCATION:PA
CATEGORIES:Adult RE,Lifespan Religious Exploration,Meeting
END:VEVENT
END:VCALENDAR