BEGIN:VCALENDAR
VERSION:2.0
PRODID:-//UUFCC - ECPv6.15.17//NONSGML v1.0//EN
CALSCALE:GREGORIAN
METHOD:PUBLISH
X-WR-CALNAME:UUFCC
X-ORIGINAL-URL:https://uufcc.com
X-WR-CALDESC:Events for UUFCC
REFRESH-INTERVAL;VALUE=DURATION:PT1H
X-Robots-Tag:noindex
X-PUBLISHED-TTL:PT1H
BEGIN:VTIMEZONE
TZID:America/New_York
BEGIN:DAYLIGHT
TZOFFSETFROM:-0500
TZOFFSETTO:-0400
TZNAME:EDT
DTSTART:20230312T070000
END:DAYLIGHT
BEGIN:STANDARD
TZOFFSETFROM:-0400
TZOFFSETTO:-0500
TZNAME:EST
DTSTART:20231105T060000
END:STANDARD
BEGIN:DAYLIGHT
TZOFFSETFROM:-0500
TZOFFSETTO:-0400
TZNAME:EDT
DTSTART:20240310T070000
END:DAYLIGHT
BEGIN:STANDARD
TZOFFSETFROM:-0400
TZOFFSETTO:-0500
TZNAME:EST
DTSTART:20241103T060000
END:STANDARD
BEGIN:DAYLIGHT
TZOFFSETFROM:-0500
TZOFFSETTO:-0400
TZNAME:EDT
DTSTART:20250309T070000
END:DAYLIGHT
BEGIN:STANDARD
TZOFFSETFROM:-0400
TZOFFSETTO:-0500
TZNAME:EST
DTSTART:20251102T060000
END:STANDARD
END:VTIMEZONE
BEGIN:VEVENT
DTSTART;TZID=America/New_York:20241104T123000
DTEND;TZID=America/New_York:20241104T130000
DTSTAMP:20260423T045114
CREATED:20231021T021336Z
LAST-MODIFIED:20250419T193312Z
UID:10000068-1730723400-1730725200@uufcc.com
SUMMARY:Meditation Monday
DESCRIPTION:Open to the public.\nJoin Kelle Kersten on Zoom for a guided meditation during your lunch to center yourself for the coming week!\nClick here to join the Zoom meeting.
URL:https://uufcc.com/event/meditation-monday/2024-11-04/
LOCATION:PA
CATEGORIES:Adult RE,Lifespan Religious Exploration
ATTACH;FMTTYPE=image/png:https://uufcc.com/wp-content/uploads/2023/10/UUFCC-Meditation-Mondays-540.png
END:VEVENT
BEGIN:VEVENT
DTSTART;TZID=America/New_York:20241107T143000
DTEND;TZID=America/New_York:20241107T160000
DTSTAMP:20260423T045114
CREATED:20240430T185149Z
LAST-MODIFIED:20240430T185151Z
UID:10003954-1730989800-1730995200@uufcc.com
SUMMARY:Memoirs Group
DESCRIPTION:
URL:https://uufcc.com/event/memoirs-group-2-2-2/2024-11-07/
LOCATION:UUFCC – Fellowship Hall\, 780 Waupelani Drive\, State College\, PA\, 16801\, United States
CATEGORIES:Adult RE,Lifespan Religious Exploration
END:VEVENT
BEGIN:VEVENT
DTSTART;TZID=America/New_York:20241109T170000
DTEND;TZID=America/New_York:20241109T200000
DTSTAMP:20260423T045114
CREATED:20240430T174022Z
LAST-MODIFIED:20240925T120916Z
UID:10005436-1731171600-1731182400@uufcc.com
SUMMARY:Starting Point Fall 2024
DESCRIPTION:Are you new to UUFCC or to Unitarian Universalism? Are you wanting to find your way into community here? Or\, have you been coming a long time and desiring to go deeper into your UU journey? Explore Starting Point with us! \nThis first session focuses on our personal spiritual journey and the historical journey of Unitarian Universalism. \nOn Nov 24\, we’ll move into the shared journey that fellowship members travel together and end by helping us discern which of the many “journey groups” in our congregation will be your “next step.” \nSign up on here: https://uufcc.breezechms.com/form/StartingPoint24
URL:https://uufcc.com/event/starting-point-fall-2024/
LOCATION:UUFCC – Room 6\, 780 Waupelani Drive\, State College\, PA\, 16801\, United States
CATEGORIES:Adult RE,Lifespan Religious Exploration
ATTACH;FMTTYPE=image/png:https://uufcc.com/wp-content/uploads/2024/04/Starting-Point.png
ORGANIZER;CN="Unitarian Universalist Fellowship of Centre County":MAILTO:office@uufcc.com
END:VEVENT
END:VCALENDAR