BEGIN:VCALENDAR
VERSION:2.0
PRODID:-//UUFCC - ECPv6.15.17//NONSGML v1.0//EN
CALSCALE:GREGORIAN
METHOD:PUBLISH
X-ORIGINAL-URL:https://uufcc.com
X-WR-CALDESC:Events for UUFCC
REFRESH-INTERVAL;VALUE=DURATION:PT1H
X-Robots-Tag:noindex
X-PUBLISHED-TTL:PT1H
BEGIN:VTIMEZONE
TZID:America/New_York
BEGIN:DAYLIGHT
TZOFFSETFROM:-0500
TZOFFSETTO:-0400
TZNAME:EDT
DTSTART:20230312T070000
END:DAYLIGHT
BEGIN:STANDARD
TZOFFSETFROM:-0400
TZOFFSETTO:-0500
TZNAME:EST
DTSTART:20231105T060000
END:STANDARD
BEGIN:DAYLIGHT
TZOFFSETFROM:-0500
TZOFFSETTO:-0400
TZNAME:EDT
DTSTART:20240310T070000
END:DAYLIGHT
BEGIN:STANDARD
TZOFFSETFROM:-0400
TZOFFSETTO:-0500
TZNAME:EST
DTSTART:20241103T060000
END:STANDARD
BEGIN:DAYLIGHT
TZOFFSETFROM:-0500
TZOFFSETTO:-0400
TZNAME:EDT
DTSTART:20250309T070000
END:DAYLIGHT
BEGIN:STANDARD
TZOFFSETFROM:-0400
TZOFFSETTO:-0500
TZNAME:EST
DTSTART:20251102T060000
END:STANDARD
END:VTIMEZONE
BEGIN:VEVENT
DTSTART;TZID=America/New_York:20240128T093000
DTEND;TZID=America/New_York:20240128T130000
DTSTAMP:20260422T010302
CREATED:20231128T173327Z
LAST-MODIFIED:20231128T173552Z
UID:10003487-1706434200-1706446800@uufcc.com
SUMMARY:Child Care
DESCRIPTION:
URL:https://uufcc.com/event/child-care-2/2024-01-28/
LOCATION:UUFCC – Room C\, 780 Waupelani Drive\, State College\, PA\, 16801\, United States
CATEGORIES:Lifespan Religious Exploration,RE Kids & Youth,Young Kids
ORGANIZER;CN="Unitarian Universalist Fellowship of Centre County":MAILTO:office@uufcc.com
END:VEVENT
BEGIN:VEVENT
DTSTART;TZID=America/New_York:20240128T100000
DTEND;TZID=America/New_York:20240128T110000
DTSTAMP:20260422T010302
CREATED:20240117T022711Z
LAST-MODIFIED:20240124T125607Z
UID:10004148-1706436000-1706439600@uufcc.com
SUMMARY:RE Pre-K/Kindergarten Kids - Friendship
DESCRIPTION:Join us as we explore “Friendship”! This week our Pre-K/K friends will begin in Room D downstairs. Sign-in will be in Room D.
URL:https://uufcc.com/event/re-pre-k-kindergarten-kids-3/
LOCATION:UUFCC – Gathering Space and Room D\, 780 Waupelani Drive\, State College\, PA\, 16801\, United States
CATEGORIES:Lifespan Religious Exploration,Young Kids
ATTACH;FMTTYPE=image/png:https://uufcc.com/wp-content/uploads/2024/01/RE-Pre-KK-Kids.png
END:VEVENT
BEGIN:VEVENT
DTSTART;TZID=America/New_York:20240128T100000
DTEND;TZID=America/New_York:20240128T110000
DTSTAMP:20260422T010302
CREATED:20240124T141256Z
LAST-MODIFIED:20240124T141333Z
UID:10004811-1706436000-1706439600@uufcc.com
SUMMARY:RE 1st - 5th Grade Kids - Resist\, Reform\, Re-imagine\, Recreate
DESCRIPTION:Join us this week as we explore the 4 R’s of Social Transformation and talk about 30 Days of Love (focusing on Climate Justice) \nThis Sunday\, our elementary friends will start in the sanctuary and go to the Gathering Space after the Wisdom Lesson.
URL:https://uufcc.com/event/re-1st-5th-grade-kids-3/
LOCATION:Unitarian Universalist Fellowship of Centre County\, 780 Waupelani Drive\, State College\, PA\, 16801\, United States
CATEGORIES:Lifespan Religious Exploration,RE Kids & Youth,Young Kids
ATTACH;FMTTYPE=image/png:https://uufcc.com/wp-content/uploads/2024/01/RE-Kids.png
END:VEVENT
BEGIN:VEVENT
DTSTART;TZID=America/New_York:20240128T100000
DTEND;TZID=America/New_York:20240128T111500
DTSTAMP:20260422T010302
CREATED:20240129T155942Z
LAST-MODIFIED:20240129T155942Z
UID:10004900-1706436000-1706440500@uufcc.com
SUMMARY:Middle School RE - Stamped from the Beginning Part I
DESCRIPTION:Join our Middle School class to watch the Netflix documentary\, Stamped from the Beginning\, based on the book by Ibram X. Kendi. This will be our first of three viewings and discussion on this topic of anti-racism. This week’s topic will center on: \n\nIntroduction to Blackness\nMyth of Assimilation\n\n\nLaura Liermann from the Racial Justice Committee will help facilitate discussion after the film viewing.
URL:https://uufcc.com/event/middle-school-re-stamped-from-the-beginning-part-i/
LOCATION:Unitarian Universalist Fellowship of Centre County\, 780 Waupelani Drive\, State College\, PA\, 16801\, United States
CATEGORIES:Lifespan Religious Exploration,Middle School Youth
ATTACH;FMTTYPE=image/png:https://uufcc.com/wp-content/uploads/2023/10/Middle-School-Youth.png
END:VEVENT
BEGIN:VEVENT
DTSTART;TZID=America/New_York:20240128T113000
DTEND;TZID=America/New_York:20240128T130000
DTSTAMP:20260422T010302
CREATED:20231108T205836Z
LAST-MODIFIED:20240122T200608Z
UID:10002888-1706441400-1706446800@uufcc.com
SUMMARY:Book Discussion: "The Heaven and Earth Grocery Store" by James McBride
DESCRIPTION:Please join us for a discussion of James McBride’s The Heaven and Earth Grocery Store (2023). Books can be obtained at Barnes & Noble in State College or over Amazon. \nClick here for a list of discussion ideas to think about. \n\nThe discussion will be led by Leslie Brown\, who has this to say about the book and its author: \nSelecting a work of fiction for this venue is out of the ordinary\, but the literary genre can show us much about living as a person of color in past and present America. I have read most of McBride’s novels that feature a variety of settings and historical contexts and have loved them all. The Good Lord Bird\, for which McBride received a National Book Award\, is set in the 1850s in the maelstrom of John Brown’s infamous uprising against the U.S. government. But HEGS stands at the top of my Favorites list\, in part because its historical context resonates with us: 1930s Pottstown\, PA. Two groups of “other” Americans—Blacks and Jews—live\, die\, struggle\, and strive to thrive together within a neglected community that must depend exclusively on its own resilience and resourcefulness. The diversity of characters makes for a lively tail of collaboration to rescue a Black child from the horrors of the notorious mental institution\, Pennhurst. McBride educates\, intrigues\, and entertains the reader\, but what is essential is that he makes us feel. \nQuestions or ideas? Please contact Leslie Brown.
URL:https://uufcc.com/event/book-discussion-heaven-and-earth-grocery-store/
LOCATION:UUFCC – Room 6\, 780 Waupelani Drive\, State College\, PA\, 16801\, United States
CATEGORIES:Adult RE,Lifespan Religious Exploration
ATTACH;FMTTYPE=image/png:https://uufcc.com/wp-content/uploads/2023/11/Untitled-design35.png
END:VEVENT
END:VCALENDAR