BEGIN:VCALENDAR
VERSION:2.0
PRODID:-//UUFCC - ECPv6.15.17//NONSGML v1.0//EN
CALSCALE:GREGORIAN
METHOD:PUBLISH
X-WR-CALNAME:UUFCC
X-ORIGINAL-URL:https://uufcc.com
X-WR-CALDESC:Events for UUFCC
REFRESH-INTERVAL;VALUE=DURATION:PT1H
X-Robots-Tag:noindex
X-PUBLISHED-TTL:PT1H
BEGIN:VTIMEZONE
TZID:America/New_York
BEGIN:DAYLIGHT
TZOFFSETFROM:-0500
TZOFFSETTO:-0400
TZNAME:EDT
DTSTART:20230312T070000
END:DAYLIGHT
BEGIN:STANDARD
TZOFFSETFROM:-0400
TZOFFSETTO:-0500
TZNAME:EST
DTSTART:20231105T060000
END:STANDARD
BEGIN:DAYLIGHT
TZOFFSETFROM:-0500
TZOFFSETTO:-0400
TZNAME:EDT
DTSTART:20240310T070000
END:DAYLIGHT
BEGIN:STANDARD
TZOFFSETFROM:-0400
TZOFFSETTO:-0500
TZNAME:EST
DTSTART:20241103T060000
END:STANDARD
BEGIN:DAYLIGHT
TZOFFSETFROM:-0500
TZOFFSETTO:-0400
TZNAME:EDT
DTSTART:20250309T070000
END:DAYLIGHT
BEGIN:STANDARD
TZOFFSETFROM:-0400
TZOFFSETTO:-0500
TZNAME:EST
DTSTART:20251102T060000
END:STANDARD
END:VTIMEZONE
BEGIN:VEVENT
DTSTART;TZID=America/New_York:20240303T093000
DTEND;TZID=America/New_York:20240303T130000
DTSTAMP:20260421T111558
CREATED:20231128T173327Z
LAST-MODIFIED:20231128T173552Z
UID:10003492-1709458200-1709470800@uufcc.com
SUMMARY:Child Care
DESCRIPTION:
URL:https://uufcc.com/event/child-care-2/2024-03-03/
LOCATION:UUFCC – Room C\, 780 Waupelani Drive\, State College\, PA\, 16801\, United States
CATEGORIES:Lifespan Religious Exploration,RE Kids & Youth,Young Kids
ORGANIZER;CN="Unitarian Universalist Fellowship of Centre County":MAILTO:office@uufcc.com
END:VEVENT
BEGIN:VEVENT
DTSTART;TZID=America/New_York:20240303T100000
DTEND;TZID=America/New_York:20240303T111500
DTSTAMP:20260421T111558
CREATED:20240129T165723Z
LAST-MODIFIED:20240129T165723Z
UID:10004153-1709460000-1709464500@uufcc.com
SUMMARY:RE Pre-K/Kindergarten Kids - All Ages RE
DESCRIPTION:This week our Pre-K/K friends are invited to an All Ages RE time to play and explore with our UU values in mind.
URL:https://uufcc.com/event/re-pre-k-kindergarten-kids-8/
LOCATION:UUFCC – Gathering Space and Room D\, 780 Waupelani Drive\, State College\, PA\, 16801\, United States
CATEGORIES:Lifespan Religious Exploration,Young Kids
ATTACH;FMTTYPE=image/png:https://uufcc.com/wp-content/uploads/2024/01/RE-Pre-KK-Kids.png
END:VEVENT
BEGIN:VEVENT
DTSTART;TZID=America/New_York:20240303T100000
DTEND;TZID=America/New_York:20240303T111500
DTSTAMP:20260421T111558
CREATED:20240129T165932Z
LAST-MODIFIED:20240129T165933Z
UID:10004816-1709460000-1709464500@uufcc.com
SUMMARY:RE 1st - 5th Grade Kids - All Ages RE
DESCRIPTION:This week our 1st – 5th grade friends are invited to an All Ages RE time to play and explore with our UU values in mind.
URL:https://uufcc.com/event/re-1st-5th-grade-kids-5/
LOCATION:Unitarian Universalist Fellowship of Centre County\, 780 Waupelani Drive\, State College\, PA\, 16801\, United States
CATEGORIES:Lifespan Religious Exploration,RE Kids & Youth,Young Kids
ATTACH;FMTTYPE=image/png:https://uufcc.com/wp-content/uploads/2024/01/RE-Kids.png
END:VEVENT
BEGIN:VEVENT
DTSTART;TZID=America/New_York:20240303T113000
DTEND;TZID=America/New_York:20240303T130000
DTSTAMP:20260421T111558
CREATED:20240117T142900Z
LAST-MODIFIED:20240117T142944Z
UID:10004885-1709465400-1709470800@uufcc.com
SUMMARY:Gearing Up for GA!
DESCRIPTION:Join Rev Tracy for a time to learn about the UUA’s General Assembly (a national business meeting of UU’s including workshops\, meetings\, worship\, and more!) and how you can participate\, what that means\, and why it is important.
URL:https://uufcc.com/event/gearing-up-for-ga/
LOCATION:Unitarian Universalist Fellowship of Centre County\, 780 Waupelani Drive\, State College\, PA\, 16801\, United States
CATEGORIES:Adult RE,Lifespan Religious Exploration
ATTACH;FMTTYPE=image/png:https://uufcc.com/wp-content/uploads/2024/01/Gearing-Up-for-GA.png
END:VEVENT
END:VCALENDAR