BEGIN:VCALENDAR
VERSION:2.0
PRODID:-//UUFCC - ECPv6.15.17//NONSGML v1.0//EN
CALSCALE:GREGORIAN
METHOD:PUBLISH
X-ORIGINAL-URL:https://uufcc.com
X-WR-CALDESC:Events for UUFCC
REFRESH-INTERVAL;VALUE=DURATION:PT1H
X-Robots-Tag:noindex
X-PUBLISHED-TTL:PT1H
BEGIN:VTIMEZONE
TZID:America/New_York
BEGIN:DAYLIGHT
TZOFFSETFROM:-0500
TZOFFSETTO:-0400
TZNAME:EDT
DTSTART:20230312T070000
END:DAYLIGHT
BEGIN:STANDARD
TZOFFSETFROM:-0400
TZOFFSETTO:-0500
TZNAME:EST
DTSTART:20231105T060000
END:STANDARD
BEGIN:DAYLIGHT
TZOFFSETFROM:-0500
TZOFFSETTO:-0400
TZNAME:EDT
DTSTART:20240310T070000
END:DAYLIGHT
BEGIN:STANDARD
TZOFFSETFROM:-0400
TZOFFSETTO:-0500
TZNAME:EST
DTSTART:20241103T060000
END:STANDARD
BEGIN:DAYLIGHT
TZOFFSETFROM:-0500
TZOFFSETTO:-0400
TZNAME:EDT
DTSTART:20250309T070000
END:DAYLIGHT
BEGIN:STANDARD
TZOFFSETFROM:-0400
TZOFFSETTO:-0500
TZNAME:EST
DTSTART:20251102T060000
END:STANDARD
END:VTIMEZONE
BEGIN:VEVENT
DTSTART;TZID=America/New_York:20240324T093000
DTEND;TZID=America/New_York:20240324T130000
DTSTAMP:20260421T142926
CREATED:20231128T173327Z
LAST-MODIFIED:20231128T173552Z
UID:10003495-1711272600-1711285200@uufcc.com
SUMMARY:Child Care
DESCRIPTION:
URL:https://uufcc.com/event/child-care-2/2024-03-24/
LOCATION:UUFCC – Room C\, 780 Waupelani Drive\, State College\, PA\, 16801\, United States
CATEGORIES:Lifespan Religious Exploration,RE Kids & Youth,Young Kids
ORGANIZER;CN="Unitarian Universalist Fellowship of Centre County":MAILTO:office@uufcc.com
END:VEVENT
BEGIN:VEVENT
DTSTART;TZID=America/New_York:20240324T100000
DTEND;TZID=America/New_York:20240324T110000
DTSTAMP:20260421T142926
CREATED:20240312T183805Z
LAST-MODIFIED:20240318T195700Z
UID:10004156-1711274400-1711278000@uufcc.com
SUMMARY:RE Pre-K/Kindergarten Kids - We'll Explore Anger!
DESCRIPTION:This week our Pre-K/K friends will explore our emotion of anger. Please sign in downstairs in Room D.
URL:https://uufcc.com/event/re-pre-k-kindergarten-kids-11/
LOCATION:UUFCC – Gathering Space and Room D\, 780 Waupelani Drive\, State College\, PA\, 16801\, United States
CATEGORIES:Lifespan Religious Exploration,Young Kids
ATTACH;FMTTYPE=image/png:https://uufcc.com/wp-content/uploads/2024/01/RE-Pre-KK-Kids.png
END:VEVENT
BEGIN:VEVENT
DTSTART;TZID=America/New_York:20240324T100000
DTEND;TZID=America/New_York:20240324T110000
DTSTAMP:20260421T142926
CREATED:20240312T184007Z
LAST-MODIFIED:20240318T195811Z
UID:10004819-1711274400-1711278000@uufcc.com
SUMMARY:RE 1st - 5th Grade Kids - Giving Our Talents\, Time\, and Treasure
DESCRIPTION:Please start in the sanctuary for a Wisdom Lesson today. Then we will go downstairs to talk about what our pledge drive means for us as kids. \nParent sign-in at the Welcome Table.
URL:https://uufcc.com/event/re-1st-5th-grade-kids-11/
LOCATION:UUFCC – Gathering Space\, 780 Waupelani Drive\, State College\, PA\, 16801\, United States
CATEGORIES:Lifespan Religious Exploration,RE Kids & Youth,Young Kids
END:VEVENT
BEGIN:VEVENT
DTSTART;TZID=America/New_York:20240324T113000
DTEND;TZID=America/New_York:20240324T123000
DTSTAMP:20260421T142926
CREATED:20240129T201413Z
LAST-MODIFIED:20240321T173547Z
UID:10005040-1711279800-1711283400@uufcc.com
SUMMARY:Intergenerational Music program
DESCRIPTION:Join Colleen and Ashley as we have fun learning new songs to sing for our Multi-generational Sunday services: Earth Day Service on April 21\, Lifespan RE Service on May 19\, and Flower Celebration Service on June 2. We’ll continue our journey of Social Justice Music through the span of Black American history as well as add new songs for Earth Day and Flower Celebration. Please register to join! https://uufcc.breezechms.com/form/Music2024
URL:https://uufcc.com/event/intergenerational-music-program/2024-03-24/
LOCATION:UUFCC – Gathering Space\, 780 Waupelani Drive\, State College\, PA\, 16801\, United States
CATEGORIES:Intergenerational RE,Lifespan Religious Exploration,Middle School Youth,RE Kids & Youth,Young Kids
ATTACH;FMTTYPE=image/png:https://uufcc.com/wp-content/uploads/2024/01/Music-program-Social-Justice-Music-for-Kids.png
ORGANIZER;CN="Unitarian Universalist Fellowship of Centre County":MAILTO:office@uufcc.com
END:VEVENT
BEGIN:VEVENT
DTSTART;TZID=America/New_York:20240324T113000
DTEND;TZID=America/New_York:20240324T130000
DTSTAMP:20260421T142926
CREATED:20240321T173659Z
LAST-MODIFIED:20240321T173659Z
UID:10004883-1711279800-1711285200@uufcc.com
SUMMARY:Death\, Grief\, and Comfort
DESCRIPTION:Our companions in life are death and grief and yet they are so difficult to talk about\, and rarely at that. In times of loss\, how do we find healthy comfort? Further\, is emotional comfort something human beings should even expect as part of life? \nIn the death workshop we will go over practical matters\, memorial services\, and think about our own deaths. The grief workshop includes how to walk with grief\, writing condolence notes\, and digging deep into the grief of being human. The last workshop on comfort helps us understand how we can comfort ourselves naturally as well as realign our expectations of comfort. \nThese three workshops can be taken together or on their own. Each workshop includes videos\, exercises\, information sharing\, and conversation. \n 
URL:https://uufcc.com/event/death-grief-and-comfort-2/
LOCATION:UUFCC – Room 6\, 780 Waupelani Drive\, State College\, PA\, 16801\, United States
CATEGORIES:Adult RE,Lifespan Religious Exploration
ATTACH;FMTTYPE=image/png:https://uufcc.com/wp-content/uploads/2024/01/Death-Grief-and-Comfort-Re-Hour-TS.png
ORGANIZER;CN="Unitarian Universalist Fellowship of Centre County":MAILTO:office@uufcc.com
END:VEVENT
END:VCALENDAR