BEGIN:VCALENDAR
VERSION:2.0
PRODID:-//UUFCC - ECPv6.15.17//NONSGML v1.0//EN
CALSCALE:GREGORIAN
METHOD:PUBLISH
X-WR-CALNAME:UUFCC
X-ORIGINAL-URL:https://uufcc.com
X-WR-CALDESC:Events for UUFCC
REFRESH-INTERVAL;VALUE=DURATION:PT1H
X-Robots-Tag:noindex
X-PUBLISHED-TTL:PT1H
BEGIN:VTIMEZONE
TZID:America/New_York
BEGIN:DAYLIGHT
TZOFFSETFROM:-0500
TZOFFSETTO:-0400
TZNAME:EDT
DTSTART:20230312T070000
END:DAYLIGHT
BEGIN:STANDARD
TZOFFSETFROM:-0400
TZOFFSETTO:-0500
TZNAME:EST
DTSTART:20231105T060000
END:STANDARD
BEGIN:DAYLIGHT
TZOFFSETFROM:-0500
TZOFFSETTO:-0400
TZNAME:EDT
DTSTART:20240310T070000
END:DAYLIGHT
BEGIN:STANDARD
TZOFFSETFROM:-0400
TZOFFSETTO:-0500
TZNAME:EST
DTSTART:20241103T060000
END:STANDARD
BEGIN:DAYLIGHT
TZOFFSETFROM:-0500
TZOFFSETTO:-0400
TZNAME:EDT
DTSTART:20250309T070000
END:DAYLIGHT
BEGIN:STANDARD
TZOFFSETFROM:-0400
TZOFFSETTO:-0500
TZNAME:EST
DTSTART:20251102T060000
END:STANDARD
END:VTIMEZONE
BEGIN:VEVENT
DTSTART;TZID=America/New_York:20240420T090000
DTEND;TZID=America/New_York:20240420T140000
DTSTAMP:20260423T123742
CREATED:20240315T155141Z
LAST-MODIFIED:20240417T174721Z
UID:10005217-1713603600-1713621600@uufcc.com
SUMMARY:Building a Culture of Inclusion: Workshop with Paula Cole Jones Day 2
DESCRIPTION:This is Day 2 of the Workshop held over Zoom. \nAnyone is welcome to join in a group Zoom in Room 6 at the Fellowship Friday and Saturday for this workshop. \nWe\, Unitarian Universalists\, are called to build the Beloved Community.  To do that\, UUs must attend to the\nunfinished business of dismantling racism and oppression in our congregations and Association and with\nour community partners.  How do we stand in solidarity with the social movements of our times and how do\nthey change us? How do we help to preserve and strengthen a multicultural democracy in this country? \nThis workshop addresses the 8th Principle and multicultural change as a developmental process for\ncongregations.  How have other UU congregations approached the spiritual and structural aspects of\nmoving more fully into our vision of the Beloved Community?  What tools will help you accomplish the\ntasks? \nClick here or go to the Event Series to learn more about the entire Building a Culture of Inclusion workshop and Paula Cole Jones. \nSaturday Schedule:\nSession 1: 9:00 AM – 11:00 AM (2 hours)\nLunch Break: 11:00 AM – 11:45 AM\nSession 2: 11:45 AM – 2:00 PM (2 hours 15 min) \nWorkshop Part 2\n~ To build on concepts from Part 1 of the workshop\, and to provide an integrated approach for understanding\nthe complexity of congregations\, a pathway to change\, and the range of individual reactions.\n~ To provide hands-on experience with tools for assessing institutional readiness for change\, create\nan umbrella conversation while engaging members/leaders in collective discernment about\nwidening the congregation’s ministries.\n~ To help congregations answer the question\, what is next?\n~ To gather baseline data that will serve for strategic planning and measuring/assessing the\ncongregation’s progress.
URL:https://uufcc.com/event/building-a-culture-of-inclusion-04-20-24/
LOCATION:PA
CATEGORIES:Adult RE,Event,Lifespan Religious Exploration
ATTACH;FMTTYPE=image/png:https://uufcc.com/wp-content/uploads/2024/03/Untitled-design.png
ORGANIZER;CN="Unitarian Universalist Fellowship of Centre County":MAILTO:office@uufcc.com
END:VEVENT
END:VCALENDAR