BEGIN:VCALENDAR
VERSION:2.0
PRODID:-//UUFCC - ECPv6.15.17//NONSGML v1.0//EN
CALSCALE:GREGORIAN
METHOD:PUBLISH
X-WR-CALNAME:UUFCC
X-ORIGINAL-URL:https://uufcc.com
X-WR-CALDESC:Events for UUFCC
REFRESH-INTERVAL;VALUE=DURATION:PT1H
X-Robots-Tag:noindex
X-PUBLISHED-TTL:PT1H
BEGIN:VTIMEZONE
TZID:America/New_York
BEGIN:DAYLIGHT
TZOFFSETFROM:-0500
TZOFFSETTO:-0400
TZNAME:EDT
DTSTART:20230312T070000
END:DAYLIGHT
BEGIN:STANDARD
TZOFFSETFROM:-0400
TZOFFSETTO:-0500
TZNAME:EST
DTSTART:20231105T060000
END:STANDARD
BEGIN:DAYLIGHT
TZOFFSETFROM:-0500
TZOFFSETTO:-0400
TZNAME:EDT
DTSTART:20240310T070000
END:DAYLIGHT
BEGIN:STANDARD
TZOFFSETFROM:-0400
TZOFFSETTO:-0500
TZNAME:EST
DTSTART:20241103T060000
END:STANDARD
BEGIN:DAYLIGHT
TZOFFSETFROM:-0500
TZOFFSETTO:-0400
TZNAME:EDT
DTSTART:20250309T070000
END:DAYLIGHT
BEGIN:STANDARD
TZOFFSETFROM:-0400
TZOFFSETTO:-0500
TZNAME:EST
DTSTART:20251102T060000
END:STANDARD
END:VTIMEZONE
BEGIN:VEVENT
DTSTART;TZID=America/New_York:20241222T093000
DTEND;TZID=America/New_York:20241222T130000
DTSTAMP:20260422T073444
CREATED:20231128T173327Z
LAST-MODIFIED:20231128T173552Z
UID:10003534-1734859800-1734872400@uufcc.com
SUMMARY:Child Care
DESCRIPTION:
URL:https://uufcc.com/event/child-care-2/2024-12-22/
LOCATION:UUFCC – Room C\, 780 Waupelani Drive\, State College\, PA\, 16801\, United States
CATEGORIES:Lifespan Religious Exploration,RE Kids & Youth,Young Kids
ORGANIZER;CN="Unitarian Universalist Fellowship of Centre County":MAILTO:office@uufcc.com
END:VEVENT
BEGIN:VEVENT
DTSTART;TZID=America/New_York:20241222T100000
DTEND;TZID=America/New_York:20241222T110000
DTSTAMP:20260422T073444
CREATED:20241121T203717Z
LAST-MODIFIED:20241121T203717Z
UID:10007680-1734861600-1734865200@uufcc.com
SUMMARY:Middle School Hangout
DESCRIPTION:Middle School youth are invited for a monthly hangout to begin Nov 23! The youth will meet downstairs at the UU in the Gathering Space from 5-7 pm and play games\, eat pizza\, and just have fun. \n\nIf you are a parent who would like to volunteer one month to sign up and plan to stay at the Fellowship during the hangout so that there are two adults present and to bring pizza for that month\, please sign-up here: https://bit.ly/MSHangout24
URL:https://uufcc.com/event/middle-school-hangout/2024-12-22/
LOCATION:UUFCC – Gathering Space\, 780 Waupelani Drive\, State College\, PA\, 16801\, United States
CATEGORIES:Lifespan Religious Exploration,Middle School Youth,RE Kids & Youth
ATTACH;FMTTYPE=image/png:https://uufcc.com/wp-content/uploads/2024/11/MS-Youth-Hangout.png
ORGANIZER;CN="Unitarian Universalist Fellowship of Centre County":MAILTO:office@uufcc.com
END:VEVENT
BEGIN:VEVENT
DTSTART;TZID=America/New_York:20241222T100000
DTEND;TZID=America/New_York:20241222T110000
DTSTAMP:20260422T073444
CREATED:20241201T001146Z
LAST-MODIFIED:20241201T013727Z
UID:10007717-1734861600-1734865200@uufcc.com
SUMMARY:RE Pre-K/Kindergarten Class
DESCRIPTION:Each week our kids will gather to explore our world in light of our UU values. \nPre-K/K friends will engage in guided exploration of various topics with their wonderful teachers. Sue Smith and Rocky Landers\, downstairs in Room D.
URL:https://uufcc.com/event/re-pre-k-kindergarten-class/2024-12-22/
LOCATION:UUFCC – Gathering Space and Room D\, 780 Waupelani Drive\, State College\, PA\, 16801\, United States
CATEGORIES:Lifespan Religious Exploration,RE Kids & Youth,Young Kids
ATTACH;FMTTYPE=image/png:https://uufcc.com/wp-content/uploads/2024/01/RE-Pre-KK-Kids.png
ORGANIZER;CN="Unitarian Universalist Fellowship of Centre County":MAILTO:office@uufcc.com
END:VEVENT
BEGIN:VEVENT
DTSTART;TZID=America/New_York:20241222T100000
DTEND;TZID=America/New_York:20241222T110000
DTSTAMP:20260422T073444
CREATED:20241201T020432Z
LAST-MODIFIED:20241201T020432Z
UID:10007743-1734861600-1734865200@uufcc.com
SUMMARY:RE 1st-5th Grade Class
DESCRIPTION:Zumba Class led by Corina Graif!
URL:https://uufcc.com/event/re-1st-5th-grade-class-2/
LOCATION:UUFCC – Gathering Space\, 780 Waupelani Drive\, State College\, PA\, 16801\, United States
CATEGORIES:Lifespan Religious Exploration,RE Kids & Youth,Young Kids
ATTACH;FMTTYPE=image/png:https://uufcc.com/wp-content/uploads/2024/01/RE-Kids.png
END:VEVENT
BEGIN:VEVENT
DTSTART;TZID=America/New_York:20241222T111500
DTEND;TZID=America/New_York:20241222T123000
DTSTAMP:20260422T073444
CREATED:20241126T123808Z
LAST-MODIFIED:20241126T125532Z
UID:10007706-1734866100-1734870600@uufcc.com
SUMMARY:OWL for 4th-9th Grade
DESCRIPTION:Our Whole Lives (OWL)\, is a comprehensive sexuality education program that is a signature curriculum of the UUA and the United Church of Christ. It is a life-saving course that helps kids explore their values around their bodies\, identities\, relationships\, health\, and justice and equity. They engage in highly interactive activities and discussions which give them age-appropriate information and decision-making skills so that they can feel empowered to stand up for themselves and others and navigate relationships according to their values. \n4th-5th grade – WORKSHOP 5&6 Gender and Feelings and Attractions \n7th-8th grade – Workshop 7\, 8\, 9: Gender Identity\, Expression\, Sexual Orientation
URL:https://uufcc.com/event/owl-for-4th-9th-grade/
LOCATION:Unitarian Universalist Fellowship of Centre County\, 780 Waupelani Drive\, State College\, PA\, 16801\, United States
CATEGORIES:Lifespan Religious Exploration,Middle School Youth,RE Kids & Youth,Young Kids
ATTACH;FMTTYPE=image/png:https://uufcc.com/wp-content/uploads/2024/10/OWL-Info-Meeting.png
END:VEVENT
BEGIN:VEVENT
DTSTART;TZID=America/New_York:20241222T111500
DTEND;TZID=America/New_York:20241222T123000
DTSTAMP:20260422T073444
CREATED:20241218T162122Z
LAST-MODIFIED:20241218T162122Z
UID:10007909-1734866100-1734870600@uufcc.com
SUMMARY:Chat Cafe With The Board
DESCRIPTION:Come share your thoughts\, concerns\, and questions with our UUFCC Board members! They desire to be transparent in all their decision-making and would love to hear feedback\, input\, and just engage in conversation with you.
URL:https://uufcc.com/event/chat-cafe-with-the-board-2/
LOCATION:UUFCC – Room 6\, 780 Waupelani Drive\, State College\, PA\, 16801\, United States
CATEGORIES:Adult RE,Lifespan Religious Exploration
ATTACH;FMTTYPE=image/png:https://uufcc.com/wp-content/uploads/2024/02/Chat-Cafe.png
END:VEVENT
BEGIN:VEVENT
DTSTART;TZID=America/New_York:20241222T113000
DTEND;TZID=America/New_York:20241222T124500
DTSTAMP:20260422T073444
CREATED:20241220T180130Z
LAST-MODIFIED:20250918T164235Z
UID:10011665-1734867000-1734871500@uufcc.com
SUMMARY:UUFCC Resilience and Acceptance Discussion Group
DESCRIPTION:The participants of the UUFCC Resilience and Acceptance in the Face of Collapse course (which met from October 2023-February 2024) would like to invite UUFCC members and others to participate in the UUFCC Resilience and Acceptance Discussion Group. \nThe purpose of this group is to create a safe and stimulating space for exploring resilience and acceptance in the face of the collapse of modern civilization and for supporting each other in making changes in our lives and communities to lessen the impact of collapse. “Resilience” includes both the capacity within each of us to allow and stay with difficult emotions while also remaining grounded\, as well as the actions we take with other people to meet challenges in our communities. “Collapse\nacceptance” means acknowledging that the collapse of modern industrial civilization is real and already happening and recognizing our inability to stop it. We don’t know if it will lead to the extinction of humans\, but it will bring about “The End Of The World As We Know It.” Collapse acceptance involves embracing what is coming to an end\, living fully in this present moment\, and co-creating a new way of being\, relating\, organizing\, and responding (acting) in these times. \nIf you are interested in participating in our discussions\, please join us on the fourth Sunday of every month in Room B.
URL:https://uufcc.com/event/uufcc-resilience-and-acceptance-discussion-group-2-2-2/2024-12-22/
LOCATION:UUFCC – Room B\, 780 Waupelani Drive\, State College\, PA\, 16801\, United States
CATEGORIES:Adult RE,Lifespan Religious Exploration
ATTACH;FMTTYPE=image/png:https://uufcc.com/wp-content/uploads/2024/01/Resilience-and-Acceptance-in-the-Face-of-Collapse.png
ORGANIZER;CN="Unitarian Universalist Fellowship of Centre County":MAILTO:office@uufcc.com
END:VEVENT
END:VCALENDAR