BEGIN:VCALENDAR
VERSION:2.0
PRODID:-//UUFCC - ECPv6.15.17//NONSGML v1.0//EN
CALSCALE:GREGORIAN
METHOD:PUBLISH
X-WR-CALNAME:UUFCC
X-ORIGINAL-URL:https://uufcc.com
X-WR-CALDESC:Events for UUFCC
REFRESH-INTERVAL;VALUE=DURATION:PT1H
X-Robots-Tag:noindex
X-PUBLISHED-TTL:PT1H
BEGIN:VTIMEZONE
TZID:America/New_York
BEGIN:DAYLIGHT
TZOFFSETFROM:-0500
TZOFFSETTO:-0400
TZNAME:EDT
DTSTART:20240310T070000
END:DAYLIGHT
BEGIN:STANDARD
TZOFFSETFROM:-0400
TZOFFSETTO:-0500
TZNAME:EST
DTSTART:20241103T060000
END:STANDARD
BEGIN:DAYLIGHT
TZOFFSETFROM:-0500
TZOFFSETTO:-0400
TZNAME:EDT
DTSTART:20250309T070000
END:DAYLIGHT
BEGIN:STANDARD
TZOFFSETFROM:-0400
TZOFFSETTO:-0500
TZNAME:EST
DTSTART:20251102T060000
END:STANDARD
BEGIN:DAYLIGHT
TZOFFSETFROM:-0500
TZOFFSETTO:-0400
TZNAME:EDT
DTSTART:20260308T070000
END:DAYLIGHT
BEGIN:STANDARD
TZOFFSETFROM:-0400
TZOFFSETTO:-0500
TZNAME:EST
DTSTART:20261101T060000
END:STANDARD
END:VTIMEZONE
BEGIN:VEVENT
DTSTART;TZID=America/New_York:20250119T093000
DTEND;TZID=America/New_York:20250119T130000
DTSTAMP:20260423T075557
CREATED:20231128T173327Z
LAST-MODIFIED:20231128T173552Z
UID:10003538-1737279000-1737291600@uufcc.com
SUMMARY:Child Care
DESCRIPTION:
URL:https://uufcc.com/event/child-care-2/2025-01-19/
LOCATION:UUFCC – Room C\, 780 Waupelani Drive\, State College\, PA\, 16801\, United States
CATEGORIES:Lifespan Religious Exploration,RE Kids & Youth,Young Kids
ORGANIZER;CN="Unitarian Universalist Fellowship of Centre County":MAILTO:office@uufcc.com
END:VEVENT
BEGIN:VEVENT
DTSTART;TZID=America/New_York:20250119T100000
DTEND;TZID=America/New_York:20250119T110000
DTSTAMP:20260423T075557
CREATED:20241201T012106Z
LAST-MODIFIED:20241201T013159Z
UID:10007728-1737280800-1737284400@uufcc.com
SUMMARY:RE Pre-K through 5th Grade - Multi-generational Sunday Service
DESCRIPTION:All ages are invited into the Sanctuary for our Multi-generational services. \nDecember 15 – Holiday Play \nJanuary 19 – MLK Service \nFebruary 2 – Scouts Service \nApril 20 – Easter Service \nMay 18 – RE Sunday \nJune 1 – Flower Celebration
URL:https://uufcc.com/event/re-pre-k-kindergarten-class-2/2025-01-19/
LOCATION:UUFCC – Sanctuary\, 780 Waupelani Drive\, State College\, PA\, 16801\, United States
CATEGORIES:Lifespan Religious Exploration,RE Kids & Youth,Young Kids
ATTACH;FMTTYPE=image/png:https://uufcc.com/wp-content/uploads/2024/01/RE-Pre-KK-Kids.png
ORGANIZER;CN="Unitarian Universalist Fellowship of Centre County":MAILTO:office@uufcc.com
END:VEVENT
BEGIN:VEVENT
DTSTART;TZID=America/New_York:20250119T111500
DTEND;TZID=America/New_York:20250119T123000
DTSTAMP:20260423T075557
CREATED:20240925T122155Z
LAST-MODIFIED:20241126T040231Z
UID:10007250-1737285300-1737289800@uufcc.com
SUMMARY:Transitions - LRE Hour Class led by Rev Tracy
DESCRIPTION:We face transitions all the time from getting up in the morning after a night’s rest to retiring from a job we loved to losing a loved one. Transitions are everywhere and they are everyday. What questions do you carry with you for those life changing transitions? What hopes or fears find their way into your consciousness? What can you offer others as they face their own transitions? This is a time to connect deeply and richly about the transitions\, good and bad\, in our lives. Sign up here: https://uufcc.breezechms.com/form/Transitions
URL:https://uufcc.com/event/transitions-lre-hour-class-led-by-rev-tracy/
LOCATION:UUFCC – Room A\, 780 Waupelani Drive\, State College\, PA\, 16801\, United States
CATEGORIES:Adult RE,Lifespan Religious Exploration
ATTACH;FMTTYPE=image/png:https://uufcc.com/wp-content/uploads/2024/09/Transitions-Class1.png
ORGANIZER;CN="Unitarian Universalist Fellowship of Centre County":MAILTO:office@uufcc.com
END:VEVENT
END:VCALENDAR