BEGIN:VCALENDAR
VERSION:2.0
PRODID:-//UUFCC - ECPv6.15.17//NONSGML v1.0//EN
CALSCALE:GREGORIAN
METHOD:PUBLISH
X-WR-CALNAME:UUFCC
X-ORIGINAL-URL:https://uufcc.com
X-WR-CALDESC:Events for UUFCC
REFRESH-INTERVAL;VALUE=DURATION:PT1H
X-Robots-Tag:noindex
X-PUBLISHED-TTL:PT1H
BEGIN:VTIMEZONE
TZID:America/New_York
BEGIN:DAYLIGHT
TZOFFSETFROM:-0500
TZOFFSETTO:-0400
TZNAME:EDT
DTSTART:20240310T070000
END:DAYLIGHT
BEGIN:STANDARD
TZOFFSETFROM:-0400
TZOFFSETTO:-0500
TZNAME:EST
DTSTART:20241103T060000
END:STANDARD
BEGIN:DAYLIGHT
TZOFFSETFROM:-0500
TZOFFSETTO:-0400
TZNAME:EDT
DTSTART:20250309T070000
END:DAYLIGHT
BEGIN:STANDARD
TZOFFSETFROM:-0400
TZOFFSETTO:-0500
TZNAME:EST
DTSTART:20251102T060000
END:STANDARD
BEGIN:DAYLIGHT
TZOFFSETFROM:-0500
TZOFFSETTO:-0400
TZNAME:EDT
DTSTART:20260308T070000
END:DAYLIGHT
BEGIN:STANDARD
TZOFFSETFROM:-0400
TZOFFSETTO:-0500
TZNAME:EST
DTSTART:20261101T060000
END:STANDARD
END:VTIMEZONE
BEGIN:VEVENT
DTSTART;TZID=America/New_York:20251102T110000
DTEND;TZID=America/New_York:20251102T130000
DTSTAMP:20260420T170127
CREATED:20251006T141002Z
LAST-MODIFIED:20251029T172147Z
UID:10012179-1762081200-1762088400@uufcc.com
SUMMARY:Safety Sunday
DESCRIPTION:Join our Safety Task Force this Sunday from 11:30-1:00 to learn about our safety policies\, participate in hands-on training with a fire extinguisher and defibrillator\, deescalation training and more. Kids will create de-stress boxes and explore how to handle fear through stories and activities.
URL:https://uufcc.com/event/safety-sunday/
LOCATION:Unitarian Universalist Fellowship of Centre County\, 780 Waupelani Drive\, State College\, PA\, 16801\, United States
CATEGORIES:Event,Intergenerational RE,Lifespan Religious Exploration
ATTACH;FMTTYPE=image/jpeg:https://uufcc.com/wp-content/uploads/2025/10/Nov-2-Safety-Sunday.jpg
END:VEVENT
BEGIN:VEVENT
DTSTART;TZID=America/New_York:20251102T133000
DTEND;TZID=America/New_York:20251102T153000
DTSTAMP:20260420T170127
CREATED:20251015T231904Z
LAST-MODIFIED:20251031T235857Z
UID:10012228-1762090200-1762097400@uufcc.com
SUMMARY:UU Adventurers at Arboretum/Palmer Museum
DESCRIPTION:Meet at the Arboretum. We will walk around the Arboretum and also can enjoy the Palmer Museum should the weather not be conducive to walking around outside.
URL:https://uufcc.com/event/uu-adventurers-at-arboretum-palmer-museum/
LOCATION:PA
CATEGORIES:Intergenerational RE,Lifespan Religious Exploration
END:VEVENT
END:VCALENDAR