BEGIN:VCALENDAR
VERSION:2.0
PRODID:-//UUFCC - ECPv6.15.17//NONSGML v1.0//EN
CALSCALE:GREGORIAN
METHOD:PUBLISH
X-WR-CALNAME:UUFCC
X-ORIGINAL-URL:https://uufcc.com
X-WR-CALDESC:Events for UUFCC
REFRESH-INTERVAL;VALUE=DURATION:PT1H
X-Robots-Tag:noindex
X-PUBLISHED-TTL:PT1H
BEGIN:VTIMEZONE
TZID:America/New_York
BEGIN:DAYLIGHT
TZOFFSETFROM:-0500
TZOFFSETTO:-0400
TZNAME:EDT
DTSTART:20240310T070000
END:DAYLIGHT
BEGIN:STANDARD
TZOFFSETFROM:-0400
TZOFFSETTO:-0500
TZNAME:EST
DTSTART:20241103T060000
END:STANDARD
BEGIN:DAYLIGHT
TZOFFSETFROM:-0500
TZOFFSETTO:-0400
TZNAME:EDT
DTSTART:20250309T070000
END:DAYLIGHT
BEGIN:STANDARD
TZOFFSETFROM:-0400
TZOFFSETTO:-0500
TZNAME:EST
DTSTART:20251102T060000
END:STANDARD
BEGIN:DAYLIGHT
TZOFFSETFROM:-0500
TZOFFSETTO:-0400
TZNAME:EDT
DTSTART:20260308T070000
END:DAYLIGHT
BEGIN:STANDARD
TZOFFSETFROM:-0400
TZOFFSETTO:-0500
TZNAME:EST
DTSTART:20261101T060000
END:STANDARD
END:VTIMEZONE
BEGIN:VEVENT
DTSTART;TZID=America/New_York:20251221T093000
DTEND;TZID=America/New_York:20251221T120000
DTSTAMP:20260423T033626
CREATED:20250917T145425Z
LAST-MODIFIED:20250917T145427Z
UID:10003586-1766309400-1766318400@uufcc.com
SUMMARY:Child Care
DESCRIPTION:
URL:https://uufcc.com/event/child-care-2-2-2-2/2025-12-21/
LOCATION:UUFCC – Room C\, 780 Waupelani Drive\, State College\, PA\, 16801\, United States
CATEGORIES:Lifespan Religious Exploration,RE Kids & Youth,Young Kids
ORGANIZER;CN="Unitarian Universalist Fellowship of Centre County":MAILTO:office@uufcc.com
END:VEVENT
BEGIN:VEVENT
DTSTART;TZID=America/New_York:20251218T190000
DTEND;TZID=America/New_York:20251218T200000
DTSTAMP:20260423T033626
CREATED:20250410T182601Z
LAST-MODIFIED:20250410T182601Z
UID:10008395-1766084400-1766088000@uufcc.com
SUMMARY:Transitions Group
DESCRIPTION:We face transitions all the time from getting up in the morning after a night’s rest to retiring from a job to losing a loved one. Transitions are everywhere and they are everyday. What questions do you carry with you for those life changing transitions? What hopes or fears find their way into your consciousness? What can you offer others as they face their own transitions? This is a time to connect deeply and richly about the transitions\, good and bad\, in our lives.
URL:https://uufcc.com/event/transitions-group/2025-12-18/
LOCATION:UUFCC – Library\, 780 Waupelani Drive\, State College\, PA\, 16801\, United States
CATEGORIES:Adult RE,Event,Lifespan Religious Exploration
ORGANIZER;CN="Unitarian Universalist Fellowship of Centre County":MAILTO:office@uufcc.com
END:VEVENT
BEGIN:VEVENT
DTSTART;TZID=America/New_York:20251218T143000
DTEND;TZID=America/New_York:20251218T160000
DTSTAMP:20260423T033626
CREATED:20240430T185149Z
LAST-MODIFIED:20240430T185151Z
UID:10003967-1766068200-1766073600@uufcc.com
SUMMARY:Memoirs Group
DESCRIPTION:
URL:https://uufcc.com/event/memoirs-group-2-2-2/2025-12-18/
LOCATION:UUFCC – Fellowship Hall\, 780 Waupelani Drive\, State College\, PA\, 16801\, United States
CATEGORIES:Adult RE,Lifespan Religious Exploration
END:VEVENT
BEGIN:VEVENT
DTSTART;TZID=America/New_York:20251215T123000
DTEND;TZID=America/New_York:20251215T130000
DTSTAMP:20260423T033626
CREATED:20231021T021336Z
LAST-MODIFIED:20250419T193312Z
UID:10000126-1765801800-1765803600@uufcc.com
SUMMARY:Meditation Monday
DESCRIPTION:Open to the public.\nJoin Kelle Kersten on Zoom for a guided meditation during your lunch to center yourself for the coming week!\nClick here to join the Zoom meeting.
URL:https://uufcc.com/event/meditation-monday/2025-12-15/
LOCATION:PA
CATEGORIES:Adult RE,Lifespan Religious Exploration
ATTACH;FMTTYPE=image/png:https://uufcc.com/wp-content/uploads/2023/10/UUFCC-Meditation-Mondays-540.png
END:VEVENT
BEGIN:VEVENT
DTSTART;TZID=America/New_York:20251214T183000
DTEND;TZID=America/New_York:20251214T200000
DTSTAMP:20260423T033626
CREATED:20250813T150836Z
LAST-MODIFIED:20250813T150836Z
UID:10010449-1765737000-1765742400@uufcc.com
SUMMARY:OWL: 7th-9th Grade
DESCRIPTION:
URL:https://uufcc.com/event/owl-7th-9th-grade/2025-12-14/
LOCATION:Unitarian Universalist Fellowship of Centre County\, 780 Waupelani Drive\, State College\, PA\, 16801\, United States
CATEGORIES:Lifespan Religious Exploration,Middle School Youth,RE Kids & Youth
ORGANIZER;CN="Unitarian Universalist Fellowship of Centre County":MAILTO:office@uufcc.com
END:VEVENT
BEGIN:VEVENT
DTSTART;TZID=America/New_York:20251214T113000
DTEND;TZID=America/New_York:20251214T130000
DTSTAMP:20260423T033626
CREATED:20251006T141205Z
LAST-MODIFIED:20251006T141205Z
UID:10012180-1765711800-1765717200@uufcc.com
SUMMARY:Addressing the Affordable Housing Crisis
DESCRIPTION:Everyone in State College deserves a safe\, affordable place to call home\, raise their families and live a vibrant\, dignified\, and full life. But outdated zoning rules that block many types of affordable housing are fueling a crisis that’s squeezing hardworking residents.
URL:https://uufcc.com/event/addressing-the-affordable-housing-crisis/
LOCATION:UUFCC – Room 6\, 780 Waupelani Drive\, State College\, PA\, 16801\, United States
CATEGORIES:Adult RE,Lifespan Religious Exploration
ORGANIZER;CN="Unitarian Universalist Fellowship of Centre County":MAILTO:office@uufcc.com
END:VEVENT
BEGIN:VEVENT
DTSTART;TZID=America/New_York:20251214T113000
DTEND;TZID=America/New_York:20251214T130000
DTSTAMP:20260423T033626
CREATED:20250927T163031Z
LAST-MODIFIED:20250927T163033Z
UID:10011756-1765711800-1765717200@uufcc.com
SUMMARY:Music & Play
DESCRIPTION:For elementary ages\, led by Karen Maynard.
URL:https://uufcc.com/event/music-play-2-2/2025-12-14/
LOCATION:UUFCC – Room B\, 780 Waupelani Drive\, State College\, PA\, 16801\, United States
CATEGORIES:Lifespan Religious Exploration,Young Kids
ORGANIZER;CN="Unitarian Universalist Fellowship of Centre County":MAILTO:office@uufcc.com
END:VEVENT
BEGIN:VEVENT
DTSTART;TZID=America/New_York:20251214T100000
DTEND;TZID=America/New_York:20251214T110000
DTSTAMP:20260423T033626
CREATED:20250924T193017Z
LAST-MODIFIED:20250924T193018Z
UID:10010804-1765706400-1765710000@uufcc.com
SUMMARY:RE: 1st-5th Grade
DESCRIPTION:1st through 5th grade kids are learning our values through the monthly congregational themes\, and have a bi-monthly social justice book project and activity. \nIn services led by Rev. Tracy Sprowls\, children remain in the Sanctuary until the Wisdom Lesson\, then go downstairs to class. In multigenerational services\, they stay for the entire service.
URL:https://uufcc.com/event/re-1st-5th-grade-4/2025-12-14/
LOCATION:UUFCC – Sanctuary first\, then Gathering Space
CATEGORIES:Lifespan Religious Exploration,RE Kids & Youth,Young Kids
ORGANIZER;CN="Unitarian Universalist Fellowship of Centre County":MAILTO:office@uufcc.com
END:VEVENT
BEGIN:VEVENT
DTSTART;TZID=America/New_York:20251214T100000
DTEND;TZID=America/New_York:20251214T110000
DTSTAMP:20260423T033626
CREATED:20250913T193556Z
LAST-MODIFIED:20250913T193909Z
UID:10011065-1765706400-1765710000@uufcc.com
SUMMARY:RE: Middle School
DESCRIPTION:Middle School youth engage in UU Identity through themes each month and fun activities using our Soul Matters curriculum.  \nIn services led by Rev. Tracy Sprowls\, kids remain in the Sanctuary until the Wisdom Lesson\, then go to class. In multigenerational services\, they stay for the entire service.
URL:https://uufcc.com/event/re-middle-school/2025-12-14/
LOCATION:UUFCC – Sanctuary\, then Room 6\, 780 Waupelani Drive Ext.\, State College\, PA\, 16801\, United States
CATEGORIES:Lifespan Religious Exploration,Middle School Youth,RE Kids & Youth
ORGANIZER;CN="Unitarian Universalist Fellowship of Centre County":MAILTO:office@uufcc.com
END:VEVENT
BEGIN:VEVENT
DTSTART;TZID=America/New_York:20251214T100000
DTEND;TZID=America/New_York:20251214T110000
DTSTAMP:20260423T033626
CREATED:20250913T192529Z
LAST-MODIFIED:20250913T192529Z
UID:10010543-1765706400-1765710000@uufcc.com
SUMMARY:RE: Pre-K & K
DESCRIPTION:Each week our kids gather to explore our world in light of our UU values. Pre-K/K friends will engage in guided exploration of various topics with their wonderful teachers\, Sue Smith and Rocky Landers\, downstairs in Room D.
URL:https://uufcc.com/event/re-pre-k-k/2025-12-14/
LOCATION:Unitarian Universalist Fellowship of Centre County\, 780 Waupelani Drive\, State College\, PA\, 16801\, United States
CATEGORIES:Lifespan Religious Exploration,RE Kids & Youth,Young Kids
ORGANIZER;CN="Unitarian Universalist Fellowship of Centre County":MAILTO:office@uufcc.com
END:VEVENT
BEGIN:VEVENT
DTSTART;TZID=America/New_York:20251214T093000
DTEND;TZID=America/New_York:20251214T130000
DTSTAMP:20260423T033626
CREATED:20251210T173010Z
LAST-MODIFIED:20251210T173012Z
UID:10003585-1765704600-1765717200@uufcc.com
SUMMARY:Child Care
DESCRIPTION:
URL:https://uufcc.com/event/child-care-2-2-2-2-5/
LOCATION:UUFCC – Room C\, 780 Waupelani Drive\, State College\, PA\, 16801\, United States
CATEGORIES:Lifespan Religious Exploration,RE Kids & Youth,Young Kids
ORGANIZER;CN="Unitarian Universalist Fellowship of Centre County":MAILTO:office@uufcc.com
END:VEVENT
BEGIN:VEVENT
DTSTART;TZID=America/New_York:20251213T170000
DTEND;TZID=America/New_York:20251213T200000
DTSTAMP:20260423T033626
CREATED:20251118T164318Z
LAST-MODIFIED:20251118T165536Z
UID:10012296-1765645200-1765656000@uufcc.com
SUMMARY:Parents' Night Out
DESCRIPTION:Parents\, drop your kids off with our childcare providers for an evening of fun games\, dinner\, and a movie while you have some time for you! Sign up for December here.
URL:https://uufcc.com/event/parents-night-out-7/
LOCATION:UUFCC – Gathering Space\, 780 Waupelani Drive\, State College\, PA\, 16801\, United States
CATEGORIES:Lifespan Religious Exploration,RE Kids & Youth,Young Kids
ATTACH;FMTTYPE=image/png:https://uufcc.com/wp-content/uploads/2023/10/Parents-Night-Out.png
ORGANIZER;CN="Unitarian Universalist Fellowship of Centre County":MAILTO:office@uufcc.com
END:VEVENT
BEGIN:VEVENT
DTSTART;TZID=America/New_York:20251208T123000
DTEND;TZID=America/New_York:20251208T130000
DTSTAMP:20260423T033626
CREATED:20231021T021336Z
LAST-MODIFIED:20250419T193312Z
UID:10000125-1765197000-1765198800@uufcc.com
SUMMARY:Meditation Monday
DESCRIPTION:Open to the public.\nJoin Kelle Kersten on Zoom for a guided meditation during your lunch to center yourself for the coming week!\nClick here to join the Zoom meeting.
URL:https://uufcc.com/event/meditation-monday/2025-12-08/
LOCATION:PA
CATEGORIES:Adult RE,Lifespan Religious Exploration
ATTACH;FMTTYPE=image/png:https://uufcc.com/wp-content/uploads/2023/10/UUFCC-Meditation-Mondays-540.png
END:VEVENT
BEGIN:VEVENT
DTSTART;TZID=America/New_York:20251207T183000
DTEND;TZID=America/New_York:20251207T200000
DTSTAMP:20260423T033626
CREATED:20250813T150956Z
LAST-MODIFIED:20250813T150956Z
UID:10010462-1765132200-1765137600@uufcc.com
SUMMARY:OWL: 10th-12th Grade
DESCRIPTION:
URL:https://uufcc.com/event/owl-10th-12th-grade/2025-12-07/
LOCATION:Unitarian Universalist Fellowship of Centre County\, 780 Waupelani Drive\, State College\, PA\, 16801\, United States
CATEGORIES:High School Youth,Lifespan Religious Exploration,RE Kids & Youth
ORGANIZER;CN="Unitarian Universalist Fellowship of Centre County":MAILTO:office@uufcc.com
END:VEVENT
BEGIN:VEVENT
DTSTART;TZID=America/New_York:20251207T183000
DTEND;TZID=America/New_York:20251207T200000
DTSTAMP:20260423T033626
CREATED:20250813T150836Z
LAST-MODIFIED:20250813T150836Z
UID:10010448-1765132200-1765137600@uufcc.com
SUMMARY:OWL: 7th-9th Grade
DESCRIPTION:
URL:https://uufcc.com/event/owl-7th-9th-grade/2025-12-07/
LOCATION:Unitarian Universalist Fellowship of Centre County\, 780 Waupelani Drive\, State College\, PA\, 16801\, United States
CATEGORIES:Lifespan Religious Exploration,Middle School Youth,RE Kids & Youth
ORGANIZER;CN="Unitarian Universalist Fellowship of Centre County":MAILTO:office@uufcc.com
END:VEVENT
BEGIN:VEVENT
DTSTART;TZID=America/New_York:20251207T100000
DTEND;TZID=America/New_York:20251207T110000
DTSTAMP:20260423T033626
CREATED:20250924T193017Z
LAST-MODIFIED:20250924T193018Z
UID:10010803-1765101600-1765105200@uufcc.com
SUMMARY:RE: 1st-5th Grade
DESCRIPTION:1st through 5th grade kids are learning our values through the monthly congregational themes\, and have a bi-monthly social justice book project and activity. \nIn services led by Rev. Tracy Sprowls\, children remain in the Sanctuary until the Wisdom Lesson\, then go downstairs to class. In multigenerational services\, they stay for the entire service.
URL:https://uufcc.com/event/re-1st-5th-grade-4/2025-12-07/
LOCATION:UUFCC – Sanctuary first\, then Gathering Space
CATEGORIES:Lifespan Religious Exploration,RE Kids & Youth,Young Kids
ORGANIZER;CN="Unitarian Universalist Fellowship of Centre County":MAILTO:office@uufcc.com
END:VEVENT
BEGIN:VEVENT
DTSTART;TZID=America/New_York:20251207T100000
DTEND;TZID=America/New_York:20251207T110000
DTSTAMP:20260423T033626
CREATED:20250913T193556Z
LAST-MODIFIED:20250913T193909Z
UID:10011064-1765101600-1765105200@uufcc.com
SUMMARY:RE: Middle School
DESCRIPTION:Middle School youth engage in UU Identity through themes each month and fun activities using our Soul Matters curriculum.  \nIn services led by Rev. Tracy Sprowls\, kids remain in the Sanctuary until the Wisdom Lesson\, then go to class. In multigenerational services\, they stay for the entire service.
URL:https://uufcc.com/event/re-middle-school/2025-12-07/
LOCATION:UUFCC – Sanctuary\, then Room 6\, 780 Waupelani Drive Ext.\, State College\, PA\, 16801\, United States
CATEGORIES:Lifespan Religious Exploration,Middle School Youth,RE Kids & Youth
ORGANIZER;CN="Unitarian Universalist Fellowship of Centre County":MAILTO:office@uufcc.com
END:VEVENT
BEGIN:VEVENT
DTSTART;TZID=America/New_York:20251207T100000
DTEND;TZID=America/New_York:20251207T110000
DTSTAMP:20260423T033626
CREATED:20250913T192529Z
LAST-MODIFIED:20250913T192529Z
UID:10010542-1765101600-1765105200@uufcc.com
SUMMARY:RE: Pre-K & K
DESCRIPTION:Each week our kids gather to explore our world in light of our UU values. Pre-K/K friends will engage in guided exploration of various topics with their wonderful teachers\, Sue Smith and Rocky Landers\, downstairs in Room D.
URL:https://uufcc.com/event/re-pre-k-k/2025-12-07/
LOCATION:Unitarian Universalist Fellowship of Centre County\, 780 Waupelani Drive\, State College\, PA\, 16801\, United States
CATEGORIES:Lifespan Religious Exploration,RE Kids & Youth,Young Kids
ORGANIZER;CN="Unitarian Universalist Fellowship of Centre County":MAILTO:office@uufcc.com
END:VEVENT
BEGIN:VEVENT
DTSTART;TZID=America/New_York:20251207T093000
DTEND;TZID=America/New_York:20251207T120000
DTSTAMP:20260423T033626
CREATED:20250917T145425Z
LAST-MODIFIED:20250917T145427Z
UID:10003584-1765099800-1765108800@uufcc.com
SUMMARY:Child Care
DESCRIPTION:
URL:https://uufcc.com/event/child-care-2-2-2-2/2025-12-07/
LOCATION:UUFCC – Room C\, 780 Waupelani Drive\, State College\, PA\, 16801\, United States
CATEGORIES:Lifespan Religious Exploration,RE Kids & Youth,Young Kids
ORGANIZER;CN="Unitarian Universalist Fellowship of Centre County":MAILTO:office@uufcc.com
END:VEVENT
BEGIN:VEVENT
DTSTART;TZID=America/New_York:20251206T160000
DTEND;TZID=America/New_York:20251206T200000
DTSTAMP:20260423T033626
CREATED:20251118T163924Z
LAST-MODIFIED:20251118T163956Z
UID:10012295-1765036800-1765051200@uufcc.com
SUMMARY:Tree Cutting and Pizza
DESCRIPTION:Meet at UUFCC to then caravan to a tree farm for the kids to pick out a tree and set it up in the sanctuary! Followed by pizza and fellowship.
URL:https://uufcc.com/event/tree-cutting-and-pizza/
LOCATION:Unitarian Universalist Fellowship of Centre County\, 780 Waupelani Drive\, State College\, PA\, 16801\, United States
CATEGORIES:Intergenerational RE,Lifespan Religious Exploration
END:VEVENT
BEGIN:VEVENT
DTSTART;TZID=America/New_York:20251204T143000
DTEND;TZID=America/New_York:20251204T160000
DTSTAMP:20260423T033626
CREATED:20240430T185149Z
LAST-MODIFIED:20240430T185151Z
UID:10003966-1764858600-1764864000@uufcc.com
SUMMARY:Memoirs Group
DESCRIPTION:
URL:https://uufcc.com/event/memoirs-group-2-2-2/2025-12-04/
LOCATION:UUFCC – Fellowship Hall\, 780 Waupelani Drive\, State College\, PA\, 16801\, United States
CATEGORIES:Adult RE,Lifespan Religious Exploration
END:VEVENT
BEGIN:VEVENT
DTSTART;TZID=America/New_York:20251130T183000
DTEND;TZID=America/New_York:20251130T200000
DTSTAMP:20260423T033626
CREATED:20250813T150956Z
LAST-MODIFIED:20250813T150956Z
UID:10010461-1764527400-1764532800@uufcc.com
SUMMARY:OWL: 10th-12th Grade
DESCRIPTION:
URL:https://uufcc.com/event/owl-10th-12th-grade/2025-11-30/
LOCATION:Unitarian Universalist Fellowship of Centre County\, 780 Waupelani Drive\, State College\, PA\, 16801\, United States
CATEGORIES:High School Youth,Lifespan Religious Exploration,RE Kids & Youth
ORGANIZER;CN="Unitarian Universalist Fellowship of Centre County":MAILTO:office@uufcc.com
END:VEVENT
BEGIN:VEVENT
DTSTART;TZID=America/New_York:20251130T183000
DTEND;TZID=America/New_York:20251130T200000
DTSTAMP:20260423T033626
CREATED:20250813T150836Z
LAST-MODIFIED:20250813T150836Z
UID:10010447-1764527400-1764532800@uufcc.com
SUMMARY:OWL: 7th-9th Grade
DESCRIPTION:
URL:https://uufcc.com/event/owl-7th-9th-grade/2025-11-30/
LOCATION:Unitarian Universalist Fellowship of Centre County\, 780 Waupelani Drive\, State College\, PA\, 16801\, United States
CATEGORIES:Lifespan Religious Exploration,Middle School Youth,RE Kids & Youth
ORGANIZER;CN="Unitarian Universalist Fellowship of Centre County":MAILTO:office@uufcc.com
END:VEVENT
BEGIN:VEVENT
DTSTART;TZID=America/New_York:20251130T113000
DTEND;TZID=America/New_York:20251130T130000
DTSTAMP:20260423T033626
CREATED:20251111T171417Z
LAST-MODIFIED:20251120T190113Z
UID:10012284-1764502200-1764507600@uufcc.com
SUMMARY:Drum Circle
DESCRIPTION:Experience communal drumming\, learn various African rhythms and have fun. Drums are provided but bring your own if you wish!
URL:https://uufcc.com/event/drum-circle-2/
LOCATION:Unitarian Universalist Fellowship of Centre County\, 780 Waupelani Drive\, State College\, PA\, 16801\, United States
CATEGORIES:Intergenerational RE,Lifespan Religious Exploration
END:VEVENT
BEGIN:VEVENT
DTSTART;TZID=America/New_York:20251130T113000
DTEND;TZID=America/New_York:20251130T130000
DTSTAMP:20260423T033626
CREATED:20250927T163031Z
LAST-MODIFIED:20250927T163033Z
UID:10011754-1764502200-1764507600@uufcc.com
SUMMARY:Music & Play
DESCRIPTION:For elementary ages\, led by Karen Maynard.
URL:https://uufcc.com/event/music-play-2-2/2025-11-30/
LOCATION:UUFCC – Room B\, 780 Waupelani Drive\, State College\, PA\, 16801\, United States
CATEGORIES:Lifespan Religious Exploration,Young Kids
ORGANIZER;CN="Unitarian Universalist Fellowship of Centre County":MAILTO:office@uufcc.com
END:VEVENT
BEGIN:VEVENT
DTSTART;TZID=America/New_York:20251130T100000
DTEND;TZID=America/New_York:20251130T110000
DTSTAMP:20260423T033626
CREATED:20250924T193017Z
LAST-MODIFIED:20250924T193018Z
UID:10010802-1764496800-1764500400@uufcc.com
SUMMARY:RE: 1st-5th Grade
DESCRIPTION:1st through 5th grade kids are learning our values through the monthly congregational themes\, and have a bi-monthly social justice book project and activity. \nIn services led by Rev. Tracy Sprowls\, children remain in the Sanctuary until the Wisdom Lesson\, then go downstairs to class. In multigenerational services\, they stay for the entire service.
URL:https://uufcc.com/event/re-1st-5th-grade-4/2025-11-30/
LOCATION:UUFCC – Sanctuary first\, then Gathering Space
CATEGORIES:Lifespan Religious Exploration,RE Kids & Youth,Young Kids
ORGANIZER;CN="Unitarian Universalist Fellowship of Centre County":MAILTO:office@uufcc.com
END:VEVENT
BEGIN:VEVENT
DTSTART;TZID=America/New_York:20251130T100000
DTEND;TZID=America/New_York:20251130T110000
DTSTAMP:20260423T033626
CREATED:20250913T192529Z
LAST-MODIFIED:20250913T192529Z
UID:10010541-1764496800-1764500400@uufcc.com
SUMMARY:RE: Pre-K & K
DESCRIPTION:Each week our kids gather to explore our world in light of our UU values. Pre-K/K friends will engage in guided exploration of various topics with their wonderful teachers\, Sue Smith and Rocky Landers\, downstairs in Room D.
URL:https://uufcc.com/event/re-pre-k-k/2025-11-30/
LOCATION:Unitarian Universalist Fellowship of Centre County\, 780 Waupelani Drive\, State College\, PA\, 16801\, United States
CATEGORIES:Lifespan Religious Exploration,RE Kids & Youth,Young Kids
ORGANIZER;CN="Unitarian Universalist Fellowship of Centre County":MAILTO:office@uufcc.com
END:VEVENT
BEGIN:VEVENT
DTSTART;TZID=America/New_York:20251130T093000
DTEND;TZID=America/New_York:20251130T120000
DTSTAMP:20260423T033626
CREATED:20251125T184423Z
LAST-MODIFIED:20251125T184425Z
UID:10003583-1764495000-1764504000@uufcc.com
SUMMARY:Child Care
DESCRIPTION:
URL:https://uufcc.com/event/child-care-2-2-2-2-4/
LOCATION:Room D\, 780 Waupelani Drive Ext.\, State College\, 16801\, United States
CATEGORIES:Lifespan Religious Exploration,RE Kids & Youth,Young Kids
ORGANIZER;CN="Unitarian Universalist Fellowship of Centre County":MAILTO:office@uufcc.com
END:VEVENT
BEGIN:VEVENT
DTSTART;TZID=America/New_York:20251123T183000
DTEND;TZID=America/New_York:20251123T200000
DTSTAMP:20260423T033626
CREATED:20250813T150956Z
LAST-MODIFIED:20250813T150956Z
UID:10010460-1763922600-1763928000@uufcc.com
SUMMARY:OWL: 10th-12th Grade
DESCRIPTION:
URL:https://uufcc.com/event/owl-10th-12th-grade/2025-11-23/
LOCATION:Unitarian Universalist Fellowship of Centre County\, 780 Waupelani Drive\, State College\, PA\, 16801\, United States
CATEGORIES:High School Youth,Lifespan Religious Exploration,RE Kids & Youth
ORGANIZER;CN="Unitarian Universalist Fellowship of Centre County":MAILTO:office@uufcc.com
END:VEVENT
BEGIN:VEVENT
DTSTART;TZID=America/New_York:20251123T183000
DTEND;TZID=America/New_York:20251123T200000
DTSTAMP:20260423T033626
CREATED:20250813T150836Z
LAST-MODIFIED:20250813T150836Z
UID:10010446-1763922600-1763928000@uufcc.com
SUMMARY:OWL: 7th-9th Grade
DESCRIPTION:
URL:https://uufcc.com/event/owl-7th-9th-grade/2025-11-23/
LOCATION:Unitarian Universalist Fellowship of Centre County\, 780 Waupelani Drive\, State College\, PA\, 16801\, United States
CATEGORIES:Lifespan Religious Exploration,Middle School Youth,RE Kids & Youth
ORGANIZER;CN="Unitarian Universalist Fellowship of Centre County":MAILTO:office@uufcc.com
END:VEVENT
END:VCALENDAR