BEGIN:VCALENDAR
VERSION:2.0
PRODID:-//UUFCC - ECPv6.15.17//NONSGML v1.0//EN
CALSCALE:GREGORIAN
METHOD:PUBLISH
X-WR-CALNAME:UUFCC
X-ORIGINAL-URL:https://uufcc.com
X-WR-CALDESC:Events for UUFCC
REFRESH-INTERVAL;VALUE=DURATION:PT1H
X-Robots-Tag:noindex
X-PUBLISHED-TTL:PT1H
BEGIN:VTIMEZONE
TZID:America/New_York
BEGIN:DAYLIGHT
TZOFFSETFROM:-0500
TZOFFSETTO:-0400
TZNAME:EDT
DTSTART:20250309T070000
END:DAYLIGHT
BEGIN:STANDARD
TZOFFSETFROM:-0400
TZOFFSETTO:-0500
TZNAME:EST
DTSTART:20251102T060000
END:STANDARD
BEGIN:DAYLIGHT
TZOFFSETFROM:-0500
TZOFFSETTO:-0400
TZNAME:EDT
DTSTART:20260308T070000
END:DAYLIGHT
BEGIN:STANDARD
TZOFFSETFROM:-0400
TZOFFSETTO:-0500
TZNAME:EST
DTSTART:20261101T060000
END:STANDARD
BEGIN:DAYLIGHT
TZOFFSETFROM:-0500
TZOFFSETTO:-0400
TZNAME:EDT
DTSTART:20270314T070000
END:DAYLIGHT
BEGIN:STANDARD
TZOFFSETFROM:-0400
TZOFFSETTO:-0500
TZNAME:EST
DTSTART:20271107T060000
END:STANDARD
END:VTIMEZONE
BEGIN:VEVENT
DTSTART;TZID=America/New_York:20260503T100000
DTEND;TZID=America/New_York:20260503T110000
DTSTAMP:20260422T203204
CREATED:20250913T193556Z
LAST-MODIFIED:20250913T193909Z
UID:10011085-1777802400-1777806000@uufcc.com
SUMMARY:RE: Middle School
DESCRIPTION:Middle School youth engage in UU Identity through themes each month and fun activities using our Soul Matters curriculum.  \nIn services led by Rev. Tracy Sprowls\, kids remain in the Sanctuary until the Wisdom Lesson\, then go to class. In multigenerational services\, they stay for the entire service.
URL:https://uufcc.com/event/re-middle-school/2026-05-03/
LOCATION:UUFCC – Sanctuary\, then Room 6\, 780 Waupelani Drive Ext.\, State College\, PA\, 16801\, United States
CATEGORIES:Lifespan Religious Exploration,Middle School Youth,RE Kids & Youth
ORGANIZER;CN="Unitarian Universalist Fellowship of Centre County":MAILTO:office@uufcc.com
END:VEVENT
BEGIN:VEVENT
DTSTART;TZID=America/New_York:20260503T100000
DTEND;TZID=America/New_York:20260503T110000
DTSTAMP:20260422T203204
CREATED:20250924T193017Z
LAST-MODIFIED:20250924T193018Z
UID:10010824-1777802400-1777806000@uufcc.com
SUMMARY:RE: 1st-5th Grade
DESCRIPTION:1st through 5th grade kids are learning our values through the monthly congregational themes\, and have a bi-monthly social justice book project and activity. \nIn services led by Rev. Tracy Sprowls\, children remain in the Sanctuary until the Wisdom Lesson\, then go downstairs to class. In multigenerational services\, they stay for the entire service.
URL:https://uufcc.com/event/re-1st-5th-grade-4/2026-05-03/
LOCATION:UUFCC – Sanctuary first\, then Gathering Space
CATEGORIES:Lifespan Religious Exploration,RE Kids & Youth,Young Kids
ORGANIZER;CN="Unitarian Universalist Fellowship of Centre County":MAILTO:office@uufcc.com
END:VEVENT
BEGIN:VEVENT
DTSTART;TZID=America/New_York:20260503T100000
DTEND;TZID=America/New_York:20260503T110000
DTSTAMP:20260422T203204
CREATED:20260120T193158Z
LAST-MODIFIED:20260120T193201Z
UID:10010563-1777802400-1777806000@uufcc.com
SUMMARY:RE: Pre-K & K
DESCRIPTION:Each week our kids gather to explore our world in light of our UU values. Pre-K/K friends will engage in guided exploration of various topics with their wonderful teachers\, Sue Smith and Rocky Landers\, downstairs in Room D.
URL:https://uufcc.com/event/re-pre-k-k-10/2026-05-03/
LOCATION:UUFCC – Gathering Space and Room D\, 780 Waupelani Drive\, State College\, PA\, 16801\, United States
CATEGORIES:Lifespan Religious Exploration,RE Kids & Youth,Young Kids
ORGANIZER;CN="Unitarian Universalist Fellowship of Centre County":MAILTO:office@uufcc.com
END:VEVENT
BEGIN:VEVENT
DTSTART;TZID=America/New_York:20260503T113000
DTEND;TZID=America/New_York:20260503T130000
DTSTAMP:20260422T203204
CREATED:20250927T163031Z
LAST-MODIFIED:20250927T163033Z
UID:10011776-1777807800-1777813200@uufcc.com
SUMMARY:Music & Play
DESCRIPTION:For elementary ages\, led by Karen Maynard.
URL:https://uufcc.com/event/music-play-2-2/2026-05-03/
LOCATION:UUFCC – Room B\, 780 Waupelani Drive\, State College\, PA\, 16801\, United States
CATEGORIES:Lifespan Religious Exploration,Young Kids
ORGANIZER;CN="Unitarian Universalist Fellowship of Centre County":MAILTO:office@uufcc.com
END:VEVENT
BEGIN:VEVENT
DTSTART;TZID=America/New_York:20260503T113000
DTEND;TZID=America/New_York:20260503T130000
DTSTAMP:20260422T203204
CREATED:20260205T182659Z
LAST-MODIFIED:20260205T182701Z
UID:10012491-1777807800-1777813200@uufcc.com
SUMMARY:It Matters What You Believe
DESCRIPTION:This series explores the 5 smooth stones of Unitarian Universalism written by James Luther Adams as our starting point and container. The sessions cover: truth\, connection\, justice\, agency\, and hope. Come to any one session or all. Sign up here.
URL:https://uufcc.com/event/it-matters-what-you-believe-3/2026-05-03/
LOCATION:UUFCC – Room 6\, 780 Waupelani Drive\, State College\, PA\, 16801\, United States
CATEGORIES:Adult RE,Lifespan Religious Exploration
ATTACH;FMTTYPE=image/jpeg:https://uufcc.com/wp-content/uploads/2025/12/itmatters.jpg
ORGANIZER;CN="Unitarian Universalist Fellowship of Centre County":MAILTO:office@uufcc.com
END:VEVENT
BEGIN:VEVENT
DTSTART;TZID=America/New_York:20260503T133000
DTEND;TZID=America/New_York:20260503T153000
DTSTAMP:20260422T203204
CREATED:20260422T152349Z
LAST-MODIFIED:20260422T180856Z
UID:10012915-1777815000-1777822200@uufcc.com
SUMMARY:UU Adventurers: Rhoneymeade Tour
DESCRIPTION:Join us for an afternoon at Rhoneymeade Arboretum and Gardens! We’ll stroll through the historical buildings and gardens\, so wear comfortable shoes and bring water. Friends and family welcome!
URL:https://uufcc.com/event/uu-adventurers-rhoneymeade-tour/
LOCATION:Rhoneymeade Arboretum & Gardens\, 177 Rimmey Road\, Centre Hall\, PA\, 16828\, United States
CATEGORIES:Intergenerational RE,Lifespan Religious Exploration
ATTACH;FMTTYPE=image/jpeg:https://uufcc.com/wp-content/uploads/2026/04/UU-Adventurers-Rhoneymeade.jpg
ORGANIZER;CN="Unitarian Universalist Fellowship of Centre County":MAILTO:office@uufcc.com
END:VEVENT
BEGIN:VEVENT
DTSTART;TZID=America/New_York:20260504T123000
DTEND;TZID=America/New_York:20260504T130000
DTSTAMP:20260422T203204
CREATED:20231021T021336Z
LAST-MODIFIED:20250419T193312Z
UID:10000146-1777897800-1777899600@uufcc.com
SUMMARY:Meditation Monday
DESCRIPTION:Open to the public.\nJoin Kelle Kersten on Zoom for a guided meditation during your lunch to center yourself for the coming week!\nClick here to join the Zoom meeting.
URL:https://uufcc.com/event/meditation-monday/2026-05-04/
LOCATION:PA
CATEGORIES:Adult RE,Lifespan Religious Exploration
ATTACH;FMTTYPE=image/png:https://uufcc.com/wp-content/uploads/2023/10/UUFCC-Meditation-Mondays-540.png
END:VEVENT
BEGIN:VEVENT
DTSTART;TZID=America/New_York:20260507T143000
DTEND;TZID=America/New_York:20260507T160000
DTSTAMP:20260422T203204
CREATED:20240430T185149Z
LAST-MODIFIED:20240430T185151Z
UID:10003970-1778164200-1778169600@uufcc.com
SUMMARY:Memoirs Group
DESCRIPTION:
URL:https://uufcc.com/event/memoirs-group-2-2-2/2026-05-07/
LOCATION:UUFCC – Fellowship Hall\, 780 Waupelani Drive\, State College\, PA\, 16801\, United States
CATEGORIES:Adult RE,Lifespan Religious Exploration
END:VEVENT
BEGIN:VEVENT
DTSTART;TZID=America/New_York:20260509T170000
DTEND;TZID=America/New_York:20260509T200000
DTSTAMP:20260422T203204
CREATED:20251118T165358Z
LAST-MODIFIED:20251118T165358Z
UID:10012301-1778346000-1778356800@uufcc.com
SUMMARY:Parents' Night Out
DESCRIPTION:Parents\, drop your kids off with our childcare providers for an evening of fun games\, dinner\, and a movie while you have some time for you! Sign up each month.
URL:https://uufcc.com/event/parents-night-out-12/
LOCATION:UUFCC – Gathering Space\, 780 Waupelani Drive\, State College\, PA\, 16801\, United States
CATEGORIES:Lifespan Religious Exploration,RE Kids & Youth,Young Kids
ATTACH;FMTTYPE=image/png:https://uufcc.com/wp-content/uploads/2023/10/Parents-Night-Out.png
ORGANIZER;CN="Unitarian Universalist Fellowship of Centre County":MAILTO:office@uufcc.com
END:VEVENT
BEGIN:VEVENT
DTSTART;TZID=America/New_York:20260510T093000
DTEND;TZID=America/New_York:20260510T120000
DTSTAMP:20260422T203204
CREATED:20260120T182744Z
LAST-MODIFIED:20260120T182747Z
UID:10003606-1778405400-1778414400@uufcc.com
SUMMARY:Child Care
DESCRIPTION:
URL:https://uufcc.com/event/child-care-2-2-2-2-6/2026-05-10/
LOCATION:UUFCC – Room 3\, 780 Waupelani Drive Ext.\, State College\, 16801\, United States
CATEGORIES:Lifespan Religious Exploration,RE Kids & Youth,Young Kids
ORGANIZER;CN="Unitarian Universalist Fellowship of Centre County":MAILTO:office@uufcc.com
END:VEVENT
BEGIN:VEVENT
DTSTART;TZID=America/New_York:20260510T100000
DTEND;TZID=America/New_York:20260510T110000
DTSTAMP:20260422T203204
CREATED:20250913T193556Z
LAST-MODIFIED:20250913T193909Z
UID:10011086-1778407200-1778410800@uufcc.com
SUMMARY:RE: Middle School
DESCRIPTION:Middle School youth engage in UU Identity through themes each month and fun activities using our Soul Matters curriculum.  \nIn services led by Rev. Tracy Sprowls\, kids remain in the Sanctuary until the Wisdom Lesson\, then go to class. In multigenerational services\, they stay for the entire service.
URL:https://uufcc.com/event/re-middle-school/2026-05-10/
LOCATION:UUFCC – Sanctuary\, then Room 6\, 780 Waupelani Drive Ext.\, State College\, PA\, 16801\, United States
CATEGORIES:Lifespan Religious Exploration,Middle School Youth,RE Kids & Youth
ORGANIZER;CN="Unitarian Universalist Fellowship of Centre County":MAILTO:office@uufcc.com
END:VEVENT
BEGIN:VEVENT
DTSTART;TZID=America/New_York:20260510T100000
DTEND;TZID=America/New_York:20260510T110000
DTSTAMP:20260422T203204
CREATED:20250924T193017Z
LAST-MODIFIED:20250924T193018Z
UID:10010825-1778407200-1778410800@uufcc.com
SUMMARY:RE: 1st-5th Grade
DESCRIPTION:1st through 5th grade kids are learning our values through the monthly congregational themes\, and have a bi-monthly social justice book project and activity. \nIn services led by Rev. Tracy Sprowls\, children remain in the Sanctuary until the Wisdom Lesson\, then go downstairs to class. In multigenerational services\, they stay for the entire service.
URL:https://uufcc.com/event/re-1st-5th-grade-4/2026-05-10/
LOCATION:UUFCC – Sanctuary first\, then Gathering Space
CATEGORIES:Lifespan Religious Exploration,RE Kids & Youth,Young Kids
ORGANIZER;CN="Unitarian Universalist Fellowship of Centre County":MAILTO:office@uufcc.com
END:VEVENT
BEGIN:VEVENT
DTSTART;TZID=America/New_York:20260510T100000
DTEND;TZID=America/New_York:20260510T110000
DTSTAMP:20260422T203204
CREATED:20260120T193158Z
LAST-MODIFIED:20260120T193201Z
UID:10010564-1778407200-1778410800@uufcc.com
SUMMARY:RE: Pre-K & K
DESCRIPTION:Each week our kids gather to explore our world in light of our UU values. Pre-K/K friends will engage in guided exploration of various topics with their wonderful teachers\, Sue Smith and Rocky Landers\, downstairs in Room D.
URL:https://uufcc.com/event/re-pre-k-k-10/2026-05-10/
LOCATION:UUFCC – Gathering Space and Room D\, 780 Waupelani Drive\, State College\, PA\, 16801\, United States
CATEGORIES:Lifespan Religious Exploration,RE Kids & Youth,Young Kids
ORGANIZER;CN="Unitarian Universalist Fellowship of Centre County":MAILTO:office@uufcc.com
END:VEVENT
BEGIN:VEVENT
DTSTART;TZID=America/New_York:20260510T113000
DTEND;TZID=America/New_York:20260510T130000
DTSTAMP:20260422T203204
CREATED:20250927T163031Z
LAST-MODIFIED:20250927T163033Z
UID:10011777-1778412600-1778418000@uufcc.com
SUMMARY:Music & Play
DESCRIPTION:For elementary ages\, led by Karen Maynard.
URL:https://uufcc.com/event/music-play-2-2/2026-05-10/
LOCATION:UUFCC – Room B\, 780 Waupelani Drive\, State College\, PA\, 16801\, United States
CATEGORIES:Lifespan Religious Exploration,Young Kids
ORGANIZER;CN="Unitarian Universalist Fellowship of Centre County":MAILTO:office@uufcc.com
END:VEVENT
BEGIN:VEVENT
DTSTART;TZID=America/New_York:20260510T113000
DTEND;TZID=America/New_York:20260510T130000
DTSTAMP:20260422T203204
CREATED:20260121T184051Z
LAST-MODIFIED:20260422T171512Z
UID:10012667-1778412600-1778418000@uufcc.com
SUMMARY:D.E.A.L. Book Club - Against Technoableism by Ashley Shew
DESCRIPTION:Discussion facilitated by Emory McKenna. \nThis badly needed introduction to disability expertise considers mobility devices\, medical infrastructure\, neurodivergence\, and the crucial relationship between disability and race. The future\, Shew points out\, is surely disabled―whether through changing climate\, new diseases\, or even through space travel. \nThis group is open to all folks who would like to join! Even if you are unable to or haven’t read the book\, but would like to join the conversation\, we welcome you. \n\n\nPRINT COPIES ARE AVAILABLE FOR FREE – SEE ASHLEY HAMLIN (WHILE SUPPLIES LASTS)\nTHE AUDIOBOOK & E-BOOK VERSIONS CAN BE FOUND THROUGH THE LIBBY APP\nPLEASE ALSO CONSIDER SUPPORTING YOUR LOCAL LIBRARY OR INDEPENDENT BOOKSTORE
URL:https://uufcc.com/event/d-e-a-l-book-club-against-technoableism-by-ashley-shew/
LOCATION:UUFCC – Room 6\, 780 Waupelani Drive\, State College\, PA\, 16801\, United States
CATEGORIES:Adult RE,Lifespan Religious Exploration
ATTACH;FMTTYPE=image/jpeg:https://uufcc.com/wp-content/uploads/2026/01/UUFCC-D.E.A.L.-Against-Technoableism.jpg
END:VEVENT
BEGIN:VEVENT
DTSTART;TZID=America/New_York:20260511T123000
DTEND;TZID=America/New_York:20260511T130000
DTSTAMP:20260422T203204
CREATED:20231021T021336Z
LAST-MODIFIED:20250419T193312Z
UID:10000147-1778502600-1778504400@uufcc.com
SUMMARY:Meditation Monday
DESCRIPTION:Open to the public.\nJoin Kelle Kersten on Zoom for a guided meditation during your lunch to center yourself for the coming week!\nClick here to join the Zoom meeting.
URL:https://uufcc.com/event/meditation-monday/2026-05-11/
LOCATION:PA
CATEGORIES:Adult RE,Lifespan Religious Exploration
ATTACH;FMTTYPE=image/png:https://uufcc.com/wp-content/uploads/2023/10/UUFCC-Meditation-Mondays-540.png
END:VEVENT
BEGIN:VEVENT
DTSTART;TZID=America/New_York:20260517T093000
DTEND;TZID=America/New_York:20260517T120000
DTSTAMP:20260422T203204
CREATED:20260120T182744Z
LAST-MODIFIED:20260120T182747Z
UID:10003607-1779010200-1779019200@uufcc.com
SUMMARY:Child Care
DESCRIPTION:
URL:https://uufcc.com/event/child-care-2-2-2-2-6/2026-05-17/
LOCATION:UUFCC – Room 3\, 780 Waupelani Drive Ext.\, State College\, 16801\, United States
CATEGORIES:Lifespan Religious Exploration,RE Kids & Youth,Young Kids
ORGANIZER;CN="Unitarian Universalist Fellowship of Centre County":MAILTO:office@uufcc.com
END:VEVENT
BEGIN:VEVENT
DTSTART;TZID=America/New_York:20260517T100000
DTEND;TZID=America/New_York:20260517T110000
DTSTAMP:20260422T203204
CREATED:20250913T193556Z
LAST-MODIFIED:20250913T193909Z
UID:10011087-1779012000-1779015600@uufcc.com
SUMMARY:RE: Middle School
DESCRIPTION:Middle School youth engage in UU Identity through themes each month and fun activities using our Soul Matters curriculum.  \nIn services led by Rev. Tracy Sprowls\, kids remain in the Sanctuary until the Wisdom Lesson\, then go to class. In multigenerational services\, they stay for the entire service.
URL:https://uufcc.com/event/re-middle-school/2026-05-17/
LOCATION:UUFCC – Sanctuary\, then Room 6\, 780 Waupelani Drive Ext.\, State College\, PA\, 16801\, United States
CATEGORIES:Lifespan Religious Exploration,Middle School Youth,RE Kids & Youth
ORGANIZER;CN="Unitarian Universalist Fellowship of Centre County":MAILTO:office@uufcc.com
END:VEVENT
BEGIN:VEVENT
DTSTART;TZID=America/New_York:20260517T100000
DTEND;TZID=America/New_York:20260517T110000
DTSTAMP:20260422T203204
CREATED:20250924T193017Z
LAST-MODIFIED:20250924T193018Z
UID:10010826-1779012000-1779015600@uufcc.com
SUMMARY:RE: 1st-5th Grade
DESCRIPTION:1st through 5th grade kids are learning our values through the monthly congregational themes\, and have a bi-monthly social justice book project and activity. \nIn services led by Rev. Tracy Sprowls\, children remain in the Sanctuary until the Wisdom Lesson\, then go downstairs to class. In multigenerational services\, they stay for the entire service.
URL:https://uufcc.com/event/re-1st-5th-grade-4/2026-05-17/
LOCATION:UUFCC – Sanctuary first\, then Gathering Space
CATEGORIES:Lifespan Religious Exploration,RE Kids & Youth,Young Kids
ORGANIZER;CN="Unitarian Universalist Fellowship of Centre County":MAILTO:office@uufcc.com
END:VEVENT
BEGIN:VEVENT
DTSTART;TZID=America/New_York:20260517T100000
DTEND;TZID=America/New_York:20260517T110000
DTSTAMP:20260422T203204
CREATED:20260120T193158Z
LAST-MODIFIED:20260120T193201Z
UID:10010565-1779012000-1779015600@uufcc.com
SUMMARY:RE: Pre-K & K
DESCRIPTION:Each week our kids gather to explore our world in light of our UU values. Pre-K/K friends will engage in guided exploration of various topics with their wonderful teachers\, Sue Smith and Rocky Landers\, downstairs in Room D.
URL:https://uufcc.com/event/re-pre-k-k-10/2026-05-17/
LOCATION:UUFCC – Gathering Space and Room D\, 780 Waupelani Drive\, State College\, PA\, 16801\, United States
CATEGORIES:Lifespan Religious Exploration,RE Kids & Youth,Young Kids
ORGANIZER;CN="Unitarian Universalist Fellowship of Centre County":MAILTO:office@uufcc.com
END:VEVENT
BEGIN:VEVENT
DTSTART;TZID=America/New_York:20260517T113000
DTEND;TZID=America/New_York:20260517T130000
DTSTAMP:20260422T203204
CREATED:20250927T163031Z
LAST-MODIFIED:20250927T163033Z
UID:10011778-1779017400-1779022800@uufcc.com
SUMMARY:Music & Play
DESCRIPTION:For elementary ages\, led by Karen Maynard.
URL:https://uufcc.com/event/music-play-2-2/2026-05-17/
LOCATION:UUFCC – Room B\, 780 Waupelani Drive\, State College\, PA\, 16801\, United States
CATEGORIES:Lifespan Religious Exploration,Young Kids
ORGANIZER;CN="Unitarian Universalist Fellowship of Centre County":MAILTO:office@uufcc.com
END:VEVENT
BEGIN:VEVENT
DTSTART;TZID=America/New_York:20260518T123000
DTEND;TZID=America/New_York:20260518T130000
DTSTAMP:20260422T203204
CREATED:20231021T021336Z
LAST-MODIFIED:20250419T193312Z
UID:10000148-1779107400-1779109200@uufcc.com
SUMMARY:Meditation Monday
DESCRIPTION:Open to the public.\nJoin Kelle Kersten on Zoom for a guided meditation during your lunch to center yourself for the coming week!\nClick here to join the Zoom meeting.
URL:https://uufcc.com/event/meditation-monday/2026-05-18/
LOCATION:PA
CATEGORIES:Adult RE,Lifespan Religious Exploration
ATTACH;FMTTYPE=image/png:https://uufcc.com/wp-content/uploads/2023/10/UUFCC-Meditation-Mondays-540.png
END:VEVENT
BEGIN:VEVENT
DTSTART;TZID=America/New_York:20260521T143000
DTEND;TZID=America/New_York:20260521T160000
DTSTAMP:20260422T203204
CREATED:20240430T185149Z
LAST-MODIFIED:20240430T185151Z
UID:10003971-1779373800-1779379200@uufcc.com
SUMMARY:Memoirs Group
DESCRIPTION:
URL:https://uufcc.com/event/memoirs-group-2-2-2/2026-05-21/
LOCATION:UUFCC – Fellowship Hall\, 780 Waupelani Drive\, State College\, PA\, 16801\, United States
CATEGORIES:Adult RE,Lifespan Religious Exploration
END:VEVENT
BEGIN:VEVENT
DTSTART;TZID=America/New_York:20260524T093000
DTEND;TZID=America/New_York:20260524T120000
DTSTAMP:20260422T203204
CREATED:20260120T182744Z
LAST-MODIFIED:20260120T182747Z
UID:10003608-1779615000-1779624000@uufcc.com
SUMMARY:Child Care
DESCRIPTION:
URL:https://uufcc.com/event/child-care-2-2-2-2-6/2026-05-24/
LOCATION:UUFCC – Room 3\, 780 Waupelani Drive Ext.\, State College\, 16801\, United States
CATEGORIES:Lifespan Religious Exploration,RE Kids & Youth,Young Kids
ORGANIZER;CN="Unitarian Universalist Fellowship of Centre County":MAILTO:office@uufcc.com
END:VEVENT
BEGIN:VEVENT
DTSTART;TZID=America/New_York:20260524T100000
DTEND;TZID=America/New_York:20260524T110000
DTSTAMP:20260422T203204
CREATED:20250913T193556Z
LAST-MODIFIED:20250913T193909Z
UID:10011088-1779616800-1779620400@uufcc.com
SUMMARY:RE: Middle School
DESCRIPTION:Middle School youth engage in UU Identity through themes each month and fun activities using our Soul Matters curriculum.  \nIn services led by Rev. Tracy Sprowls\, kids remain in the Sanctuary until the Wisdom Lesson\, then go to class. In multigenerational services\, they stay for the entire service.
URL:https://uufcc.com/event/re-middle-school/2026-05-24/
LOCATION:UUFCC – Sanctuary\, then Room 6\, 780 Waupelani Drive Ext.\, State College\, PA\, 16801\, United States
CATEGORIES:Lifespan Religious Exploration,Middle School Youth,RE Kids & Youth
ORGANIZER;CN="Unitarian Universalist Fellowship of Centre County":MAILTO:office@uufcc.com
END:VEVENT
BEGIN:VEVENT
DTSTART;TZID=America/New_York:20260524T100000
DTEND;TZID=America/New_York:20260524T110000
DTSTAMP:20260422T203204
CREATED:20250924T193017Z
LAST-MODIFIED:20250924T193018Z
UID:10010827-1779616800-1779620400@uufcc.com
SUMMARY:RE: 1st-5th Grade
DESCRIPTION:1st through 5th grade kids are learning our values through the monthly congregational themes\, and have a bi-monthly social justice book project and activity. \nIn services led by Rev. Tracy Sprowls\, children remain in the Sanctuary until the Wisdom Lesson\, then go downstairs to class. In multigenerational services\, they stay for the entire service.
URL:https://uufcc.com/event/re-1st-5th-grade-4/2026-05-24/
LOCATION:UUFCC – Sanctuary first\, then Gathering Space
CATEGORIES:Lifespan Religious Exploration,RE Kids & Youth,Young Kids
ORGANIZER;CN="Unitarian Universalist Fellowship of Centre County":MAILTO:office@uufcc.com
END:VEVENT
BEGIN:VEVENT
DTSTART;TZID=America/New_York:20260524T100000
DTEND;TZID=America/New_York:20260524T110000
DTSTAMP:20260422T203204
CREATED:20260120T193158Z
LAST-MODIFIED:20260120T193201Z
UID:10010566-1779616800-1779620400@uufcc.com
SUMMARY:RE: Pre-K & K
DESCRIPTION:Each week our kids gather to explore our world in light of our UU values. Pre-K/K friends will engage in guided exploration of various topics with their wonderful teachers\, Sue Smith and Rocky Landers\, downstairs in Room D.
URL:https://uufcc.com/event/re-pre-k-k-10/2026-05-24/
LOCATION:UUFCC – Gathering Space and Room D\, 780 Waupelani Drive\, State College\, PA\, 16801\, United States
CATEGORIES:Lifespan Religious Exploration,RE Kids & Youth,Young Kids
ORGANIZER;CN="Unitarian Universalist Fellowship of Centre County":MAILTO:office@uufcc.com
END:VEVENT
BEGIN:VEVENT
DTSTART;TZID=America/New_York:20260524T113000
DTEND;TZID=America/New_York:20260524T124500
DTSTAMP:20260422T203204
CREATED:20241220T180130Z
LAST-MODIFIED:20250918T164235Z
UID:10011682-1779622200-1779626700@uufcc.com
SUMMARY:UUFCC Resilience and Acceptance Discussion Group
DESCRIPTION:The participants of the UUFCC Resilience and Acceptance in the Face of Collapse course (which met from October 2023-February 2024) would like to invite UUFCC members and others to participate in the UUFCC Resilience and Acceptance Discussion Group. \nThe purpose of this group is to create a safe and stimulating space for exploring resilience and acceptance in the face of the collapse of modern civilization and for supporting each other in making changes in our lives and communities to lessen the impact of collapse. “Resilience” includes both the capacity within each of us to allow and stay with difficult emotions while also remaining grounded\, as well as the actions we take with other people to meet challenges in our communities. “Collapse\nacceptance” means acknowledging that the collapse of modern industrial civilization is real and already happening and recognizing our inability to stop it. We don’t know if it will lead to the extinction of humans\, but it will bring about “The End Of The World As We Know It.” Collapse acceptance involves embracing what is coming to an end\, living fully in this present moment\, and co-creating a new way of being\, relating\, organizing\, and responding (acting) in these times. \nIf you are interested in participating in our discussions\, please join us on the fourth Sunday of every month in Room B.
URL:https://uufcc.com/event/uufcc-resilience-and-acceptance-discussion-group-2-2-2/2026-05-24/
LOCATION:UUFCC – Room B\, 780 Waupelani Drive\, State College\, PA\, 16801\, United States
CATEGORIES:Adult RE,Lifespan Religious Exploration
ATTACH;FMTTYPE=image/png:https://uufcc.com/wp-content/uploads/2024/01/Resilience-and-Acceptance-in-the-Face-of-Collapse.png
ORGANIZER;CN="Unitarian Universalist Fellowship of Centre County":MAILTO:office@uufcc.com
END:VEVENT
BEGIN:VEVENT
DTSTART;TZID=America/New_York:20260524T113000
DTEND;TZID=America/New_York:20260524T130000
DTSTAMP:20260422T203204
CREATED:20250927T163031Z
LAST-MODIFIED:20250927T163033Z
UID:10011779-1779622200-1779627600@uufcc.com
SUMMARY:Music & Play
DESCRIPTION:For elementary ages\, led by Karen Maynard.
URL:https://uufcc.com/event/music-play-2-2/2026-05-24/
LOCATION:UUFCC – Room B\, 780 Waupelani Drive\, State College\, PA\, 16801\, United States
CATEGORIES:Lifespan Religious Exploration,Young Kids
ORGANIZER;CN="Unitarian Universalist Fellowship of Centre County":MAILTO:office@uufcc.com
END:VEVENT
BEGIN:VEVENT
DTSTART;TZID=America/New_York:20260525T123000
DTEND;TZID=America/New_York:20260525T130000
DTSTAMP:20260422T203204
CREATED:20231021T021336Z
LAST-MODIFIED:20250419T193312Z
UID:10000149-1779712200-1779714000@uufcc.com
SUMMARY:Meditation Monday
DESCRIPTION:Open to the public.\nJoin Kelle Kersten on Zoom for a guided meditation during your lunch to center yourself for the coming week!\nClick here to join the Zoom meeting.
URL:https://uufcc.com/event/meditation-monday/2026-05-25/
LOCATION:PA
CATEGORIES:Adult RE,Lifespan Religious Exploration
ATTACH;FMTTYPE=image/png:https://uufcc.com/wp-content/uploads/2023/10/UUFCC-Meditation-Mondays-540.png
END:VEVENT
END:VCALENDAR