BEGIN:VCALENDAR
VERSION:2.0
PRODID:-//UUFCC - ECPv6.15.17//NONSGML v1.0//EN
CALSCALE:GREGORIAN
METHOD:PUBLISH
X-ORIGINAL-URL:https://uufcc.com
X-WR-CALDESC:Events for UUFCC
REFRESH-INTERVAL;VALUE=DURATION:PT1H
X-Robots-Tag:noindex
X-PUBLISHED-TTL:PT1H
BEGIN:VTIMEZONE
TZID:America/New_York
BEGIN:DAYLIGHT
TZOFFSETFROM:-0500
TZOFFSETTO:-0400
TZNAME:EDT
DTSTART:20240310T070000
END:DAYLIGHT
BEGIN:STANDARD
TZOFFSETFROM:-0400
TZOFFSETTO:-0500
TZNAME:EST
DTSTART:20241103T060000
END:STANDARD
BEGIN:DAYLIGHT
TZOFFSETFROM:-0500
TZOFFSETTO:-0400
TZNAME:EDT
DTSTART:20250309T070000
END:DAYLIGHT
BEGIN:STANDARD
TZOFFSETFROM:-0400
TZOFFSETTO:-0500
TZNAME:EST
DTSTART:20251102T060000
END:STANDARD
BEGIN:DAYLIGHT
TZOFFSETFROM:-0500
TZOFFSETTO:-0400
TZNAME:EDT
DTSTART:20260308T070000
END:DAYLIGHT
BEGIN:STANDARD
TZOFFSETFROM:-0400
TZOFFSETTO:-0500
TZNAME:EST
DTSTART:20261101T060000
END:STANDARD
END:VTIMEZONE
BEGIN:VEVENT
DTSTART;TZID=America/New_York:20250105T100000
DTEND;TZID=America/New_York:20250105T110000
DTSTAMP:20260420T031158
CREATED:20241203T233407Z
LAST-MODIFIED:20241203T233407Z
UID:10007767-1736071200-1736074800@uufcc.com
SUMMARY:RE Middle School Class (6th-8th Grade)
DESCRIPTION:Soul Matters – In The Middle – The Practice of Invitation Session Three: Inviting Change (Welcoming Our New UU Values) – from September packet
URL:https://uufcc.com/event/re-middle-school-class-6th-8th-grade/
LOCATION:UUFCC – Room 6\, 780 Waupelani Drive\, State College\, PA\, 16801\, United States
CATEGORIES:Lifespan Religious Exploration,Middle School Youth,RE Kids & Youth
ATTACH;FMTTYPE=image/png:https://uufcc.com/wp-content/uploads/2024/12/Middle-School-Youth.png
END:VEVENT
BEGIN:VEVENT
DTSTART;TZID=America/New_York:20250105T111500
DTEND;TZID=America/New_York:20250105T123000
DTSTAMP:20260420T031158
CREATED:20241126T124255Z
LAST-MODIFIED:20241126T124255Z
UID:10007707-1736075700-1736080200@uufcc.com
SUMMARY:OWL for 4th-9th Grade
DESCRIPTION:Our Whole Lives (OWL)\, is a comprehensive sexuality education program that is a signature curriculum of the UUA and the United Church of Christ. It is a life-saving course that helps kids explore their values around their bodies\, identities\, relationships\, health\, and justice and equity. They engage in highly interactive activities and discussions which give them age-appropriate information and decision-making skills so that they can feel empowered to stand up for themselves and others and navigate relationships according to their values. \n4th-5th grade – Workshop 7: Reproduction and Staying Healthy \n7th-8th grade – Workshop 12&13: Healthy Relationships and Relationship Skills
URL:https://uufcc.com/event/owl-for-4th-9th-grade-2/
LOCATION:Unitarian Universalist Fellowship of Centre County\, 780 Waupelani Drive\, State College\, PA\, 16801\, United States
CATEGORIES:Lifespan Religious Exploration,Middle School Youth,RE Kids & Youth,Young Kids
ATTACH;FMTTYPE=image/png:https://uufcc.com/wp-content/uploads/2024/10/OWL-Info-Meeting.png
END:VEVENT
BEGIN:VEVENT
DTSTART;TZID=America/New_York:20250112T100000
DTEND;TZID=America/New_York:20250112T110000
DTSTAMP:20260420T031158
CREATED:20241203T233522Z
LAST-MODIFIED:20241203T233522Z
UID:10007768-1736676000-1736679600@uufcc.com
SUMMARY:RE Middle School Class (6th-8th Grade)
DESCRIPTION:Session Four: Inviting in Spiritual Practice (Chalice Lighting & Covenant Making) from September packet
URL:https://uufcc.com/event/re-middle-school-class-6th-8th-grade-2/
LOCATION:UUFCC – Gathering Space\, 780 Waupelani Drive\, State College\, PA\, 16801\, United States
CATEGORIES:Lifespan Religious Exploration,Middle School Youth,RE Kids & Youth
ATTACH;FMTTYPE=image/png:https://uufcc.com/wp-content/uploads/2024/12/Middle-School-Youth.png
END:VEVENT
BEGIN:VEVENT
DTSTART;TZID=America/New_York:20250112T111500
DTEND;TZID=America/New_York:20250112T123000
DTSTAMP:20260420T031158
CREATED:20241126T124454Z
LAST-MODIFIED:20241126T124454Z
UID:10007708-1736680500-1736685000@uufcc.com
SUMMARY:OWL for 4th-9th Grade
DESCRIPTION:Our Whole Lives (OWL)\, is a comprehensive sexuality education program that is a signature curriculum of the UUA and the United Church of Christ. It is a life-saving course that helps kids explore their values around their bodies\, identities\, relationships\, health\, and justice and equity. They engage in highly interactive activities and discussions which give them age-appropriate information and decision-making skills so that they can feel empowered to stand up for themselves and others and navigate relationships according to their values. \n4th-5th grade – Workshop 8: Decisions and Actions \n7th-8th grade – Workshop 16\, 17\, 18: Redefining Abstinence\, Lovemaking\, Consent Education
URL:https://uufcc.com/event/owl-for-4th-9th-grade-3/
LOCATION:Unitarian Universalist Fellowship of Centre County\, 780 Waupelani Drive\, State College\, PA\, 16801\, United States
CATEGORIES:Lifespan Religious Exploration,Middle School Youth,RE Kids & Youth,Young Kids
ATTACH;FMTTYPE=image/png:https://uufcc.com/wp-content/uploads/2024/10/OWL-Info-Meeting.png
END:VEVENT
BEGIN:VEVENT
DTSTART;TZID=America/New_York:20250125T170000
DTEND;TZID=America/New_York:20250125T190000
DTSTAMP:20260420T031158
CREATED:20241121T203717Z
LAST-MODIFIED:20241121T203717Z
UID:10007681-1737824400-1737831600@uufcc.com
SUMMARY:Middle School Hangout
DESCRIPTION:Middle School youth are invited for a monthly hangout to begin Nov 23! The youth will meet downstairs at the UU in the Gathering Space from 5-7 pm and play games\, eat pizza\, and just have fun. \n\nIf you are a parent who would like to volunteer one month to sign up and plan to stay at the Fellowship during the hangout so that there are two adults present and to bring pizza for that month\, please sign-up here: https://bit.ly/MSHangout24
URL:https://uufcc.com/event/middle-school-hangout/2025-01-25/
LOCATION:UUFCC – Gathering Space\, 780 Waupelani Drive\, State College\, PA\, 16801\, United States
CATEGORIES:Lifespan Religious Exploration,Middle School Youth,RE Kids & Youth
ATTACH;FMTTYPE=image/png:https://uufcc.com/wp-content/uploads/2024/11/MS-Youth-Hangout.png
ORGANIZER;CN="Unitarian Universalist Fellowship of Centre County":MAILTO:office@uufcc.com
END:VEVENT
BEGIN:VEVENT
DTSTART;TZID=America/New_York:20250126T100000
DTEND;TZID=America/New_York:20250126T110000
DTSTAMP:20260420T031158
CREATED:20241203T233637Z
LAST-MODIFIED:20241203T233637Z
UID:10007769-1737885600-1737889200@uufcc.com
SUMMARY:RE Middle School Class (6th-8th Grade)
DESCRIPTION:Session Five: Inviting People (Sharing our Faith) from September packet
URL:https://uufcc.com/event/re-middle-school-class-6th-8th-grade-3/
LOCATION:UUFCC – Gathering Space\, 780 Waupelani Drive\, State College\, PA\, 16801\, United States
CATEGORIES:Lifespan Religious Exploration,Middle School Youth,RE Kids & Youth
ATTACH;FMTTYPE=image/png:https://uufcc.com/wp-content/uploads/2024/12/Middle-School-Youth.png
END:VEVENT
BEGIN:VEVENT
DTSTART;TZID=America/New_York:20250126T111500
DTEND;TZID=America/New_York:20250126T123000
DTSTAMP:20260420T031158
CREATED:20241126T124644Z
LAST-MODIFIED:20241126T124644Z
UID:10007709-1737890100-1737894600@uufcc.com
SUMMARY:OWL for 4th-9th Grade
DESCRIPTION:Our Whole Lives (OWL)\, is a comprehensive sexuality education program that is a signature curriculum of the UUA and the United Church of Christ. It is a life-saving course that helps kids explore their values around their bodies\, identities\, relationships\, health\, and justice and equity. They engage in highly interactive activities and discussions which give them age-appropriate information and decision-making skills so that they can feel empowered to stand up for themselves and others and navigate relationships according to their values. \n4th-5th grade – Workshop 9&10: Consent and Peer Pressure\, Healthy Relationships and Celebrations \n7th-8th grade – Workshop 14&15: Sexuality\, Social Media and the Internet\, Bullying and Bystander Responsibilities
URL:https://uufcc.com/event/owl-for-4th-9th-grade-4/
LOCATION:Unitarian Universalist Fellowship of Centre County\, 780 Waupelani Drive\, State College\, PA\, 16801\, United States
CATEGORIES:Lifespan Religious Exploration,Middle School Youth,RE Kids & Youth,Young Kids
ATTACH;FMTTYPE=image/png:https://uufcc.com/wp-content/uploads/2024/10/OWL-Info-Meeting.png
END:VEVENT
END:VCALENDAR