BEGIN:VCALENDAR
VERSION:2.0
PRODID:-//UUFCC - ECPv6.15.17//NONSGML v1.0//EN
CALSCALE:GREGORIAN
METHOD:PUBLISH
X-ORIGINAL-URL:https://uufcc.com
X-WR-CALDESC:Events for UUFCC
REFRESH-INTERVAL;VALUE=DURATION:PT1H
X-Robots-Tag:noindex
X-PUBLISHED-TTL:PT1H
BEGIN:VTIMEZONE
TZID:America/New_York
BEGIN:DAYLIGHT
TZOFFSETFROM:-0500
TZOFFSETTO:-0400
TZNAME:EDT
DTSTART:20240310T070000
END:DAYLIGHT
BEGIN:STANDARD
TZOFFSETFROM:-0400
TZOFFSETTO:-0500
TZNAME:EST
DTSTART:20241103T060000
END:STANDARD
BEGIN:DAYLIGHT
TZOFFSETFROM:-0500
TZOFFSETTO:-0400
TZNAME:EDT
DTSTART:20250309T070000
END:DAYLIGHT
BEGIN:STANDARD
TZOFFSETFROM:-0400
TZOFFSETTO:-0500
TZNAME:EST
DTSTART:20251102T060000
END:STANDARD
BEGIN:DAYLIGHT
TZOFFSETFROM:-0500
TZOFFSETTO:-0400
TZNAME:EDT
DTSTART:20260308T070000
END:DAYLIGHT
BEGIN:STANDARD
TZOFFSETFROM:-0400
TZOFFSETTO:-0500
TZNAME:EST
DTSTART:20261101T060000
END:STANDARD
END:VTIMEZONE
BEGIN:VEVENT
DTSTART;TZID=America/New_York:20250302T100000
DTEND;TZID=America/New_York:20250302T110000
DTSTAMP:20260423T012422
CREATED:20241203T234440Z
LAST-MODIFIED:20241203T234440Z
UID:10007773-1740909600-1740913200@uufcc.com
SUMMARY:RE Middle School Class (6th-8th Grade)
DESCRIPTION:Session Four: Listening to Those We Disagree With (from October packet)
URL:https://uufcc.com/event/re-middle-school-class-6th-8th-grade-7/
LOCATION:UUFCC – Gathering Space\, 780 Waupelani Drive\, State College\, PA\, 16801\, United States
CATEGORIES:Lifespan Religious Exploration,Middle School Youth,RE Kids & Youth
ATTACH;FMTTYPE=image/png:https://uufcc.com/wp-content/uploads/2024/12/Middle-School-Youth.png
END:VEVENT
BEGIN:VEVENT
DTSTART;TZID=America/New_York:20250316T100000
DTEND;TZID=America/New_York:20250316T110000
DTSTAMP:20260423T012422
CREATED:20241203T234738Z
LAST-MODIFIED:20241203T234738Z
UID:10007774-1742119200-1742122800@uufcc.com
SUMMARY:RE Middle School Class (6th-8th Grade)
DESCRIPTION:Soul Matters – In the Middle – The Practice of Repair 4 Session One: Democracy (The Tool to Repair Not Having a Say) from November packet
URL:https://uufcc.com/event/re-middle-school-class-6th-8th-grade-8/
LOCATION:UUFCC – Gathering Space\, 780 Waupelani Drive\, State College\, PA\, 16801\, United States
CATEGORIES:Lifespan Religious Exploration,Middle School Youth,RE Kids & Youth
ATTACH;FMTTYPE=image/png:https://uufcc.com/wp-content/uploads/2024/12/Middle-School-Youth.png
END:VEVENT
BEGIN:VEVENT
DTSTART;TZID=America/New_York:20250323T100000
DTEND;TZID=America/New_York:20250323T110000
DTSTAMP:20260423T012422
CREATED:20241203T234908Z
LAST-MODIFIED:20241203T234908Z
UID:10007775-1742724000-1742727600@uufcc.com
SUMMARY:RE Middle School Class (6th-8th Grade)
DESCRIPTION:Session Three: Kindness (The Tool to Repair Meanness) from November packet
URL:https://uufcc.com/event/re-middle-school-class-6th-8th-grade-9/
LOCATION:UUFCC – Gathering Space\, 780 Waupelani Drive\, State College\, PA\, 16801\, United States
CATEGORIES:Lifespan Religious Exploration,Middle School Youth,RE Kids & Youth
ATTACH;FMTTYPE=image/png:https://uufcc.com/wp-content/uploads/2024/12/Middle-School-Youth.png
END:VEVENT
BEGIN:VEVENT
DTSTART;TZID=America/New_York:20250329T170000
DTEND;TZID=America/New_York:20250329T190000
DTSTAMP:20260423T012422
CREATED:20241121T203717Z
LAST-MODIFIED:20241121T203717Z
UID:10007683-1743267600-1743274800@uufcc.com
SUMMARY:Middle School Hangout
DESCRIPTION:Middle School youth are invited for a monthly hangout to begin Nov 23! The youth will meet downstairs at the UU in the Gathering Space from 5-7 pm and play games\, eat pizza\, and just have fun. \n\nIf you are a parent who would like to volunteer one month to sign up and plan to stay at the Fellowship during the hangout so that there are two adults present and to bring pizza for that month\, please sign-up here: https://bit.ly/MSHangout24
URL:https://uufcc.com/event/middle-school-hangout/2025-03-29/
LOCATION:UUFCC – Gathering Space\, 780 Waupelani Drive\, State College\, PA\, 16801\, United States
CATEGORIES:Lifespan Religious Exploration,Middle School Youth,RE Kids & Youth
ATTACH;FMTTYPE=image/png:https://uufcc.com/wp-content/uploads/2024/11/MS-Youth-Hangout.png
ORGANIZER;CN="Unitarian Universalist Fellowship of Centre County":MAILTO:office@uufcc.com
END:VEVENT
BEGIN:VEVENT
DTSTART;TZID=America/New_York:20250330T100000
DTEND;TZID=America/New_York:20250330T110000
DTSTAMP:20260423T012422
CREATED:20241203T235125Z
LAST-MODIFIED:20241203T235125Z
UID:10007776-1743328800-1743332400@uufcc.com
SUMMARY:RE Middle School Class (6th-8th Grade)
DESCRIPTION:Session Four: Honesty (The Tool to Repair Lies) from November packet
URL:https://uufcc.com/event/re-middle-school-class-6th-8th-grade-10/
LOCATION:UUFCC – Gathering Space\, 780 Waupelani Drive\, State College\, PA\, 16801\, United States
CATEGORIES:Lifespan Religious Exploration,Middle School Youth,RE Kids & Youth
ATTACH;FMTTYPE=image/png:https://uufcc.com/wp-content/uploads/2024/12/Middle-School-Youth.png
END:VEVENT
END:VCALENDAR