BEGIN:VCALENDAR
VERSION:2.0
PRODID:-//UUFCC - ECPv6.15.17//NONSGML v1.0//EN
CALSCALE:GREGORIAN
METHOD:PUBLISH
X-WR-CALNAME:UUFCC
X-ORIGINAL-URL:https://uufcc.com
X-WR-CALDESC:Events for UUFCC
REFRESH-INTERVAL;VALUE=DURATION:PT1H
X-Robots-Tag:noindex
X-PUBLISHED-TTL:PT1H
BEGIN:VTIMEZONE
TZID:America/New_York
BEGIN:DAYLIGHT
TZOFFSETFROM:-0500
TZOFFSETTO:-0400
TZNAME:EDT
DTSTART:20230312T070000
END:DAYLIGHT
BEGIN:STANDARD
TZOFFSETFROM:-0400
TZOFFSETTO:-0500
TZNAME:EST
DTSTART:20231105T060000
END:STANDARD
BEGIN:DAYLIGHT
TZOFFSETFROM:-0500
TZOFFSETTO:-0400
TZNAME:EDT
DTSTART:20240310T070000
END:DAYLIGHT
BEGIN:STANDARD
TZOFFSETFROM:-0400
TZOFFSETTO:-0500
TZNAME:EST
DTSTART:20241103T060000
END:STANDARD
BEGIN:DAYLIGHT
TZOFFSETFROM:-0500
TZOFFSETTO:-0400
TZNAME:EDT
DTSTART:20250309T070000
END:DAYLIGHT
BEGIN:STANDARD
TZOFFSETFROM:-0400
TZOFFSETTO:-0500
TZNAME:EST
DTSTART:20251102T060000
END:STANDARD
END:VTIMEZONE
BEGIN:VEVENT
DTSTART;TZID=America/New_York:20241208T111500
DTEND;TZID=America/New_York:20241208T123000
DTSTAMP:20260420T011432
CREATED:20241126T123504Z
LAST-MODIFIED:20241126T125502Z
UID:10007705-1733656500-1733661000@uufcc.com
SUMMARY:OWL for K-9th Grade
DESCRIPTION:Our Whole Lives (OWL)\, is a comprehensive sexuality education program that is a signature curriculum of the UUA and the United Church of Christ. It is a life-saving course that helps kids explore their values around their bodies\, identities\, relationships\, health\, and justice and equity. They engage in highly interactive activities and discussions which give them age-appropriate information and decision-making skills so that they can feel empowered to stand up for themselves and others and navigate relationships according to their values. \nK-3rd grade – Session 8: Celebrations \n4th-5th grade – Workshop 4: Changes in Puberty \n7th-9th grade – Workshop 5&6: Personal Concerns about Puberty\, Body Image \n 
URL:https://uufcc.com/event/owl-for-k-9th-grade-2/
LOCATION:Unitarian Universalist Fellowship of Centre County\, 780 Waupelani Drive\, State College\, PA\, 16801\, United States
CATEGORIES:Lifespan Religious Exploration,Middle School Youth,RE Kids & Youth,Young Kids
ATTACH;FMTTYPE=image/png:https://uufcc.com/wp-content/uploads/2024/10/OWL-Info-Meeting.png
END:VEVENT
END:VCALENDAR