BEGIN:VCALENDAR
VERSION:2.0
PRODID:-//UUFCC - ECPv6.15.17//NONSGML v1.0//EN
CALSCALE:GREGORIAN
METHOD:PUBLISH
X-ORIGINAL-URL:https://uufcc.com
X-WR-CALDESC:Events for UUFCC
REFRESH-INTERVAL;VALUE=DURATION:PT1H
X-Robots-Tag:noindex
X-PUBLISHED-TTL:PT1H
BEGIN:VTIMEZONE
TZID:America/New_York
BEGIN:DAYLIGHT
TZOFFSETFROM:-0500
TZOFFSETTO:-0400
TZNAME:EDT
DTSTART:20240310T070000
END:DAYLIGHT
BEGIN:STANDARD
TZOFFSETFROM:-0400
TZOFFSETTO:-0500
TZNAME:EST
DTSTART:20241103T060000
END:STANDARD
BEGIN:DAYLIGHT
TZOFFSETFROM:-0500
TZOFFSETTO:-0400
TZNAME:EDT
DTSTART:20250309T070000
END:DAYLIGHT
BEGIN:STANDARD
TZOFFSETFROM:-0400
TZOFFSETTO:-0500
TZNAME:EST
DTSTART:20251102T060000
END:STANDARD
BEGIN:DAYLIGHT
TZOFFSETFROM:-0500
TZOFFSETTO:-0400
TZNAME:EDT
DTSTART:20260308T070000
END:DAYLIGHT
BEGIN:STANDARD
TZOFFSETFROM:-0400
TZOFFSETTO:-0500
TZNAME:EST
DTSTART:20261101T060000
END:STANDARD
END:VTIMEZONE
BEGIN:VEVENT
DTSTART;TZID=America/New_York:20251123T093000
DTEND;TZID=America/New_York:20251123T120000
DTSTAMP:20260423T140039
CREATED:20250917T145425Z
LAST-MODIFIED:20250917T145427Z
UID:10003582-1763890200-1763899200@uufcc.com
SUMMARY:Child Care
DESCRIPTION:
URL:https://uufcc.com/event/child-care-2-2-2-2/2025-11-23/
LOCATION:UUFCC – Room C\, 780 Waupelani Drive\, State College\, PA\, 16801\, United States
CATEGORIES:Lifespan Religious Exploration,RE Kids & Youth,Young Kids
ORGANIZER;CN="Unitarian Universalist Fellowship of Centre County":MAILTO:office@uufcc.com
END:VEVENT
BEGIN:VEVENT
DTSTART;TZID=America/New_York:20251123T113000
DTEND;TZID=America/New_York:20251123T130000
DTSTAMP:20260423T140039
CREATED:20250927T163031Z
LAST-MODIFIED:20250927T163033Z
UID:10011753-1763897400-1763902800@uufcc.com
SUMMARY:Music & Play
DESCRIPTION:For elementary ages\, led by Karen Maynard.
URL:https://uufcc.com/event/music-play-2-2/2025-11-23/
LOCATION:UUFCC – Room B\, 780 Waupelani Drive\, State College\, PA\, 16801\, United States
CATEGORIES:Lifespan Religious Exploration,Young Kids
ORGANIZER;CN="Unitarian Universalist Fellowship of Centre County":MAILTO:office@uufcc.com
END:VEVENT
BEGIN:VEVENT
DTSTART;TZID=America/New_York:20251123T183000
DTEND;TZID=America/New_York:20251123T200000
DTSTAMP:20260423T140039
CREATED:20250813T150836Z
LAST-MODIFIED:20250813T150836Z
UID:10010446-1763922600-1763928000@uufcc.com
SUMMARY:OWL: 7th-9th Grade
DESCRIPTION:
URL:https://uufcc.com/event/owl-7th-9th-grade/2025-11-23/
LOCATION:Unitarian Universalist Fellowship of Centre County\, 780 Waupelani Drive\, State College\, PA\, 16801\, United States
CATEGORIES:Lifespan Religious Exploration,Middle School Youth,RE Kids & Youth
ORGANIZER;CN="Unitarian Universalist Fellowship of Centre County":MAILTO:office@uufcc.com
END:VEVENT
BEGIN:VEVENT
DTSTART;TZID=America/New_York:20251123T183000
DTEND;TZID=America/New_York:20251123T200000
DTSTAMP:20260423T140039
CREATED:20250813T150956Z
LAST-MODIFIED:20250813T150956Z
UID:10010460-1763922600-1763928000@uufcc.com
SUMMARY:OWL: 10th-12th Grade
DESCRIPTION:
URL:https://uufcc.com/event/owl-10th-12th-grade/2025-11-23/
LOCATION:Unitarian Universalist Fellowship of Centre County\, 780 Waupelani Drive\, State College\, PA\, 16801\, United States
CATEGORIES:High School Youth,Lifespan Religious Exploration,RE Kids & Youth
ORGANIZER;CN="Unitarian Universalist Fellowship of Centre County":MAILTO:office@uufcc.com
END:VEVENT
END:VCALENDAR