BEGIN:VCALENDAR
VERSION:2.0
PRODID:-//UUFCC - ECPv6.15.17//NONSGML v1.0//EN
CALSCALE:GREGORIAN
METHOD:PUBLISH
X-WR-CALNAME:UUFCC
X-ORIGINAL-URL:https://uufcc.com
X-WR-CALDESC:Events for UUFCC
REFRESH-INTERVAL;VALUE=DURATION:PT1H
X-Robots-Tag:noindex
X-PUBLISHED-TTL:PT1H
BEGIN:VTIMEZONE
TZID:America/New_York
BEGIN:DAYLIGHT
TZOFFSETFROM:-0500
TZOFFSETTO:-0400
TZNAME:EDT
DTSTART:20220313T070000
END:DAYLIGHT
BEGIN:STANDARD
TZOFFSETFROM:-0400
TZOFFSETTO:-0500
TZNAME:EST
DTSTART:20221106T060000
END:STANDARD
BEGIN:DAYLIGHT
TZOFFSETFROM:-0500
TZOFFSETTO:-0400
TZNAME:EDT
DTSTART:20230312T070000
END:DAYLIGHT
BEGIN:STANDARD
TZOFFSETFROM:-0400
TZOFFSETTO:-0500
TZNAME:EST
DTSTART:20231105T060000
END:STANDARD
BEGIN:DAYLIGHT
TZOFFSETFROM:-0500
TZOFFSETTO:-0400
TZNAME:EDT
DTSTART:20240310T070000
END:DAYLIGHT
BEGIN:STANDARD
TZOFFSETFROM:-0400
TZOFFSETTO:-0500
TZNAME:EST
DTSTART:20241103T060000
END:STANDARD
END:VTIMEZONE
BEGIN:VEVENT
DTSTART;TZID=America/New_York:20231029T093000
DTEND;TZID=America/New_York:20231029T130000
DTSTAMP:20260424T015338
CREATED:20231023T231923Z
LAST-MODIFIED:20231025T172051Z
UID:10001209-1698571800-1698584400@uufcc.com
SUMMARY:Child Care
DESCRIPTION:Our paid childcare staff have full background clearances and certificates in First Aid and Infant CPR. They are enthusiastic and compassionate and love interacting with our youngest friends! Ages 6 mo. to 4 years old (non-potty trained)
URL:https://uufcc.com/event/child-care/2023-10-29/
LOCATION:Unitarian Universalist Fellowship of Centre County\, 780 Waupelani Drive\, State College\, PA\, 16801\, United States
CATEGORIES:Lifespan Religious Exploration,RE Kids & Youth,Young Kids
ORGANIZER;CN="Unitarian Universalist Fellowship of Centre County":MAILTO:office@uufcc.com
END:VEVENT
BEGIN:VEVENT
DTSTART;TZID=America/New_York:20231029T100000
DTEND;TZID=America/New_York:20231029T111500
DTSTAMP:20260424T015338
CREATED:20231025T164021Z
LAST-MODIFIED:20231025T164324Z
UID:10000677-1698573600-1698578100@uufcc.com
SUMMARY:RE Kids & Youth
DESCRIPTION:Pre-K/K ~ Join us in the sanctuary for our Costume Parade\, then we’ll go downstairs and explore our differences!  \n1st-5th ~ Join us in the sanctuary for our Costume Parade\, then we’ll create pronoun stickers! \n\n 
URL:https://uufcc.com/event/re-kids-youth-2023-10-29/
LOCATION:Unitarian Universalist Fellowship of Centre County\, 780 Waupelani Drive\, State College\, PA\, 16801\, United States
CATEGORIES:Lifespan Religious Exploration,RE Kids & Youth,Young Kids
ATTACH;FMTTYPE=image/png:https://uufcc.com/wp-content/uploads/2023/10/RE-Elementary-Pre-K.png
ORGANIZER;CN="Unitarian Universalist Fellowship of Centre County":MAILTO:office@uufcc.com
END:VEVENT
BEGIN:VEVENT
DTSTART;TZID=America/New_York:20231029T100000
DTEND;TZID=America/New_York:20231029T111500
DTSTAMP:20260424T015338
CREATED:20231025T171935Z
LAST-MODIFIED:20231025T171952Z
UID:10000943-1698573600-1698578100@uufcc.com
SUMMARY:Middle School Youth
DESCRIPTION:Join us in the sanctuary for our Costume Parade! Then we have a special guest to talk with us about their LGBT+ experience!
URL:https://uufcc.com/event/middle-school-youth-2023-10-29/
LOCATION:UUFCC – Sanctuary\, 780 Waupelani Drive\, State College\, PA\, 16801\, United States
CATEGORIES:Lifespan Religious Exploration,Middle School Youth,RE Kids & Youth
ATTACH;FMTTYPE=image/png:https://uufcc.com/wp-content/uploads/2023/10/Middle-School-Youth.png
ORGANIZER;CN="Unitarian Universalist Fellowship of Centre County":MAILTO:office@uufcc.com
END:VEVENT
BEGIN:VEVENT
DTSTART;TZID=America/New_York:20231029T110000
DTEND;TZID=America/New_York:20231029T130000
DTSTAMP:20260424T015338
CREATED:20231021T022440Z
LAST-MODIFIED:20231022T162037Z
UID:10000536-1698577200-1698584400@uufcc.com
SUMMARY:UUFCC Fun Full Friends Face Fear Fest 2023
DESCRIPTION:In the spirit of the death-and darkness-themed holidays of the early Fall season\, all ages are invited to join in a light-hearted dissection and exploration of our human fears\, phobias and anxieties\, so that we are all better situated to keep the monsters in their place. \n\nFill in Your Phobia Philosophy; \nGreen Scream Away Fake Fears; \nFace the Future with Tarot Cards; \nDance Away Social Anxieties; \nExperience Freaky Foods and Creepy Critters; \nCalm with Creative Crafting; \nSurvey Sources of Scary Storytelling
URL:https://uufcc.com/event/uufcc-fun-full-friends-face-fear-fest-2023/
LOCATION:Unitarian Universalist Fellowship of Centre County\, 780 Waupelani Drive\, State College\, PA\, 16801\, United States
CATEGORIES:Event,Lifespan Religious Exploration
ATTACH;FMTTYPE=image/png:https://uufcc.com/wp-content/uploads/2023/10/UUFCC-Fun-Full-Friends-Face-Fear-Fest.png
END:VEVENT
BEGIN:VEVENT
DTSTART;TZID=America/New_York:20231030T123000
DTEND;TZID=America/New_York:20231030T130000
DTSTAMP:20260424T015338
CREATED:20231021T021336Z
LAST-MODIFIED:20250419T193312Z
UID:10000015-1698669000-1698670800@uufcc.com
SUMMARY:Meditation Monday
DESCRIPTION:Open to the public.\nJoin Kelle Kersten on Zoom for a guided meditation during your lunch to center yourself for the coming week!\nClick here to join the Zoom meeting.
URL:https://uufcc.com/event/meditation-monday/2023-10-30/
LOCATION:PA
CATEGORIES:Adult RE,Lifespan Religious Exploration
ATTACH;FMTTYPE=image/png:https://uufcc.com/wp-content/uploads/2023/10/UUFCC-Meditation-Mondays-540.png
END:VEVENT
BEGIN:VEVENT
DTSTART;TZID=America/New_York:20231102T143000
DTEND;TZID=America/New_York:20231102T160000
DTSTAMP:20260424T015338
CREATED:20231021T165342Z
LAST-MODIFIED:20231025T170121Z
UID:10000540-1698935400-1698940800@uufcc.com
SUMMARY:Memoirs Group
DESCRIPTION:Each attendee is free to share a memory with the group or just listen. Our purpose is to encourage people to record their memories to share with friends and family and to develop a sense of fellowship with one another. Any and all are welcome. Contact Mike Bourgo.
URL:https://uufcc.com/event/memoirs-group/2023-11-02/
LOCATION:UUFCC – Fellowship Hall\, 780 Waupelani Drive\, State College\, PA\, 16801\, United States
CATEGORIES:Adult RE,Event,Meeting
ATTACH;FMTTYPE=image/png:https://uufcc.com/wp-content/uploads/2023/10/Memoirs-Group.png
END:VEVENT
BEGIN:VEVENT
DTSTART;TZID=America/New_York:20231104T133000
DTEND;TZID=America/New_York:20231104T153000
DTSTAMP:20260424T015338
CREATED:20231021T164638Z
LAST-MODIFIED:20231025T165936Z
UID:10000537-1699104600-1699111800@uufcc.com
SUMMARY:UU Adventurers: Hike Up Mt Nittany
DESCRIPTION:Join us for a hike up Mt. Nittany to the Mike Lynch Overlook and we’ll share a story about Princess Nittany! Sign-up here
URL:https://uufcc.com/event/uu-adventurers-hike-up-mt-nittany/
LOCATION:Mt Nittany Trailhead\, 500 Mt Nittany Rd\, Lemont\, PA\, 16851\, United States
CATEGORIES:Intergenerational RE,Lifespan Religious Exploration
ORGANIZER;CN="Unitarian Universalist Fellowship of Centre County":MAILTO:office@uufcc.com
END:VEVENT
BEGIN:VEVENT
DTSTART;TZID=America/New_York:20231104T180000
DTEND;TZID=America/New_York:20231104T200000
DTSTAMP:20260424T015338
CREATED:20231023T233923Z
LAST-MODIFIED:20231025T165622Z
UID:10001538-1699120800-1699128000@uufcc.com
SUMMARY:The Oil Machine: Screening & Conversation with the Director
DESCRIPTION:Join us in teaming up with Interfaith Power and Light to watch this insightful film followed by a conversation with the director (who will join via Zoom). The film explores our economic\, historical and emotional entanglement with oil by looking at the conflicting imperatives around North Sea oil and considers how this machine can be tamed\, dismantled\, or repurposed.
URL:https://uufcc.com/event/the-oil-machine-screening-conversation-with-the-director/
LOCATION:UUFCC – Sanctuary\, 780 Waupelani Drive\, State College\, PA\, 16801\, United States
CATEGORIES:Event,Intergenerational RE,Lifespan Religious Exploration
ATTACH;FMTTYPE=image/png:https://uufcc.com/wp-content/uploads/2023/10/The-Oil-Machine.png
ORGANIZER;CN="Unitarian Universalist Fellowship of Centre County":MAILTO:office@uufcc.com
END:VEVENT
END:VCALENDAR