BEGIN:VCALENDAR
VERSION:2.0
PRODID:-//UUFCC - ECPv6.15.17//NONSGML v1.0//EN
CALSCALE:GREGORIAN
METHOD:PUBLISH
X-ORIGINAL-URL:https://uufcc.com
X-WR-CALDESC:Events for UUFCC
REFRESH-INTERVAL;VALUE=DURATION:PT1H
X-Robots-Tag:noindex
X-PUBLISHED-TTL:PT1H
BEGIN:VTIMEZONE
TZID:America/New_York
BEGIN:DAYLIGHT
TZOFFSETFROM:-0500
TZOFFSETTO:-0400
TZNAME:EDT
DTSTART:20220313T070000
END:DAYLIGHT
BEGIN:STANDARD
TZOFFSETFROM:-0400
TZOFFSETTO:-0500
TZNAME:EST
DTSTART:20221106T060000
END:STANDARD
BEGIN:DAYLIGHT
TZOFFSETFROM:-0500
TZOFFSETTO:-0400
TZNAME:EDT
DTSTART:20230312T070000
END:DAYLIGHT
BEGIN:STANDARD
TZOFFSETFROM:-0400
TZOFFSETTO:-0500
TZNAME:EST
DTSTART:20231105T060000
END:STANDARD
BEGIN:DAYLIGHT
TZOFFSETFROM:-0500
TZOFFSETTO:-0400
TZNAME:EDT
DTSTART:20240310T070000
END:DAYLIGHT
BEGIN:STANDARD
TZOFFSETFROM:-0400
TZOFFSETTO:-0500
TZNAME:EST
DTSTART:20241103T060000
END:STANDARD
END:VTIMEZONE
BEGIN:VEVENT
DTSTART;TZID=America/New_York:20231105T093000
DTEND;TZID=America/New_York:20231105T130000
DTSTAMP:20260425T100847
CREATED:20231023T231923Z
LAST-MODIFIED:20231025T172051Z
UID:10001210-1699176600-1699189200@uufcc.com
SUMMARY:Child Care
DESCRIPTION:Our paid childcare staff have full background clearances and certificates in First Aid and Infant CPR. They are enthusiastic and compassionate and love interacting with our youngest friends! Ages 6 mo. to 4 years old (non-potty trained)
URL:https://uufcc.com/event/child-care/2023-11-05/
LOCATION:Unitarian Universalist Fellowship of Centre County\, 780 Waupelani Drive\, State College\, PA\, 16801\, United States
CATEGORIES:Lifespan Religious Exploration,RE Kids & Youth,Young Kids
ORGANIZER;CN="Unitarian Universalist Fellowship of Centre County":MAILTO:office@uufcc.com
END:VEVENT
BEGIN:VEVENT
DTSTART;TZID=America/New_York:20231105T100000
DTEND;TZID=America/New_York:20231105T111500
DTSTAMP:20260425T100847
CREATED:20231025T172012Z
LAST-MODIFIED:20231025T172013Z
UID:10000944-1699178400-1699182900@uufcc.com
SUMMARY:Middle School Youth
DESCRIPTION:Join our Middle School Youth program! \nThis year our Middle School youth will engage in a social justice and anti-racism program exploring various topics and working to take action. Part of the year will be spent in a discussion group on the book\, Stamped from the Beginning by Ibram X. Kendi. Films and other activities will enhance learning.
URL:https://uufcc.com/event/middle-school-youth-2/2023-11-05/
LOCATION:UUFCC – Room 6\, 780 Waupelani Drive\, State College\, PA\, 16801\, United States
CATEGORIES:Lifespan Religious Exploration,Middle School Youth,RE Kids & Youth
ATTACH;FMTTYPE=image/png:https://uufcc.com/wp-content/uploads/2023/10/Middle-School-Youth.png
ORGANIZER;CN="Unitarian Universalist Fellowship of Centre County":MAILTO:office@uufcc.com
END:VEVENT
BEGIN:VEVENT
DTSTART;TZID=America/New_York:20231105T100000
DTEND;TZID=America/New_York:20231105T111500
DTSTAMP:20260425T100847
CREATED:20231101T135655Z
LAST-MODIFIED:20231101T135656Z
UID:10000678-1699178400-1699182900@uufcc.com
SUMMARY:RE Kids & Youth
DESCRIPTION:Each week our Pre-K and Kindergarten friends will explore their world in light of our UU values with our wonderful teachers! \n\nPre-K and Kindergarten will meet downstairs in Room D at 10 am with Sue and Rocky. Please sign in and sign out downstairs in Room D. This Sunday we will explore how we can help! \nFamily Chapel (for 1st-5th grade kids ~ Parents are Welcome!) Please sign your kids in downstairs in the Gathering Space for Family Chapel. Parents are invited to stay! We will focus on Indigenous People and the Doctrine Discovery!
URL:https://uufcc.com/event/re-kids-youth-2-2/
LOCATION:Unitarian Universalist Fellowship of Centre County\, 780 Waupelani Drive\, State College\, PA\, 16801\, United States
CATEGORIES:Lifespan Religious Exploration,RE Kids & Youth,Young Kids
ATTACH;FMTTYPE=image/png:https://uufcc.com/wp-content/uploads/2023/10/RE-Elementary-Pre-K.png
ORGANIZER;CN="Unitarian Universalist Fellowship of Centre County":MAILTO:office@uufcc.com
END:VEVENT
BEGIN:VEVENT
DTSTART;TZID=America/New_York:20231106T123000
DTEND;TZID=America/New_York:20231106T130000
DTSTAMP:20260425T100847
CREATED:20231021T021336Z
LAST-MODIFIED:20250419T193312Z
UID:10000016-1699273800-1699275600@uufcc.com
SUMMARY:Meditation Monday
DESCRIPTION:Open to the public.\nJoin Kelle Kersten on Zoom for a guided meditation during your lunch to center yourself for the coming week!\nClick here to join the Zoom meeting.
URL:https://uufcc.com/event/meditation-monday/2023-11-06/
LOCATION:PA
CATEGORIES:Adult RE,Lifespan Religious Exploration
ATTACH;FMTTYPE=image/png:https://uufcc.com/wp-content/uploads/2023/10/UUFCC-Meditation-Mondays-540.png
END:VEVENT
BEGIN:VEVENT
DTSTART;TZID=America/New_York:20231111T170000
DTEND;TZID=America/New_York:20231111T200000
DTSTAMP:20260425T100847
CREATED:20231021T165709Z
LAST-MODIFIED:20231024T145246Z
UID:10000659-1699722000-1699732800@uufcc.com
SUMMARY:UU 101: Pathway to Membership
DESCRIPTION:The 3-hour session of UU101 is required of newcomers desiring membership. If space is available\, it is also open to any current members/friends who wish to retrace their spiritual journey to the UUFCC\, to learn about the Fellowship\, and to explore the benefits and responsibilities of membership. \nThe session is concurrent with “Parents’ Night Out\,” so childcare is available\, although you must arrange for this yourself. Supper is provided. \nParticipants have found this rewarding and enlightening. If you are considering becoming a member\, or even if you just want to learn more\, you are welcome. \nInterested? Email the session leader\, Laura Kemper at lpk614@gmail.com or speak with a membership greeter on Sunday. You must enroll before the Midyear Meeting on Sunday\, Nov 5. We need numbers to prepare materials and food.
URL:https://uufcc.com/event/uu-101-pathway-to-membership/
LOCATION:UUFCC – Room 6\, 780 Waupelani Drive\, State College\, PA\, 16801\, United States
CATEGORIES:Event,Lifespan Religious Exploration
ATTACH;FMTTYPE=image/png:https://uufcc.com/wp-content/uploads/2023/10/uu-101.png
ORGANIZER;CN="Unitarian Universalist Fellowship of Centre County":MAILTO:office@uufcc.com
END:VEVENT
BEGIN:VEVENT
DTSTART;TZID=America/New_York:20231111T170000
DTEND;TZID=America/New_York:20231111T200000
DTSTAMP:20260425T100847
CREATED:20231025T170401Z
LAST-MODIFIED:20231025T181358Z
UID:10000660-1699722000-1699732800@uufcc.com
SUMMARY:Parents' Night Out
DESCRIPTION:Parents\, drop your kids off with our childcare providers for an evening of fun games\, dinner\, and a movie while you have some time for you! Sign up each month. Open to the public. \nSign up for November 11.
URL:https://uufcc.com/event/parents-night-out-11-11-2023/
LOCATION:UUFCC – Fellowship Hall\, 780 Waupelani Drive\, State College\, PA\, 16801\, United States
CATEGORIES:Lifespan Religious Exploration,RE Kids & Youth,Young Kids
ATTACH;FMTTYPE=image/png:https://uufcc.com/wp-content/uploads/2023/10/Parents-Night-Out.png
ORGANIZER;CN="Unitarian Universalist Fellowship of Centre County":MAILTO:office@uufcc.com
END:VEVENT
END:VCALENDAR