BEGIN:VCALENDAR
VERSION:2.0
PRODID:-//UUFCC - ECPv6.15.17//NONSGML v1.0//EN
CALSCALE:GREGORIAN
METHOD:PUBLISH
X-WR-CALNAME:UUFCC
X-ORIGINAL-URL:https://uufcc.com
X-WR-CALDESC:Events for UUFCC
REFRESH-INTERVAL;VALUE=DURATION:PT1H
X-Robots-Tag:noindex
X-PUBLISHED-TTL:PT1H
BEGIN:VTIMEZONE
TZID:America/New_York
BEGIN:DAYLIGHT
TZOFFSETFROM:-0500
TZOFFSETTO:-0400
TZNAME:EDT
DTSTART:20220313T070000
END:DAYLIGHT
BEGIN:STANDARD
TZOFFSETFROM:-0400
TZOFFSETTO:-0500
TZNAME:EST
DTSTART:20221106T060000
END:STANDARD
BEGIN:DAYLIGHT
TZOFFSETFROM:-0500
TZOFFSETTO:-0400
TZNAME:EDT
DTSTART:20230312T070000
END:DAYLIGHT
BEGIN:STANDARD
TZOFFSETFROM:-0400
TZOFFSETTO:-0500
TZNAME:EST
DTSTART:20231105T060000
END:STANDARD
BEGIN:DAYLIGHT
TZOFFSETFROM:-0500
TZOFFSETTO:-0400
TZNAME:EDT
DTSTART:20240310T070000
END:DAYLIGHT
BEGIN:STANDARD
TZOFFSETFROM:-0400
TZOFFSETTO:-0500
TZNAME:EST
DTSTART:20241103T060000
END:STANDARD
END:VTIMEZONE
BEGIN:VEVENT
DTSTART;TZID=America/New_York:20231217T093000
DTEND;TZID=America/New_York:20231217T130000
DTSTAMP:20260422T052248
CREATED:20231128T173327Z
LAST-MODIFIED:20231128T173552Z
UID:10003481-1702805400-1702818000@uufcc.com
SUMMARY:Child Care
DESCRIPTION:
URL:https://uufcc.com/event/child-care-2/2023-12-17/
LOCATION:UUFCC – Room C\, 780 Waupelani Drive\, State College\, PA\, 16801\, United States
CATEGORIES:Lifespan Religious Exploration,RE Kids & Youth,Young Kids
ORGANIZER;CN="Unitarian Universalist Fellowship of Centre County":MAILTO:office@uufcc.com
END:VEVENT
BEGIN:VEVENT
DTSTART;TZID=America/New_York:20231218T123000
DTEND;TZID=America/New_York:20231218T130000
DTSTAMP:20260422T052248
CREATED:20231021T021336Z
LAST-MODIFIED:20250419T193312Z
UID:10000022-1702902600-1702904400@uufcc.com
SUMMARY:Meditation Monday
DESCRIPTION:Open to the public.\nJoin Kelle Kersten on Zoom for a guided meditation during your lunch to center yourself for the coming week!\nClick here to join the Zoom meeting.
URL:https://uufcc.com/event/meditation-monday/2023-12-18/
CATEGORIES:Adult RE,Lifespan Religious Exploration
ATTACH;FMTTYPE=image/png:https://uufcc.com/wp-content/uploads/2023/10/UUFCC-Meditation-Mondays-540.png
END:VEVENT
BEGIN:VEVENT
DTSTART;TZID=America/New_York:20231221T143000
DTEND;TZID=America/New_York:20231221T160000
DTSTAMP:20260422T052248
CREATED:20231213T185939Z
LAST-MODIFIED:20231213T185939Z
UID:10003943-1703169000-1703174400@uufcc.com
SUMMARY:Memoirs Group
DESCRIPTION:
URL:https://uufcc.com/event/memoirs-group-2/2023-12-21/
LOCATION:Unitarian Universalist Fellowship of Centre County\, 780 Waupelani Drive\, State College\, PA\, 16801\, United States
CATEGORIES:Adult RE,Lifespan Religious Exploration
END:VEVENT
BEGIN:VEVENT
DTSTART;TZID=America/New_York:20231221T190000
DTEND;TZID=America/New_York:20231221T200000
DTSTAMP:20260422T052248
CREATED:20231023T234740Z
LAST-MODIFIED:20231101T163238Z
UID:10004804-1703185200-1703188800@uufcc.com
SUMMARY:Wheel of the Year
DESCRIPTION:
URL:https://uufcc.com/event/wheel-of-the-year/2023-12-21/
LOCATION:UUFCC – Fellowship Hall\, 780 Waupelani Drive\, State College\, PA\, 16801\, United States
CATEGORIES:Event,Interfaith Ritual,Intergenerational RE,Lifespan Religious Exploration,Worship Service
ATTACH;FMTTYPE=image/png:https://uufcc.com/wp-content/uploads/2023/09/Wheel-of-the-Year.png
ORGANIZER;CN="Unitarian Universalist Fellowship of Centre County":MAILTO:office@uufcc.com
END:VEVENT
END:VCALENDAR