BEGIN:VCALENDAR
VERSION:2.0
PRODID:-//UUFCC - ECPv6.15.17//NONSGML v1.0//EN
CALSCALE:GREGORIAN
METHOD:PUBLISH
X-WR-CALNAME:UUFCC
X-ORIGINAL-URL:https://uufcc.com
X-WR-CALDESC:Events for UUFCC
REFRESH-INTERVAL;VALUE=DURATION:PT1H
X-Robots-Tag:noindex
X-PUBLISHED-TTL:PT1H
BEGIN:VTIMEZONE
TZID:America/New_York
BEGIN:DAYLIGHT
TZOFFSETFROM:-0500
TZOFFSETTO:-0400
TZNAME:EDT
DTSTART:20230312T070000
END:DAYLIGHT
BEGIN:STANDARD
TZOFFSETFROM:-0400
TZOFFSETTO:-0500
TZNAME:EST
DTSTART:20231105T060000
END:STANDARD
BEGIN:DAYLIGHT
TZOFFSETFROM:-0500
TZOFFSETTO:-0400
TZNAME:EDT
DTSTART:20240310T070000
END:DAYLIGHT
BEGIN:STANDARD
TZOFFSETFROM:-0400
TZOFFSETTO:-0500
TZNAME:EST
DTSTART:20241103T060000
END:STANDARD
BEGIN:DAYLIGHT
TZOFFSETFROM:-0500
TZOFFSETTO:-0400
TZNAME:EDT
DTSTART:20250309T070000
END:DAYLIGHT
BEGIN:STANDARD
TZOFFSETFROM:-0400
TZOFFSETTO:-0500
TZNAME:EST
DTSTART:20251102T060000
END:STANDARD
END:VTIMEZONE
BEGIN:VEVENT
DTSTART;TZID=America/New_York:20240204T093000
DTEND;TZID=America/New_York:20240204T130000
DTSTAMP:20260421T221140
CREATED:20231128T173327Z
LAST-MODIFIED:20231128T173552Z
UID:10003488-1707039000-1707051600@uufcc.com
SUMMARY:Child Care
DESCRIPTION:
URL:https://uufcc.com/event/child-care-2/2024-02-04/
LOCATION:UUFCC – Room C\, 780 Waupelani Drive\, State College\, PA\, 16801\, United States
CATEGORIES:Lifespan Religious Exploration,RE Kids & Youth,Young Kids
ORGANIZER;CN="Unitarian Universalist Fellowship of Centre County":MAILTO:office@uufcc.com
END:VEVENT
BEGIN:VEVENT
DTSTART;TZID=America/New_York:20240204T100000
DTEND;TZID=America/New_York:20240204T110000
DTSTAMP:20260421T221140
CREATED:20231128T192650Z
LAST-MODIFIED:20240129T223440Z
UID:10003742-1707040800-1707044400@uufcc.com
SUMMARY:Family Chapel - Black History Month
DESCRIPTION:Parents with elementary-aged kids are invited to join our Family Chapel each month! This is an interactive mini “service” which Ashley leads on our monthly congregational theme with a social justice focus. Come and learn and worship together in a fun\, kid-friendly space.
URL:https://uufcc.com/event/family-chapel/
LOCATION:Unitarian Universalist Fellowship of Centre County\, 780 Waupelani Drive\, State College\, PA\, 16801\, United States
CATEGORIES:Lifespan Religious Exploration,RE Kids & Youth,Young Kids
ATTACH;FMTTYPE=image/png:https://uufcc.com/wp-content/uploads/2023/11/Family-Chapel-1-1.png
ORGANIZER;CN="Unitarian Universalist Fellowship of Centre County":MAILTO:office@uufcc.com
END:VEVENT
BEGIN:VEVENT
DTSTART;TZID=America/New_York:20240204T100000
DTEND;TZID=America/New_York:20240204T111500
DTSTAMP:20260421T221140
CREATED:20240124T125554Z
LAST-MODIFIED:20240129T164649Z
UID:10004149-1707040800-1707045300@uufcc.com
SUMMARY:RE Pre-K/Kindergarten Kids - I Can Pretend
DESCRIPTION:I Can Pretend ~ There are many ways we can pretend! Join us as we explore this fun topic.\n \nThis week our Pre-K/K friends will begin in Room D downstairs. Sign-in will be in Room D.
URL:https://uufcc.com/event/re-pre-k-kindergarten-kids-4/
LOCATION:UUFCC – Gathering Space and Room D\, 780 Waupelani Drive\, State College\, PA\, 16801\, United States
CATEGORIES:Lifespan Religious Exploration,Young Kids
ATTACH;FMTTYPE=image/png:https://uufcc.com/wp-content/uploads/2024/01/RE-Pre-KK-Kids.png
END:VEVENT
BEGIN:VEVENT
DTSTART;TZID=America/New_York:20240204T100000
DTEND;TZID=America/New_York:20240204T111500
DTSTAMP:20260421T221140
CREATED:20240129T155653Z
LAST-MODIFIED:20240129T155653Z
UID:10004899-1707040800-1707045300@uufcc.com
SUMMARY:Middle School RE - Stamped from the Beginning Part II
DESCRIPTION:Join our Middle School class to watch the Netflix documentary\, Stamped from the Beginning\, based on the book by Ibram X. Kendi. This will be our second viewing and discussion on this topic. This week’s topic will center on: \nAbolitionist\nMyth of the White Savior\n\nJanet Irons from the Racial Justice Committee will speak on the committee’s work within UUFCC and State College and will help facilitate discussion after the film viewing.
URL:https://uufcc.com/event/middle-school-re-stamped-from-the-beginning-part-ii/
LOCATION:Unitarian Universalist Fellowship of Centre County\, 780 Waupelani Drive\, State College\, PA\, 16801\, United States
CATEGORIES:Lifespan Religious Exploration,Middle School Youth
ATTACH;FMTTYPE=image/png:https://uufcc.com/wp-content/uploads/2023/10/Middle-School-Youth.png
END:VEVENT
BEGIN:VEVENT
DTSTART;TZID=America/New_York:20240204T100000
DTEND;TZID=America/New_York:20240204T111500
DTSTAMP:20260421T221140
CREATED:20240129T164718Z
LAST-MODIFIED:20240129T164938Z
UID:10004812-1707040800-1707045300@uufcc.com
SUMMARY:RE 1st - 5th Grade Kids - Family Chapel
DESCRIPTION:Join us today for Family Chapel! \nWe will start this week downstairs in the Gathering Space at 10 am. \n 
URL:https://uufcc.com/event/re-1st-5th-grade-kids-4/
LOCATION:Unitarian Universalist Fellowship of Centre County\, 780 Waupelani Drive\, State College\, PA\, 16801\, United States
CATEGORIES:Lifespan Religious Exploration,RE Kids & Youth,Young Kids
ATTACH;FMTTYPE=image/png:https://uufcc.com/wp-content/uploads/2024/01/RE-Kids.png
END:VEVENT
BEGIN:VEVENT
DTSTART;TZID=America/New_York:20240204T113000
DTEND;TZID=America/New_York:20240204T130000
DTSTAMP:20260421T221140
CREATED:20240117T160155Z
LAST-MODIFIED:20240117T160155Z
UID:10004891-1707046200-1707051600@uufcc.com
SUMMARY:Resilience and Acceptance in the Face of Collapse
DESCRIPTION:This course\, which takes a sobering introduction to societal collapse\, then guides you through a supportive pathway to greater resilience and acceptance in the face of collapse\, will meet through February 4 with leaders Kelle Kersten and Bob Flatley.
URL:https://uufcc.com/event/resilience/2024-02-04/
LOCATION:Unitarian Universalist Fellowship of Centre County\, 780 Waupelani Drive\, State College\, PA\, 16801\, United States
CATEGORIES:Adult RE,Lifespan Religious Exploration
ATTACH;FMTTYPE=image/png:https://uufcc.com/wp-content/uploads/2024/01/Resilience-and-Acceptance-in-the-Face-of-Collapse.png
END:VEVENT
BEGIN:VEVENT
DTSTART;TZID=America/New_York:20240204T113000
DTEND;TZID=America/New_York:20240204T130000
DTSTAMP:20260421T221140
CREATED:20240131T015809Z
LAST-MODIFIED:20240131T015809Z
UID:10005176-1707046200-1707051600@uufcc.com
SUMMARY:Microaggressions Workshop
DESCRIPTION:What does it mean to commit a “Microaggression”? Last October\, we invited Dr. Seria Chatters to give our Board\, Racial Justice Committee\, and RE teachers a workshop on microaggressions which was deeply insightful and spurred much discussion. Rev. Tracy and Ashley Hamlin are expanding this training and discussion to anyone in our UUFCC congregation with a second workshop based on Seria’s material. After this workshop\, we will invite Dr. Chatters to come again and follow up on this work. Our goal is to continue deepening our inclusive and welcoming culture at UUFCC. \nPlease let Ashley Hamlin know if you will be able to attend. Thank you!
URL:https://uufcc.com/event/microaggressions-workshop/
LOCATION:UUFCC – Room 6\, 780 Waupelani Drive\, State College\, PA\, 16801\, United States
CATEGORIES:Adult RE,Lifespan Religious Exploration
ATTACH;FMTTYPE=image/png:https://uufcc.com/wp-content/uploads/2024/01/Microaggressions.png
ORGANIZER;CN="Unitarian Universalist Fellowship of Centre County":MAILTO:office@uufcc.com
END:VEVENT
BEGIN:VEVENT
DTSTART;TZID=America/New_York:20240205T123000
DTEND;TZID=America/New_York:20240205T130000
DTSTAMP:20260421T221140
CREATED:20231021T021336Z
LAST-MODIFIED:20250419T193312Z
UID:10000029-1707136200-1707138000@uufcc.com
SUMMARY:Meditation Monday
DESCRIPTION:Open to the public.\nJoin Kelle Kersten on Zoom for a guided meditation during your lunch to center yourself for the coming week!\nClick here to join the Zoom meeting.
URL:https://uufcc.com/event/meditation-monday/2024-02-05/
CATEGORIES:Adult RE,Lifespan Religious Exploration
ATTACH;FMTTYPE=image/png:https://uufcc.com/wp-content/uploads/2023/10/UUFCC-Meditation-Mondays-540.png
END:VEVENT
END:VCALENDAR