BEGIN:VCALENDAR
VERSION:2.0
PRODID:-//UUFCC - ECPv6.15.17//NONSGML v1.0//EN
CALSCALE:GREGORIAN
METHOD:PUBLISH
X-WR-CALNAME:UUFCC
X-ORIGINAL-URL:https://uufcc.com
X-WR-CALDESC:Events for UUFCC
REFRESH-INTERVAL;VALUE=DURATION:PT1H
X-Robots-Tag:noindex
X-PUBLISHED-TTL:PT1H
BEGIN:VTIMEZONE
TZID:America/New_York
BEGIN:DAYLIGHT
TZOFFSETFROM:-0500
TZOFFSETTO:-0400
TZNAME:EDT
DTSTART:20230312T070000
END:DAYLIGHT
BEGIN:STANDARD
TZOFFSETFROM:-0400
TZOFFSETTO:-0500
TZNAME:EST
DTSTART:20231105T060000
END:STANDARD
BEGIN:DAYLIGHT
TZOFFSETFROM:-0500
TZOFFSETTO:-0400
TZNAME:EDT
DTSTART:20240310T070000
END:DAYLIGHT
BEGIN:STANDARD
TZOFFSETFROM:-0400
TZOFFSETTO:-0500
TZNAME:EST
DTSTART:20241103T060000
END:STANDARD
BEGIN:DAYLIGHT
TZOFFSETFROM:-0500
TZOFFSETTO:-0400
TZNAME:EDT
DTSTART:20250309T070000
END:DAYLIGHT
BEGIN:STANDARD
TZOFFSETFROM:-0400
TZOFFSETTO:-0500
TZNAME:EST
DTSTART:20251102T060000
END:STANDARD
END:VTIMEZONE
BEGIN:VEVENT
DTSTART;TZID=America/New_York:20240224T173000
DTEND;TZID=America/New_York:20240225T130000
DTSTAMP:20260421T195700
CREATED:20240216T143920Z
LAST-MODIFIED:20240216T170056Z
UID:10005195-1708795800-1708866000@uufcc.com
SUMMARY:IMAGINE & DREAM Lantern Festival 2024 (I&D)
DESCRIPTION:This event spans Saturday and Sunday (Feb 24 – 25). \nWebguide at: UUFCC.com/imagine-dream\nGallery of event flyers at: tinyurl.com/LFestFlyers24 \nAll-ages Fellowship and Community events to celebrate and grow our abilities to imagine\, dream\, and create positive change. \n\nIMAGINE like John Lennon\,\nDREAM like Martin Luther King Jr.\nRekindle your dreams! \n\nSaturday Activities\n\nImagine with Beans Potluck Dinner\, 5:30-6:30 pm\nImagine with Drums Drumming Circle\, 6:45-8:15 pm\nLantern-Making Activities & Religious Exploration UUseum Stations\, 6:30-8:15 pm\nCommunity-Built Lantern Garden\, 6:30-8:40 pm\nLantern Walk\, 8:15-8:40 pm\nYouth Group DIY-Music Meetup\, 8:45-10:00 pm\n\nSunday Activities\n\nMultigen Sunday Service: “Closer to be Free to be LGBT+”\nLantern-Making Activities for Children\, 10:15-11:00 am\nCoffee Hour Discussions and UUseum Stations\, 11:00 am-12:00 noon\nLifespan RE Hour: Becoming an Ally\, 11:30 am-1:00 pm
URL:https://uufcc.com/event/imagine-dream-lantern-festival-2024/
LOCATION:Unitarian Universalist Fellowship of Centre County\, 780 Waupelani Drive\, State College\, PA\, 16801\, United States
CATEGORIES:Event,Intergenerational RE,Lifespan Religious Exploration,Sunday Worship Service,Worship Service
ATTACH;FMTTYPE=image/jpeg:https://uufcc.com/wp-content/uploads/2024/02/Lantern-Fest-cover-image.jpg
ORGANIZER;CN="Unitarian Universalist Fellowship of Centre County":MAILTO:office@uufcc.com
END:VEVENT
BEGIN:VEVENT
DTSTART;TZID=America/New_York:20240225T093000
DTEND;TZID=America/New_York:20240225T130000
DTSTAMP:20260421T195700
CREATED:20231128T173327Z
LAST-MODIFIED:20231128T173552Z
UID:10003491-1708853400-1708866000@uufcc.com
SUMMARY:Child Care
DESCRIPTION:
URL:https://uufcc.com/event/child-care-2/2024-02-25/
LOCATION:UUFCC – Room C\, 780 Waupelani Drive\, State College\, PA\, 16801\, United States
CATEGORIES:Lifespan Religious Exploration,RE Kids & Youth,Young Kids
ORGANIZER;CN="Unitarian Universalist Fellowship of Centre County":MAILTO:office@uufcc.com
END:VEVENT
BEGIN:VEVENT
DTSTART;TZID=America/New_York:20240225T100000
DTEND;TZID=America/New_York:20240225T110000
DTSTAMP:20260421T195700
CREATED:20240129T170128Z
LAST-MODIFIED:20240129T170129Z
UID:10004815-1708855200-1708858800@uufcc.com
SUMMARY:RE 1st - 5th Grade Kids - Multi-generational Service
DESCRIPTION:This week our Pre-K/K friends are invited to our Sunday Multi-generational Imagine and Dream service at 10 am in the Sanctuary. We’ll leave to create lanterns during the service after the Wisdom Lesson.
URL:https://uufcc.com/event/re-1st-5th-grade-kids-7/
LOCATION:Unitarian Universalist Fellowship of Centre County\, 780 Waupelani Drive\, State College\, PA\, 16801\, United States
CATEGORIES:Lifespan Religious Exploration,RE Kids & Youth,Young Kids
ATTACH;FMTTYPE=image/png:https://uufcc.com/wp-content/uploads/2024/01/RE-Kids.png
END:VEVENT
BEGIN:VEVENT
DTSTART;TZID=America/New_York:20240225T100000
DTEND;TZID=America/New_York:20240225T111500
DTSTAMP:20260421T195700
CREATED:20240129T165600Z
LAST-MODIFIED:20240129T165618Z
UID:10004152-1708855200-1708859700@uufcc.com
SUMMARY:RE Pre-K/Kindergarten Kids - Multi-generational Service
DESCRIPTION:This week our Pre-K/K friends are invited to our Sunday Multi-generational Imagine and Dream service at 10 am in the Sanctuary. We’ll leave to create lanterns during the service after the Wisdom Lesson.
URL:https://uufcc.com/event/re-pre-k-kindergarten-kids-7/
LOCATION:UUFCC – Gathering Space and Room D\, 780 Waupelani Drive\, State College\, PA\, 16801\, United States
CATEGORIES:Lifespan Religious Exploration,Young Kids
ATTACH;FMTTYPE=image/png:https://uufcc.com/wp-content/uploads/2024/01/RE-Pre-KK-Kids.png
END:VEVENT
BEGIN:VEVENT
DTSTART;TZID=America/New_York:20240225T113000
DTEND;TZID=America/New_York:20240225T130000
DTSTAMP:20260421T195700
CREATED:20240105T193155Z
LAST-MODIFIED:20240216T170914Z
UID:10005179-1708860600-1708866000@uufcc.com
SUMMARY:Being An Ally to the LGBTQ+ Community
DESCRIPTION:In this workshop we will be expand on our first presentation to share concrete and substantive ways of\nbeing an Ally to the LGBTQ+ community. This will be a space where we invite you to come as and where you\nare in your understanding of gender diversity. We hope you’ll bring your questions and a willingness to\nlearn. \n\nPia Smal is an associate teaching professor in Rehabilitation and Human Services and Counselor\nEducation and Supervision at The Pennsylvania State University. She holds a PhD in Counselor Education\,\na master’s degree in clinical Mental Health Counseling\, and a bachelor’s degree in English and Women’s\nStudies. Clinically\, she has worked with a wide variety of individuals in domestic violence\, psychiatric in-\npatient\, and substance use treatment settings. Her research interests include supporting faculty in\naddressing student’s mental health needs\, strength-based approaches to working with clients\,\nand LGBT+ issues in counseling and social justice. She is also the current president and founding member\nof Centre LGBT+\, a local nonprofit focused on bringing the community together through LGBT+\neducation\, advocacy\, and activities in the Centre county region. \nSusan is an Independent College Advising &amp; Admissions Counselor and owner of College Gateways\, LLC.\nPrior to starting her own business\, Susan was employed by the State College Area School District for\nthirty-four years as a High School Counselor and served as Head Counselor in the State High Counseling\nDepartment for many years.\nSusan also serves the Centre County region as a founding Board member and Secretary of the Centre\nLGBT+\, a local nonprofit focused on bringing the community together through LGBT+ education\,\nadvocacy\, and activities.\nSusan is a trained Restorative Practitioner and has been a Restorative Conferencing Facilitator since\n2013. In this role\, she provides training and facilitates conversations aimed at repairing harm and\nrestoring relationships. Susan is a Board member and a volunteer facilitator with the local non-profit\nCentre County Community Conferencing. \nCecil Houseknecht is a State College native and Penn State alum of the Asian Studies program. He is an\nadvocate for marginalized communities through his full-time job as office manager at Penn State&#39;s Paul\nRobeson Cultural Center and as a community educator for Centre LGBT+. Cecil&#39;s particular focus is on\nthe APIDA (Asian Pacific Islander Desi American) and LGBT+ community\, and exploring the\nintersectionality of these diverse communities and experiences.
URL:https://uufcc.com/event/becoming-an-ally/
LOCATION:UUFCC – Sanctuary\, 780 Waupelani Drive\, State College\, PA\, 16801\, United States
CATEGORIES:Adult RE,Event,Lifespan Religious Exploration
ATTACH;FMTTYPE=image/png:https://uufcc.com/wp-content/uploads/2024/02/Becoming-an-Ally.png
ORGANIZER;CN="Unitarian Universalist Fellowship of Centre County":MAILTO:office@uufcc.com
END:VEVENT
BEGIN:VEVENT
DTSTART;TZID=America/New_York:20240226T123000
DTEND;TZID=America/New_York:20240226T130000
DTSTAMP:20260421T195700
CREATED:20231021T021336Z
LAST-MODIFIED:20250419T193312Z
UID:10000032-1708950600-1708952400@uufcc.com
SUMMARY:Meditation Monday
DESCRIPTION:Open to the public.\nJoin Kelle Kersten on Zoom for a guided meditation during your lunch to center yourself for the coming week!\nClick here to join the Zoom meeting.
URL:https://uufcc.com/event/meditation-monday/2024-02-26/
CATEGORIES:Adult RE,Lifespan Religious Exploration
ATTACH;FMTTYPE=image/png:https://uufcc.com/wp-content/uploads/2023/10/UUFCC-Meditation-Mondays-540.png
END:VEVENT
END:VCALENDAR