BEGIN:VCALENDAR
VERSION:2.0
PRODID:-//UUFCC - ECPv6.15.17//NONSGML v1.0//EN
CALSCALE:GREGORIAN
METHOD:PUBLISH
X-WR-CALNAME:UUFCC
X-ORIGINAL-URL:https://uufcc.com
X-WR-CALDESC:Events for UUFCC
REFRESH-INTERVAL;VALUE=DURATION:PT1H
X-Robots-Tag:noindex
X-PUBLISHED-TTL:PT1H
BEGIN:VTIMEZONE
TZID:America/New_York
BEGIN:DAYLIGHT
TZOFFSETFROM:-0500
TZOFFSETTO:-0400
TZNAME:EDT
DTSTART:20230312T070000
END:DAYLIGHT
BEGIN:STANDARD
TZOFFSETFROM:-0400
TZOFFSETTO:-0500
TZNAME:EST
DTSTART:20231105T060000
END:STANDARD
BEGIN:DAYLIGHT
TZOFFSETFROM:-0500
TZOFFSETTO:-0400
TZNAME:EDT
DTSTART:20240310T070000
END:DAYLIGHT
BEGIN:STANDARD
TZOFFSETFROM:-0400
TZOFFSETTO:-0500
TZNAME:EST
DTSTART:20241103T060000
END:STANDARD
BEGIN:DAYLIGHT
TZOFFSETFROM:-0500
TZOFFSETTO:-0400
TZNAME:EDT
DTSTART:20250309T070000
END:DAYLIGHT
BEGIN:STANDARD
TZOFFSETFROM:-0400
TZOFFSETTO:-0500
TZNAME:EST
DTSTART:20251102T060000
END:STANDARD
END:VTIMEZONE
BEGIN:VEVENT
DTSTART;TZID=America/New_York:20240414T093000
DTEND;TZID=America/New_York:20240414T130000
DTSTAMP:20260421T044629
CREATED:20231128T173327Z
LAST-MODIFIED:20231128T173552Z
UID:10003498-1713087000-1713099600@uufcc.com
SUMMARY:Child Care
DESCRIPTION:
URL:https://uufcc.com/event/child-care-2/2024-04-14/
LOCATION:UUFCC – Room C\, 780 Waupelani Drive\, State College\, PA\, 16801\, United States
CATEGORIES:Lifespan Religious Exploration,RE Kids & Youth,Young Kids
ORGANIZER;CN="Unitarian Universalist Fellowship of Centre County":MAILTO:office@uufcc.com
END:VEVENT
BEGIN:VEVENT
DTSTART;TZID=America/New_York:20240414T100000
DTEND;TZID=America/New_York:20240414T110000
DTSTAMP:20260421T044629
CREATED:20240116T145930Z
LAST-MODIFIED:20240129T223536Z
UID:10005044-1713088800-1713092400@uufcc.com
SUMMARY:Family Chapel
DESCRIPTION:Parents with elementary-aged kids are invited to join our Family Chapel each month! This is an interactive mini “service” which Ashley leads on our monthly congregational theme with a social justice focus. Come and learn and worship together in a fun\, kid-friendly space.
URL:https://uufcc.com/event/family-chapel-4-2/
LOCATION:Unitarian Universalist Fellowship of Centre County\, 780 Waupelani Drive\, State College\, PA\, 16801\, United States
CATEGORIES:Lifespan Religious Exploration,RE Kids & Youth,Young Kids
ATTACH;FMTTYPE=image/png:https://uufcc.com/wp-content/uploads/2023/11/Family-Chapel-1-1.png
ORGANIZER;CN="Unitarian Universalist Fellowship of Centre County":MAILTO:office@uufcc.com
END:VEVENT
BEGIN:VEVENT
DTSTART;TZID=America/New_York:20240414T100000
DTEND;TZID=America/New_York:20240414T110000
DTSTAMP:20260421T044629
CREATED:20240312T200905Z
LAST-MODIFIED:20240318T200035Z
UID:10004159-1713088800-1713092400@uufcc.com
SUMMARY:RE Pre-K/Kindergarten Kids - Earth Day!
DESCRIPTION:This week our Pre-K/K friends will explore Earth Day! Sign in downstairs in Room D.
URL:https://uufcc.com/event/re-pre-k-kindergarten-kids-14/
LOCATION:UUFCC – Gathering Space and Room D\, 780 Waupelani Drive\, State College\, PA\, 16801\, United States
CATEGORIES:Lifespan Religious Exploration,Young Kids
ATTACH;FMTTYPE=image/png:https://uufcc.com/wp-content/uploads/2024/01/RE-Pre-KK-Kids.png
ORGANIZER;CN="Unitarian Universalist Fellowship of Centre County":MAILTO:office@uufcc.com
END:VEVENT
BEGIN:VEVENT
DTSTART;TZID=America/New_York:20240414T100000
DTEND;TZID=America/New_York:20240414T111500
DTSTAMP:20260421T044629
CREATED:20240312T200741Z
LAST-MODIFIED:20240318T200100Z
UID:10004822-1713088800-1713093300@uufcc.com
SUMMARY:RE 1st - 5th Grade Kids - Family Chapel: Freedom Seder!
DESCRIPTION:Join us this week for Family Chapel in which we will explore the Jewish holiday of Passover and our UUFCC Freedom Seder.
URL:https://uufcc.com/event/re-1st-5th-grade-kids-14/
LOCATION:UUFCC – Gathering Space\, 780 Waupelani Drive\, State College\, PA\, 16801\, United States
CATEGORIES:Lifespan Religious Exploration,RE Kids & Youth,Young Kids
ORGANIZER;CN="Unitarian Universalist Fellowship of Centre County":MAILTO:office@uufcc.com
END:VEVENT
BEGIN:VEVENT
DTSTART;TZID=America/New_York:20240414T113000
DTEND;TZID=America/New_York:20240414T123000
DTSTAMP:20260421T044629
CREATED:20240129T201413Z
LAST-MODIFIED:20240321T173547Z
UID:10005041-1713094200-1713097800@uufcc.com
SUMMARY:Intergenerational Music program
DESCRIPTION:Join Colleen and Ashley as we have fun learning new songs to sing for our Multi-generational Sunday services: Earth Day Service on April 21\, Lifespan RE Service on May 19\, and Flower Celebration Service on June 2. We’ll continue our journey of Social Justice Music through the span of Black American history as well as add new songs for Earth Day and Flower Celebration. Please register to join! https://uufcc.breezechms.com/form/Music2024
URL:https://uufcc.com/event/intergenerational-music-program/2024-04-14/
LOCATION:UUFCC – Gathering Space\, 780 Waupelani Drive\, State College\, PA\, 16801\, United States
CATEGORIES:Intergenerational RE,Lifespan Religious Exploration,Middle School Youth,RE Kids & Youth,Young Kids
ATTACH;FMTTYPE=image/png:https://uufcc.com/wp-content/uploads/2024/01/Music-program-Social-Justice-Music-for-Kids.png
ORGANIZER;CN="Unitarian Universalist Fellowship of Centre County":MAILTO:office@uufcc.com
END:VEVENT
BEGIN:VEVENT
DTSTART;TZID=America/New_York:20240414T113000
DTEND;TZID=America/New_York:20240414T130000
DTSTAMP:20260421T044629
CREATED:20240117T154829Z
LAST-MODIFIED:20240321T173729Z
UID:10004889-1713094200-1713099600@uufcc.com
SUMMARY:The UU Common Read with Rev. Tracy
DESCRIPTION:This year’s UU Common Read is On Repentance and Repair: Making Amends in an Unapologetic World by Rabbi Danya Ruttenberg (Beacon Press\, 2022). \n  \nThis Common Read offers a glimpse into one of our faith’s foundational sources\, Judaism. Readers explore the call to accountability as we follow Rabbi Ruttenberg into a framework for making amends offered by the 12th century Jewish physician and scholar\, Maimonides. \nOn Repentance and Repair invites readers of any faith to explore practices for accountability that can bring us into wholeness and really make a difference in our personal\, community\, and national relationships. \nDrawing on personal experiences\, this workshop will explore repentance and repair in (1) interpersonal relationships\, (2) communal spaces\, such as our congregations\, and (3) our wider communities\, such as nations. \nBuy the book here or borrow it from the library. Read the whole book so that you are prepared for our conversation. \nMore information about the common read is here: https://www.uua.org/read \n 
URL:https://uufcc.com/event/common-read-04-14-2024/
LOCATION:UUFCC – Room 6\, 780 Waupelani Drive\, State College\, PA\, 16801\, United States
CATEGORIES:Adult RE,Lifespan Religious Exploration
ATTACH;FMTTYPE=image/png:https://uufcc.com/wp-content/uploads/2024/01/Common-Read-RE-Hour-TS.png
END:VEVENT
BEGIN:VEVENT
DTSTART;TZID=America/New_York:20240414T163000
DTEND;TZID=America/New_York:20240414T173000
DTSTAMP:20260421T044629
CREATED:20240309T054827Z
LAST-MODIFIED:20240405T001316Z
UID:10005209-1713112200-1713115800@uufcc.com
SUMMARY:UU Adventurers: April - Forest Bathing
DESCRIPTION:Join us for an hour long forest bathing experience with a trained guide\, Anna Marie Nachman! This is open to all ages. \nThe mission of Nature’s Balance Forest Therapy is to provide a safe\, guided Shinrin-yoku\, or Forest Bathing experience that will balance body\, mind\, and spirit with the help of the more-than-human world of nature. Anna Marie Nachman will accompany and support participants on their journeys as they encounter and embody the whole of who they are. The vision is to witness other’s encounters with the More-Than-Human World as they use all of their senses. Through these encounters\, they will be able to remember and recognize their relationship with nature\, and that the experience can have positive impacts in the present moment and beyond. \nFind out more here: https://naturesbalanceft.com/ \nSign up here! https://uufcc.breezechms.com/form/forestbathing
URL:https://uufcc.com/event/uu-adventurers-april-forest-bathing/
CATEGORIES:Intergenerational RE,Lifespan Religious Exploration
ATTACH;FMTTYPE=image/png:https://uufcc.com/wp-content/uploads/2024/03/Forest-Bathing.png
END:VEVENT
BEGIN:VEVENT
DTSTART;TZID=America/New_York:20240415T123000
DTEND;TZID=America/New_York:20240415T130000
DTSTAMP:20260421T044629
CREATED:20231021T021336Z
LAST-MODIFIED:20250419T193312Z
UID:10000039-1713184200-1713186000@uufcc.com
SUMMARY:Meditation Monday
DESCRIPTION:Open to the public.\nJoin Kelle Kersten on Zoom for a guided meditation during your lunch to center yourself for the coming week!\nClick here to join the Zoom meeting.
URL:https://uufcc.com/event/meditation-monday/2024-04-15/
CATEGORIES:Adult RE,Lifespan Religious Exploration
ATTACH;FMTTYPE=image/png:https://uufcc.com/wp-content/uploads/2023/10/UUFCC-Meditation-Mondays-540.png
END:VEVENT
BEGIN:VEVENT
DTSTART;TZID=America/New_York:20240418T190000
DTEND;TZID=America/New_York:20240418T200000
DTSTAMP:20260421T044629
CREATED:20240117T020740Z
LAST-MODIFIED:20240121T154437Z
UID:10001567-1713466800-1713470400@uufcc.com
SUMMARY:Wheel of the Year - April
DESCRIPTION:Theme: Interdependence \nBalance\, rebirth\, regrowth \nRitual: discovering Green Man
URL:https://uufcc.com/event/wheel-of-the-year-5/
LOCATION:UUFCC – Fellowship Hall\, 780 Waupelani Drive\, State College\, PA\, 16801\, United States
CATEGORIES:Event,Interfaith Ritual,Intergenerational RE,Lifespan Religious Exploration,Worship Service
ATTACH;FMTTYPE=image/png:https://uufcc.com/wp-content/uploads/2023/10/April.png
ORGANIZER;CN="Unitarian Universalist Fellowship of Centre County":MAILTO:office@uufcc.com
END:VEVENT
BEGIN:VEVENT
DTSTART;TZID=America/New_York:20240419T183000
DTEND;TZID=America/New_York:20240419T203000
DTSTAMP:20260421T044629
CREATED:20240315T155051Z
LAST-MODIFIED:20240417T174538Z
UID:10005216-1713551400-1713558600@uufcc.com
SUMMARY:Building a Culture of Inclusion: Workshop with Paula Cole Jones Day 1
DESCRIPTION:This is Day 1 of the Workshop held over Zoom. \nAnyone is welcome to join in a group Zoom in Room 6 at the Fellowship Friday and Saturday for this workshop. \nWe\, Unitarian Universalists\, are called to build the Beloved Community.  To do that\, UUs must attend to the\nunfinished business of dismantling racism and oppression in our congregations and Association and with\nour community partners.  How do we stand in solidarity with the social movements of our times and how do\nthey change us? How do we help to preserve and strengthen a multicultural democracy in this country? \nThis workshop addresses the 8th Principle and multicultural change as a developmental process for\ncongregations.  How have other UU congregations approached the spiritual and structural aspects of\nmoving more fully into our vision of the Beloved Community?  What tools will help you accomplish the\ntasks? \nClick here or go to the Event Series to learn more about the entire Building a Culture of Inclusion workshop and Paula Cole Jones. \nFriday Schedule:\nSession: 6:30 – 8:30 PM (2 hours) \nWorkshop Part 1 \n~ To introduce strategies for working toward long-term cultural change and to elicit the knowledge of\nparticipants about how to engage the congregation.\n~ To share a framework for how collaboration and accountability shape the racial and social justice\nhistory of institutions in the United States.\n~ To engage participants in an interactive experience of the transformative power of the 8th Principle.\n~ To address the relationship between the 8th Principle and the Article II Study Commission’s\nprocess.
URL:https://uufcc.com/event/building-a-culture-of-inclusion-04-19-24/
CATEGORIES:Adult RE,Event,Lifespan Religious Exploration
ATTACH;FMTTYPE=image/png:https://uufcc.com/wp-content/uploads/2024/03/Untitled-design.png
ORGANIZER;CN="Unitarian Universalist Fellowship of Centre County":MAILTO:office@uufcc.com
END:VEVENT
BEGIN:VEVENT
DTSTART;TZID=America/New_York:20240420T090000
DTEND;TZID=America/New_York:20240420T140000
DTSTAMP:20260421T044629
CREATED:20240315T155141Z
LAST-MODIFIED:20240417T174721Z
UID:10005217-1713603600-1713621600@uufcc.com
SUMMARY:Building a Culture of Inclusion: Workshop with Paula Cole Jones Day 2
DESCRIPTION:This is Day 2 of the Workshop held over Zoom. \nAnyone is welcome to join in a group Zoom in Room 6 at the Fellowship Friday and Saturday for this workshop. \nWe\, Unitarian Universalists\, are called to build the Beloved Community.  To do that\, UUs must attend to the\nunfinished business of dismantling racism and oppression in our congregations and Association and with\nour community partners.  How do we stand in solidarity with the social movements of our times and how do\nthey change us? How do we help to preserve and strengthen a multicultural democracy in this country? \nThis workshop addresses the 8th Principle and multicultural change as a developmental process for\ncongregations.  How have other UU congregations approached the spiritual and structural aspects of\nmoving more fully into our vision of the Beloved Community?  What tools will help you accomplish the\ntasks? \nClick here or go to the Event Series to learn more about the entire Building a Culture of Inclusion workshop and Paula Cole Jones. \nSaturday Schedule:\nSession 1: 9:00 AM – 11:00 AM (2 hours)\nLunch Break: 11:00 AM – 11:45 AM\nSession 2: 11:45 AM – 2:00 PM (2 hours 15 min) \nWorkshop Part 2\n~ To build on concepts from Part 1 of the workshop\, and to provide an integrated approach for understanding\nthe complexity of congregations\, a pathway to change\, and the range of individual reactions.\n~ To provide hands-on experience with tools for assessing institutional readiness for change\, create\nan umbrella conversation while engaging members/leaders in collective discernment about\nwidening the congregation’s ministries.\n~ To help congregations answer the question\, what is next?\n~ To gather baseline data that will serve for strategic planning and measuring/assessing the\ncongregation’s progress.
URL:https://uufcc.com/event/building-a-culture-of-inclusion-04-20-24/
CATEGORIES:Adult RE,Event,Lifespan Religious Exploration
ATTACH;FMTTYPE=image/png:https://uufcc.com/wp-content/uploads/2024/03/Untitled-design.png
ORGANIZER;CN="Unitarian Universalist Fellowship of Centre County":MAILTO:office@uufcc.com
END:VEVENT
END:VCALENDAR