BEGIN:VCALENDAR
VERSION:2.0
PRODID:-//UUFCC - ECPv6.15.17//NONSGML v1.0//EN
CALSCALE:GREGORIAN
METHOD:PUBLISH
X-WR-CALNAME:UUFCC
X-ORIGINAL-URL:https://uufcc.com
X-WR-CALDESC:Events for UUFCC
REFRESH-INTERVAL;VALUE=DURATION:PT1H
X-Robots-Tag:noindex
X-PUBLISHED-TTL:PT1H
BEGIN:VTIMEZONE
TZID:America/New_York
BEGIN:DAYLIGHT
TZOFFSETFROM:-0500
TZOFFSETTO:-0400
TZNAME:EDT
DTSTART:20230312T070000
END:DAYLIGHT
BEGIN:STANDARD
TZOFFSETFROM:-0400
TZOFFSETTO:-0500
TZNAME:EST
DTSTART:20231105T060000
END:STANDARD
BEGIN:DAYLIGHT
TZOFFSETFROM:-0500
TZOFFSETTO:-0400
TZNAME:EDT
DTSTART:20240310T070000
END:DAYLIGHT
BEGIN:STANDARD
TZOFFSETFROM:-0400
TZOFFSETTO:-0500
TZNAME:EST
DTSTART:20241103T060000
END:STANDARD
BEGIN:DAYLIGHT
TZOFFSETFROM:-0500
TZOFFSETTO:-0400
TZNAME:EDT
DTSTART:20250309T070000
END:DAYLIGHT
BEGIN:STANDARD
TZOFFSETFROM:-0400
TZOFFSETTO:-0500
TZNAME:EST
DTSTART:20251102T060000
END:STANDARD
END:VTIMEZONE
BEGIN:VEVENT
DTSTART;TZID=America/New_York:20240421T093000
DTEND;TZID=America/New_York:20240421T130000
DTSTAMP:20260421T130543
CREATED:20231128T173327Z
LAST-MODIFIED:20231128T173552Z
UID:10003499-1713691800-1713704400@uufcc.com
SUMMARY:Child Care
DESCRIPTION:
URL:https://uufcc.com/event/child-care-2/2024-04-21/
LOCATION:UUFCC – Room C\, 780 Waupelani Drive\, State College\, PA\, 16801\, United States
CATEGORIES:Lifespan Religious Exploration,RE Kids & Youth,Young Kids
ORGANIZER;CN="Unitarian Universalist Fellowship of Centre County":MAILTO:office@uufcc.com
END:VEVENT
BEGIN:VEVENT
DTSTART;TZID=America/New_York:20240421T100000
DTEND;TZID=America/New_York:20240421T110000
DTSTAMP:20260421T130543
CREATED:20240312T201054Z
LAST-MODIFIED:20240318T200127Z
UID:10004160-1713693600-1713697200@uufcc.com
SUMMARY:RE Pre-K/Kindergarten Kids - Multi-generational Service
DESCRIPTION:This week our Pre-K/K friends are invited to join our Multi-generational Earth Day service\, The Cloud Spinner.
URL:https://uufcc.com/event/re-pre-k-kindergarten-kids-15/
LOCATION:UUFCC – Sanctuary\, 780 Waupelani Drive\, State College\, PA\, 16801\, United States
CATEGORIES:Lifespan Religious Exploration,Young Kids
ATTACH;FMTTYPE=image/png:https://uufcc.com/wp-content/uploads/2024/01/RE-Pre-KK-Kids.png
ORGANIZER;CN="Unitarian Universalist Fellowship of Centre County":MAILTO:office@uufcc.com
END:VEVENT
BEGIN:VEVENT
DTSTART;TZID=America/New_York:20240421T100000
DTEND;TZID=America/New_York:20240421T110000
DTSTAMP:20260421T130543
CREATED:20240312T201206Z
LAST-MODIFIED:20240318T200141Z
UID:10004823-1713693600-1713697200@uufcc.com
SUMMARY:RE 1st - 5th Grade Kids - Multi-generational Service
DESCRIPTION:Our RE Elementary kids are invited to join our Multi-generational Earth Day service\, The Cloud Spinner.
URL:https://uufcc.com/event/re-1st-5th-grade-kids-15/
LOCATION:UUFCC – Sanctuary\, 780 Waupelani Drive\, State College\, PA\, 16801\, United States
CATEGORIES:Lifespan Religious Exploration,RE Kids & Youth,Young Kids
ORGANIZER;CN="Unitarian Universalist Fellowship of Centre County":MAILTO:office@uufcc.com
END:VEVENT
BEGIN:VEVENT
DTSTART;TZID=America/New_York:20240421T113000
DTEND;TZID=America/New_York:20240421T130000
DTSTAMP:20260421T130543
CREATED:20240417T103425Z
LAST-MODIFIED:20240417T103425Z
UID:10005426-1713699000-1713704400@uufcc.com
SUMMARY:Article II Facilitated Discussion
DESCRIPTION:Join Rev Tracy and Ashley for a discussion on what Article II is\, the progression of it’s development\, where it is today\, and when it will be voted on. We will also include reflection about where we come from and what legacy we are leaving. This is a wonderful opportunity to learn about Article II if you haven’t had a chance to understand it yet or to go more in-depth into your understanding. \nPlease read this in preparation of this discussion: https://www.uua.org/uuagovernance/committees/article-ii-study-commission \n  \nBeyond Diversity: Calling White Unitarian Universalists to the Work of Dismantling White Supremacy in Our Faith \nhttps://www.uuabookstore.org/Assets/PDFs/Beyond%20Diversity.pdf \n  \nUnitarian Universalists of Color: Living into a Groundbreaking Journey \nhttps://www.uuabookstore.org/Assets/PDFs/UUS%20OF%20COLOR.pdf
URL:https://uufcc.com/event/article-ii-facilitated-discussion/
LOCATION:UUFCC – Room 6\, 780 Waupelani Drive\, State College\, PA\, 16801\, United States
CATEGORIES:Adult RE,Lifespan Religious Exploration
ATTACH;FMTTYPE=image/png:https://uufcc.com/wp-content/uploads/2024/04/Article-II.png
ORGANIZER;CN="Unitarian Universalist Fellowship of Centre County":MAILTO:office@uufcc.com
END:VEVENT
BEGIN:VEVENT
DTSTART;TZID=America/New_York:20240422T123000
DTEND;TZID=America/New_York:20240422T130000
DTSTAMP:20260421T130543
CREATED:20231021T021336Z
LAST-MODIFIED:20250419T193312Z
UID:10000040-1713789000-1713790800@uufcc.com
SUMMARY:Meditation Monday
DESCRIPTION:Open to the public.\nJoin Kelle Kersten on Zoom for a guided meditation during your lunch to center yourself for the coming week!\nClick here to join the Zoom meeting.
URL:https://uufcc.com/event/meditation-monday/2024-04-22/
CATEGORIES:Adult RE,Lifespan Religious Exploration
ATTACH;FMTTYPE=image/png:https://uufcc.com/wp-content/uploads/2023/10/UUFCC-Meditation-Mondays-540.png
END:VEVENT
END:VCALENDAR